{"text_format":"1","workbook":"xlsx","n_sheets":31,"sheets":["Roster","Financial","Returning Bowlers","Est. $$$","Est Prize Fund","Prize Fund","Prize Approvals","Team Awards","Distribution 2017","Withdrawl","Lineup","Verification","50-50","Schedule","Calendar 25","Calendar 29","Calendar 33","Sheet2","Calendar 34","Sheet3","Envelope Labels","Envelope Fees","Sheet1","Tm Points","Prize List","Sweeper","Playoff","Fncl Statement","Sheet4","Pre-Bowl","Bank"],"not_rendered":{"charts":0,"images":1,"macros":1,"external_links":0,"defined_names":24,"comments":5,"pivot_tables":0},"unopened":[],"bounds":{"document_bytes":16777216,"sheet_cells":100000,"rows_first":2000,"rows_last":500,"rows_between":2000,"halvings":0,"cell_chars":16384,"cell_head_chars":4096},"cells_cut":0,"cells_raw":0,"read":"whole","date_system":"1900"}

{"sheet":"Roster","index":0,"n_rows":66,"n_cols":42,"rows_kept":66,"cut":false,"hidden":false,"merged":[]}
["ID","Tm","Team","ID",null,"First","Last","Full Name","Spouse","Return","Address","City","St","Zip","G","Birth","E-mail","Phone","Phone 2","USBC","SCW","CNP",2011,2012,2013,2014,2015,2016,2017,2018,"Tm Avg","Var",null,null,null,"Cap"]
[11,1,null,{"$f":"A2","v":11},null,"David","Burke",{"$f":"F2&\" \"&G2","v":"David Burke"},null,null,null,null,null,null,null,null,null,null,null,null,null,null,null,null,null,null,null,null,null,217,null,null,null,null,null,645]
[12,1,null,{"$f":"A3","v":12},null,"Rich","Matich","Rich Matich","Denise",1,"9614 W Newport Dr","Sun City","AZ",85351,"M","1948-11-07","avdenise@aol.com","(623) 535-1886",null,"157-13981",null,3041,null,null,null,null,212,220,222,209,null,null,null,{"$f":"IF(AD3>AC3,1,0)","v":0},null,null,null,null,194,222,228,1]
[13,1,null,13,"C","Cal","Shirey","Cal Shirey",null,1,"14427 W Trading Post Dr","Sun City West","AZ",85375,"M","1944-02-04","howardhs@outlook.com","(623) 214-3295",null,"2398-593",107243,null,227,225,228,227,234,228,228,217,{"$f":"AD2+AD3+AD4","v":643},{"$f":"$AJ$2-AE4","v":2},null,0,null,null,null,null,204,212,218,2]
[21,2,"Rascals",21,"C","Marty","Bell","Marty Bell","Joni",1,"13319 W Paintbrush Dr","Sun City West","AZ",85375,"M","1940-01-26","ezbowling@cox.net","(623) 584-9459",null,"157-21502",72029,null,196,199,205,195,204,204,204,201,null,null,null,0,null,null,null,null,"205","213","221","3"]
[22,2,"Rascals",22,null,"Alex","Balok","Alex Balok","Kathy",1,"13112 W Santa Ynez Ct","Sun City West","AZ",85375,"M","1953-06-28","balok9@aol.com","(928) 699-4481",null,"8833-64090",null,3004,null,null,null,null,null,null,215,212,null,null,null,0,null,null,null,null,199,220,226,4]
[23,2,"Rascals",23,null,"Johnny","Gonzales","Johnny Gonzales",null,1,"22131 W Grambof Trail Rd","Wittman","AZ",85361,"M",null,null,"(623) 687-7498",null,"157-872",null,null,null,null,null,null,null,null,220,200,{"$f":"AD5+AD6+AD7","v":613},{"$f":"$AJ$2-AE7","v":32},null,0,null,null,null,null,212,216,216,5]
[31,3,null,{"$f":"A8","v":31},null,"Jeff","Richard","Jeff Richard","Susan",1,"7021 W Irma Lane","Glendale","AZ",85308,"M","1949-04-09","lephty123@cox.net","(623)362-8248",null,"8833-55870",null,3072,null,null,201,201,205,209,205,202,null,null,null,0,null,null,null,null,193,220,223,6]
[32,3,null,32,null,"Jerry","Elsen",{"$f":"F9&\" \"&G9","v":"Jerry Elsen"},"Barbara",1,"15910 W Clearwater Way","Surprise","AZ",85374,"M","1953-07-21","jbbuyers@aol.com","(262) 412-0433",null,"2468-4618",null,3113,223,215,221,221,222,215,216,220,null,null,null,{"$f":"IF(AD9>AC9,1,0)","v":1}]
[33,3,"Desert Sun Embroidery",33,"C","Bill","Poff","Bill Poff",null,1,"21626 N 157th Dr","Sun City West","AZ",85375,"M","1945-06-25","bill.poff@hotmail.com ","(615) 423-4196",null,"263-133",109950,null,229,229,231,225,221,221,221,219,{"$f":"AD8+AD9+AD10","v":641},{"$f":"$AJ$2-AE10","v":4},null,0,null,null,null,null,205,207,209,8]
[41,4,"Pro-Tech",41,null,"Dave","Schmitz","Dave Schmitz","Lynn Rushing",1,"13611 W Utica Dr","Sun City West","AZ",85375,"M","1957-06-08","sfpagolf@msn.com ","(602) 621-0447",null,"2374-592",64331,null,207,210,205,195,194,199,199,209,null,null,null,1,null,null,null,null,203,211,216,9]
[42,4,"Pro-Tech",42,"C","John","Babbitt","John Babbitt","Sandy",1,"14453 W Lexington","Goodyear","AZ",85395,"M","1953-05-17","johnbabbitt@hotmail.com ","470.535.6926",null,"389-1053",null,3165,222,220,227,223,232,null,220,227,null,null,null,1,null,null,{"$f":"17*31","v":527},null,203,211,227,10]
[43,4,"Pro-Tech",43,null,"Larry","Tolar","Larry Tolar",null,1,"14955 W Medinah Way","Surprise","AZ",85374,"M","1947-07-28","ldt0747@yahoo.com ","(623) 544-3529",null,"157-42400",null,3036,208,201,215,211,217,225,226,210,{"$f":"AD11+AD12+AD13","v":646},{"$f":"$AJ$2-AE13","v":-1},null,0]
[51,5,null,51,null,"Dana","Barrette","Dana Barrette","Karen",1,"18247 N 129th Ave","Sun City West","AZ",85375,"M","1953-08-23","djbarrette@gmail.com ","(623) 383-3909",null,"8833-57886",4011789,null,184,190,210,214,211,212,213,216,null,null,null,1]
[52,5,null,52,"C","Larry","Latham","Larry Latham",null,1,"15614 W Huron Dr","Sun City West","AZ",85375,"M","1954-03-29","larryd329@gmail.com ","(206) 992-7540",null,"8833-52304",110788,null,215,210,217,213,217,216,215,216,null,null,null,1]
[53,5,null,53,null,"Bob","Reed",{"$f":"F16&\" \"&G16","v":"Bob Reed"},null,1,"12436 W Spring Ridge Dr","Sun City West","AZ",85375,"M",null,"hotrodreed53@hotmail.com","(623) 556-2476",null,"8833-56045",71020,null,null,null,null,null,null,null,200,208,{"$f":"AD14+AD15+AD16","v":640},{"$f":"$AJ$2-AE16","v":5},null,1]
[null,null,null,0,null,null,null,null,null,null,null,null,null,null,null,null,null,null,null,null,null,null,null,null,null,null,null,null,null,null,null,null,null,0]
[61,6,"Your Strike Shop",61,null,"Ken","Pavlik",{"$f":"F18&\" \"&G18","v":"Ken Pavlik"},null,null,"21234 N 132 Dr","Sun City West","AZ",85375,"M","1939-07-17","kpo91060@cox.net ","(623) 214-8637",null,"157-11953",57675,null,192,193,203,197,198,193,192,null,null,null,null,0]
[61,6,"Your Strike Shop",61,null,"Dennis","Klein","Dennis Klein",null,1,"4416 W Via Teresa Dr","Glendale","AZ",85308,"M","1961-06-22","azcoach61@hotmail.com ","(623) 584-8972",null,"157-45040",null,"Waived",222,222,226,221,null,219,220,222,null,null,null,1]
[62,6,"Your Strike Shop",62,"C","Mike","Watt","Mike Watt",null,1,"15634 W Sky Hawk Dr","Sun City West","AZ",85375,"M","1950-11-06","mlwatt99@gmail.com","972.989.2208",null,"2243-755",17692,null,224,229,229,229,232,223,223,215,null,null,null,0]
[null,null,null,64,null,"Bill","Palmer",{"$f":"F21&\" \"&G21","v":"Bill Palmer"},null,1,"16617 W Pueblo","Surprise","AZ",85387,"M","1950-10-22","wpalmer15@yahoo.com","(623) 215-5014",null,"11-612616",null,null,211,211,217,{"$f":"ROUNDDOWN((X21+Y21)/2,0)","v":214},209,null,201,206,{"$f":"AD19+AD20+AD21","v":643},{"$f":"$AJ$2-AE21","v":2},null,{"$f":"IF(AD21>AC21,1,0)","v":1}]
[71,7,"Bitburgers",71,null,"Paul","Kleckner","Paul Kleckner","Marlene",1,"13902 W Trail Ridge Dr","Sun City West","AZ",85375,"M","1949-01-17","chiefkco@gmail.com","(719) 246-0371","(719) 338-4641","296-2878",128508,null,null,null,null,null,null,null,218,225,null,null,null,1]
[73,7,"Bitburgers",{"$f":"A23","v":73},"C","Terry","Camp",{"$f":"F23&\" \"&G23","v":"Terry Camp"},null,1,"17677 W Sabrina Dr","Surprise","AZ",85374,"M","1950-02-07","tlcclu7@yahoo.com","(970) 744-0809",null,"1675-43393 ",null,3049,217,215,227,218,223,219,219,213,null,null,null,{"$f":"IF(AD23>AC23,1,0)","v":0}]
[72,7,"Bitburgers",{"$f":"A24","v":72},null,"Bob","Edge",{"$f":"F24&\" \"&G24","v":"Bob Edge"},null,null,"14216 W Caballero Dr","Sun City West","AZ",85375,"M","1953-02-16","deadeyebob@aol.com","(224-772-3066",null,"522-328",125901,null,null,null,null,null,212,206,207,205,{"$f":"AD22+AD23+AD24","v":643},{"$f":"$AJ$2-AE24","v":2},null,{"$f":"IF(AD24>AC24,1,0)","v":0}]
[81,8,"Brenda's Kitchen",81,null,"Dan","Imholte","Dan Imholte",null,1,"12511 Paintbrush Dr","Sun City West","AZ",85375,"M","1942-10-16","dimholte1@gmail.com","(623) 975-0139",null,"8833-49996",null,null,210,216,219,207,216,205,205,215,null,null,null,1]
[82,8,"Brenda's Kitchen",82,null,"Terry","Hamman","Terry Hamman",null,1,"21868 N Montego Dr","Sun City West","AZ",85375,"M","1942-05-21","terryhamman@hotmail.com ","(623) 243-7666",null,"2443-2227",108533,null,213,206,210,202,207,207,207,203,null,null,null,0]
[83,8,"Brenda's Kitchen",83,"C","Gary","Bentley","Gary Bentley","Deborah",1,"18449 W Young St","Surprise","AZ",85388,"M","1949-04-04","debgary1991@gmail.com ","(701) 400-6400",null,"1749-41",null,3083,205,208,219,212,217,208,209,219,{"$f":"AD25+AD26+AD27","v":637},{"$f":"$AJ$2-AE27","v":8},null,1]
[91,9,null,0,null,"Joe","Couch","Joe Couch",null,1,"23414 N 121st Ave","Sun City","AZ",null,"M",null,"easyjoe300@aol.com","(562) 367-3629",null,"235-135",null,null,212,206,206,215,208,204,205,204,null,null,null,0]
[92,9,null,92,"C","Paul","Williams","Paul Williams",null,1,"2616 W Yukon ","Buckeye","AZ",85396,"M","1960-04-03","paulrwilliams60@gmail.com","(517 304-1448","480-395-1516","150-18093",null,null,220,225,216,206,220,209,211,208,null,null,null,0]
[93,9,null,93,null,"Ted","Bogumil","Ted Bogumil",null,null,"12350 W Bola Dr #318","Surprise","AZ",85378,"M","1959-01-12","nascarted@att.com","(602) 820-0853",null,"1369-14316",null,null,null,null,null,null,null,null,231,219,{"$f":"AD28+AD29+AD30","v":631},{"$f":"$AJ$2-AE30","v":14},null,0]
[101,10,"Vital Care",101,null,"Andy","Lewis","Andy Lewis","Darrell",1,"6872 W Remuda Dr","Peoria","AZ",85383,"W","1956-08-27","azadlewis@cox.net","(602) 882-9228",null,"2786-15403",null,3164,207,208,207,204,206,204,203,200,null,null,null,0]
[102,10,"Vital Care",102,"C","Dennis","Barnes","Dennis Barnes","Roberta",1,"14227 W Desert Glen Dr","Sun City West","AZ",85375,"M","1946-03-27","dbarnes1946@cox.net ","(623) 229-2010",null,"8833-49320",109510,null,212,208,214,209,217,212,211,206,null,null,null,0]
[103,10,"Vital Care",103,null,"Gary","McCoy","Gary McCoy",null,1,"19965 N Summer Dream Dr","Surprise","AZ",85374,"M","1948-02-11","gandsmccoy@cox.net","(206) 909-6672",null,"5033-2008",124548,null,213,215,211,206,224,226,227,221,{"$f":"AD31+AD32+AD33","v":627},{"$f":"$AJ$2-AE33","v":18},null,0]
[111,11,null,111,"C","Phil","Jameson","Phil Jameson","Laura","N","20226 N 124th Dr","Sun City West","AZ",85375,"M","1952-01-24","pajameson@cox.net","(480) 544-5467",null,"8833-62408",112103,null,null,191,191,203,213,213,213,213,null,null,null,{"$f":"IF(AD34>AC34,1,0)","v":0},null,null,null,null,205,207,219,7]
[112,11,null,112,null,"Leo","Matteucci","Leo Matteucci","B","N","15448 W Cypress Point Dr","Surprise","AZ",85374,"M","1942-10-23",null,"(623) 544-8749",null,"2006-1363",null,null,null,null,null,null,216,216,216,212]
[113,11,null,113,null,"Jim","Jacobsen","Jim Jacobsen","Kathy","N","15420 W Skyview Way","Surprise","AZ",85374,"M","1942-04-07","jkjacobsen@cox.net","(623) 975-1759",null,"157-2955",null,3152,null,null,null,null,null,null,null,216,{"$f":"AD34+AD35+AD36","v":641},{"$f":"$AJ$2-AE36","v":4}]
[121,12,null,121,"C","Martin","Purnell","Martin Purnell",null,"N",null,null,null,null,null,null,null,null,null,null,null,null,null,null,null,null,null,null,null,218]
[122,12,null,122,null,"Randy","O'Brien","Randy O'Brien",null,"N",null,null,null,null,null,null,null,null,null,null,null,null,null,null,null,null,null,null,null,200]
[123,12,null,123,null,"Tracy","Dumas","Tracy Dumas",null,"N",null,null,null,null,null,null,null,null,null,null,null,null,null,null,null,null,null,null,null,218,{"$f":"AD37+AD38+AD39","v":636},{"$f":"$AJ$2-AE39","v":9}]
[]
[]
[]
[null,null,null,null,null,"Tim","Walker",{"$f":"F43&\" \"&G43","v":"Tim Walker"},null,null,null,null,null,null,null,null,null,null,null,null,null,null,null,null,null,null,null,null,null,219]
[null,null,null,0,null,"Steve","Wilson",{"$f":"F44&\" \"&G44","v":"Steve Wilson"},null,1,"4718 W Laurel Ln","Glendale","AZ",85304,"M","1949-11-04","stevwilson4949@gmail.com","(602) 999-6871",null,"157-30076",null,3161,202,206,206,205,206,195,194,196,null,null,null,{"$f":"IF(AD44>AC44,1,0)","v":1},null,645]
[91,9,null,91,null,"Gary","Eichstadt","Gary Eichstadt","Donna",1,"21620 N 135th Way","Sun City West","AZ",85375,"M","1946-11-14","geichstadt@cox.net ","(623) 252-7345",null,"8833-46074",103028,null,215,203,208,200,203,203,203,203,null,null,null,0]
[]
[null,null,null,null,null,"Tim","Walker",{"$f":"F47&\" \"&G47","v":"Tim Walker"},null,null,null,null,null,null,null,null,null,null,null,null,null,null,null,null,null,null,null,null,null,219]
[]
[]
[null,null,null,64,null,"Bill","Palmer",{"$f":"F50&\" \"&G50","v":"Bill Palmer"},null,1,"16617 W Pueblo","Surprise","AZ",85387,"M","1950-10-22","wpalmer15@yahoo.com","(623) 215-5014",null,"11-612616",null,null,211,211,217,{"$f":"ROUNDDOWN((X50+Y50)/2,0)","v":214},209,null,201,null,null,null,null,{"$f":"IF(AD50>AC50,1,0)","v":0}]
[null,null,null,null,null,"Lloyd","Johnson",{"$f":"F51&\" \"&G51","v":"Lloyd Johnson"},null,null,"10526 W Lehigh Ct","Sun City","AZ",85351,"M","1957-03-29","lgej3@yahoo.com","(253) 468-6934","(253) 468-6464","8833-56415"]
[null,null,null,null,null,"Ted","Bogumil",{"$f":"F52&\" \"&G52","v":"Ted Bogumil"},null,null,"12350 W Bola Dr #318","Surprise","AZ",85378,"M","1959-01-12","nascarted@att.com","(602) 820-0853",null,"1369-14316",null,null,null,null,null,null,null,null,231]
[null,null,null,null,null,"Dave","Bradley","Dave Bradley",null,0,"14507 W Wintercrest Dr","Sun City West","AZ",85375,"M","1944-03-09","bradleybodie@gmail.com ","(623) 544-7135",null,"210-1790",118112,null,204,203,208,202,208,null,208]
[null,null,null,null,null,"Gary","Demeny","Gary Demeny",null,null,"11126 W Palmera Dr","Sun City","AZ",85373,"M","1958-04-05",null,"(602) 763-6830",null,"11-602976",null,null,null,null,null,null,null,null,224]
[null,null,null,null,null,"Carl","Doak","Carl Doak",null,null,null,null,null,null,null,null,null,null,null,null,null,null,null,null,null,null,null,null,194]
[null,null,null,null,null,"Paul","Horvick","Paul Horvick",null,1,"20819 N 124th Dr","Sun City West","AZ",85375,"M","1946-11-11","phorvick@gmail.com","(218) 234-6001",null,"8833-58409",120527,null,175,200,208,198]
[null,null,null,null,null,"Rich","Kirby","Rich Kirby",null,null,"16558 W Wild Horse Wy","Surprise","AZ",85387,"M","1939-11-03","uniq4now@hotmail.com","(623) 388-4131",null,"2399-879",null,1599,null,null,null,196,205,null,196]
[null,null,null,null,null,"Dan","Matthews","Dan Matthews",null,null,"12011 W 123rd Ave","Sun City West","AZ",85375,"M",null,"speedworldmx@aol.com","(602) 332-0361",null,"8833-47767",null,null,null,null,null,200,200,null,182]
[null,null,null,null,null,"Richard","Mazzolini","Richard Mazzolini","Jean",null,"22619 N Hermosillo Dr","Sun City West","AZ",85375,"M","1941-08-06","mazz64sr@cox.net","(623) 214-7355",null,"157-19067",null,null,null,null,null,null,null,null,194]
[null,null,null,null,null,"Robert","Meli","Robert Meli",null,null,"13003 W Limewood Dr","Sun City West","AZ",85375,"M","1938-02-04",null,"(623) 584-7564",null,null,null,null,192,197,184,200,188]
[null,null,null,null,null,"Jim","Parker","Jim Parker",null,null,null,null,null,null,null,null,null,null,null,null,null,null,null,null,null,null,212]
[null,null,null,null,null,"John","Perdew","John Perdew",null,null,"12507 W Skylark Dr","Sun City West","AZ",85375,"M","1952-01-24","azlittlejohn60@gmail.com",null,null,null,73431,null,null,191,191,195,194]
[null,null,null,null,null,"Bob","Reed","Bob Reed",null,null,"12436 W Spring Ridge Dr","Sun City West","AZ",85375,"M",null,"hotrodreed53@hotmail.com","(623)556-2476",null,"8833-56045",71020,null,null,null,null,null,null,null,200]
[null,null,null,null,null,"Greg","Waldon","Greg Waldon","Rose",null,"14824 W Horsman Ln","Sun City West","AZ",85375,"M","1950-06-06","waldon.rose@yahoo.com","(623) 518-9016",null,"1395-1090",null,null,null,null,null,null,null,null,231]
[null,null,null,null,null,"Jerry","Walls","Jerry Walls","Ruth",null,"12643 W Skyview Dr","Sun City West","AZ",85375,"M","1946-11-06","pba9455@live.com","(541) 810-2695",null,"2401-484",null,null,null,null,null,null,null,null,219]
[null,null,null,null,null,"Roger","Ziemer","Roger Ziemer",null,null,"13803 W Pavillion Dr","Sun City West","AZ",85375,"M",null,"fudrod@gmail.com","(503) 381-9918",null,"2006-200",null,null,199,195,209,203,211]

{"sheet":"Financial","index":1,"n_rows":879,"n_cols":54,"rows_kept":879,"cut":false,"hidden":false,"merged":[[624,0,624,5],[624,7,624,12],[624,14,624,19],[624,21,624,27],[601,0,601,5],[601,7,601,12],[555,0,555,5],[555,7,555,12],[555,14,555,19],[555,21,555,27],[620,0,620,27],[622,0,622,27],[619,0,619,5],[619,7,619,12],[619,14,619,19],[619,21,619,27],[458,0,458,5],[458,7,458,12],[458,14,458,19],[458,21,458,27],[459,0,459,27],[461,0,461,27],[2,0,2,5],[0,0,0,19],[24,0,24,19],[47,0,47,19],[71,0,71,19],[94,0,94,19],[95,7,95,12],[95,14,95,19],[2,7,2,12],[2,14,2,19],[25,0,25,5],[48,0,48,5],[72,0,72,5],[72,7,72,12],[72,14,72,19],[20,2,20,5],[43,2,43,5],[66,2,66,5],[66,9,66,12],[66,16,66,19],[90,2,90,5],[90,9,90,12],[90,16,90,19],[25,7,25,12],[776,30,776,35],[601,14,601,19],[601,21,601,27],[578,0,578,5],[578,7,578,12],[578,14,578,19],[578,21,578,27],[708,9,709,19],[710,1,710,7],[697,0,697,5],[698,0,698,5],[701,0,701,7],[700,0,700,5],[699,0,699,5],[697,8,697,19],[698,8,698,19],[699,8,699,19],[700,8,700,19],[880,0,880,5],[880,7,880,12],[880,14,880,19],[880,21,880,27],[772,0,772,27],[793,0,793,27],[862,0,862,5],[862,7,862,12],[862,14,862,19],[862,21,862,27],[879,21,879,27],[879,0,879,2],[879,7,879,9],[879,14,879,16],[792,14,792,19],[792,21,792,27],[791,21,791,27],[792,7,792,12],[791,7,791,9],[791,14,791,16],[774,7,774,12],[774,14,774,19],[774,21,774,27],[701,8,701,19],[703,1,703,7],[704,1,704,7],[705,1,705,7],[691,38,691,52],[692,38,692,48],[692,49,692,52],[688,0,688,5],[688,7,688,12],[688,14,688,19],[688,21,688,27],[689,0,689,27],[670,0,670,5],[670,7,670,12],[670,14,670,19],[670,21,670,27],[671,30,671,35],[687,0,687,2],[687,14,687,16],[671,37,671,42],[665,0,665,5],[665,7,665,12],[665,14,665,19],[665,21,665,27],[666,0,666,27],[668,0,668,27],[664,0,664,5],[664,7,664,12],[664,14,664,19],[664,21,664,27],[625,30,625,35],[641,0,641,5],[641,7,641,12],[641,14,641,19],[641,21,641,27],[648,30,648,35],[642,0,642,5],[642,7,642,12],[642,14,642,19],[642,21,642,27],[643,0,643,27],[645,0,645,27],[647,0,647,5],[647,7,647,12],[647,14,647,19],[647,21,647,27],[602,30,602,35],[618,7,618,12],[618,14,618,19],[618,21,618,27],[596,0,596,5],[596,7,596,12],[596,14,596,19],[596,21,596,27],[597,0,597,27],[599,0,599,27],[579,30,579,35],[595,7,595,12],[595,14,595,19],[595,21,595,27],[573,0,573,5],[573,7,573,12],[573,14,573,19],[573,21,573,27],[574,0,574,27],[576,0,576,27],[556,30,556,35],[572,7,572,12],[572,14,572,19],[572,21,572,27],[550,0,550,5],[550,7,550,12],[550,14,550,19],[550,21,550,27],[551,0,551,27],[553,0,553,27],[533,30,533,35],[549,0,549,5],[549,7,549,12],[549,14,549,19],[549,21,549,27],[527,0,527,5],[527,7,527,12],[527,14,527,19],[527,21,527,27],[528,0,528,27],[530,0,530,27],[532,0,532,5],[532,7,532,12],[532,14,532,19],[532,21,532,27],[510,30,510,35],[526,7,526,12],[526,14,526,19],[526,21,526,27],[504,0,504,5],[504,7,504,12],[504,14,504,19],[504,21,504,27],[505,0,505,27],[507,0,507,27],[509,0,509,5],[509,7,509,12],[509,14,509,19],[509,21,509,27],[487,30,487,35],[503,0,503,5],[503,7,503,12],[503,14,503,19],[503,21,503,27],[481,0,481,5],[481,7,481,12],[481,14,481,19],[481,21,481,27],[482,0,482,27],[484,0,484,27],[486,0,486,5],[486,7,486,12],[486,14,486,19],[486,21,486,27],[464,30,464,35],[480,0,480,5],[480,7,480,12],[480,14,480,19],[480,21,480,27],[463,0,463,5],[463,7,463,12],[463,14,463,19],[463,21,463,27],[441,30,441,35],[457,0,457,5],[457,7,457,12],[457,14,457,19],[457,21,457,27],[435,0,435,5],[435,7,435,12],[435,14,435,19],[435,21,435,27],[436,0,436,27],[438,0,438,27],[440,0,440,5],[440,7,440,12],[440,14,440,19],[440,21,440,27],[418,30,418,35],[434,7,434,12],[434,14,434,19],[434,21,434,27],[412,0,412,5],[412,7,412,12],[412,14,412,19],[412,21,412,27],[413,0,413,27],[415,0,415,27],[395,30,395,35],[411,0,411,5],[411,7,411,12],[411,14,411,19],[411,21,411,27],[417,0,417,5],[417,7,417,12],[417,14,417,19],[417,21,417,27],[372,30,372,35],[388,0,388,5],[388,7,388,12],[388,14,388,19],[388,21,388,27],[371,0,371,5],[371,7,371,12],[394,0,394,5],[394,7,394,12],[394,14,394,19],[394,21,394,27],[366,14,366,19],[366,21,366,27],[389,0,389,5],[389,7,389,12],[389,14,389,19],[389,21,389,27],[390,0,390,27],[392,0,392,27],[371,14,371,19],[371,21,371,27],[326,30,326,35],[342,7,342,12],[342,14,342,19],[342,21,342,27],[343,7,343,12],[343,14,343,19],[343,21,343,27],[367,0,367,27],[369,0,369,27],[349,30,349,35],[343,0,343,5],[342,0,342,5],[344,0,344,27],[346,0,346,27],[348,0,348,5],[348,7,348,12],[348,14,348,19],[348,21,348,27],[366,0,366,5],[365,0,365,5],[365,7,365,12],[365,14,365,19],[365,21,365,27],[366,7,366,12],[320,21,320,27],[321,0,321,27],[323,0,323,27],[325,7,325,12],[325,14,325,19],[325,21,325,27],[302,14,302,19],[302,21,302,27],[320,0,320,5],[320,7,320,12],[320,14,320,19],[325,0,325,5],[303,30,303,35],[319,0,319,5],[319,7,319,12],[319,14,319,19],[319,21,319,27],[280,30,280,35],[296,0,296,5],[296,7,296,12],[296,14,296,19],[296,21,296,27],[297,21,297,27],[298,0,298,27],[300,0,300,27],[302,0,302,5],[302,7,302,12],[297,0,297,5],[297,7,297,12],[297,14,297,19],[235,30,235,35],[211,30,211,35],[227,22,227,24],[228,22,228,27],[230,22,230,27],[210,21,210,27],[275,0,275,27],[277,0,277,27],[279,7,279,12],[279,14,279,19],[279,21,279,27],[256,21,256,27],[257,30,257,35],[273,0,273,5],[273,7,273,12],[273,14,273,19],[273,21,273,27],[256,7,256,12],[256,14,256,19],[274,0,274,5],[274,7,274,12],[274,14,274,19],[274,21,274,27],[256,0,256,5],[164,14,164,19],[164,21,164,27],[188,30,188,35],[165,30,165,35],[187,7,187,12],[186,0,186,19],[181,22,181,24],[182,22,182,27],[184,22,184,27],[187,14,187,19],[187,21,187,27],[187,0,187,5],[182,2,182,5],[182,9,182,12],[182,16,182,19],[25,14,25,19],[25,21,25,27],[20,9,20,12],[20,16,20,19],[43,9,43,12],[43,16,43,19],[92,22,92,27],[118,0,118,5],[118,7,118,12],[118,14,118,19],[118,21,118,27],[65,22,65,24],[89,22,89,24],[112,22,112,24],[66,22,66,27],[67,22,67,27],[113,2,113,5],[113,9,113,12],[113,16,113,19],[48,21,48,27],[113,22,113,27],[115,22,115,27],[42,22,42,24],[90,22,90,27],[205,2,205,5],[205,9,205,12],[205,16,205,19],[228,2,228,5],[228,9,228,12],[228,16,228,19],[231,14,231,19],[252,0,252,27],[254,0,254,27],[234,0,234,5],[234,7,234,12],[234,14,234,19],[232,0,232,27],[251,22,251,24],[251,14,251,16],[251,7,251,9],[251,0,251,2],[234,21,234,27],[26,43,27,43],[26,45,27,45],[2,21,2,27],[19,22,19,24],[26,41,27,41],[26,30,26,35],[3,30,3,35],[32,41,34,41],[29,41,30,41],[29,43,30,43],[32,43,34,43],[21,22,21,27],[20,22,20,24],[29,45,30,45],[32,45,34,45],[140,0,140,19],[135,22,135,24],[136,22,136,27],[138,22,138,27],[136,2,136,5],[136,9,136,12],[136,16,136,19],[141,14,141,19],[141,21,141,27],[72,21,72,27],[95,21,95,27],[119,30,119,35],[96,30,96,35],[142,30,142,35],[279,0,279,5],[117,0,117,19],[163,0,163,19],[164,0,164,5],[158,22,158,24],[159,22,159,27],[161,22,161,27],[159,2,159,5],[159,9,159,12],[159,16,159,19],[164,7,164,12],[231,7,231,12],[231,0,231,5],[210,7,210,12],[210,14,210,19],[204,22,204,24],[205,22,205,27],[207,22,207,27],[141,0,141,5],[44,31,44,34],[792,0,792,5],[774,0,774,5],[695,0,695,19],[694,0,694,19],[618,0,618,5],[595,0,595,5],[572,0,572,5],[526,0,526,5],[434,0,434,5],[706,1,706,7],[705,9,706,19],[707,1,707,5],[708,1,708,7],[709,1,709,7],[710,9,710,19],[209,0,209,19],[210,0,210,5],[141,7,141,12],[49,30,49,35],[48,7,48,12],[48,14,48,19],[73,30,73,35],[95,0,95,5]]}
[{"$f":"\"Team \"&VLOOKUP($E23,Roster!$A$2:$AF$33,2)&\"  \"&_xlfn.IFNA(VLOOKUP($E23,Roster!$A$2:$AF$33,3,0),0)","v":"Team 1  "},null,null,null,null,null,null,null,null,null,null,null,null,null,null,null,null,null,null,null,null,null,null,null,null,null,null,null,null,null,null,null,null,null,null,null,21,"1900-01-16"]
[11,1,null,null,null,null,null,12,null,null,null,null,null,null,13]
[{"$f":"_xlfn.IFNA(VLOOKUP($E23,Roster!$A$2:$AF$33,8,0),0)&IF(F23=\"\",\"\",\" / \"&VLOOKUP($F23,Roster!$A$2:$AF$33,8,0))","v":"David Burke"},null,null,null,null,null,null,{"$f":"_xlfn.IFNA(VLOOKUP(L23,Roster!$A$2:$AF$33,8,0),0)&IF($M23=\"\",\"\",\" / \"&VLOOKUP($M23,Roster!$A$2:$AF$33,8,0))","v":"Rich Matich"},null,null,null,null,null,null,{"$f":"_xlfn.IFNA(VLOOKUP($S23,Roster!$A$2:$AF$33,8,0),0)&IF(T23=\"\",\"\",\" / \"&VLOOKUP($T23,Roster!$A$2:$AF$33,8,0))","v":"Cal Shirey"},null,null,null,null,null,null,{"$f":"IF(ISNA(LOOKUP(#REF!,#REF!,#REF!)),\"\",IF(LOOKUP(#REF!,#REF!,#REF!)>\"\",LOOKUP(#REF!,#REF!,#REF!)&\" / \"&LOOKUP(#REF!,#REF!,#REF!),LOOKUP(#REF!,#REF!,#REF!)))","v":{"$error":"#REF!"}},null,null,null,null,null,null,1,null,null,null,null,null,null,null,null,null,null,null,null,"Let's Communicate",null,"Let's Communicate",null,"Let's Communicate"]
["Date","Ref","Amt","Date","Ref","Amt",null,"Date","Ref","Amt","Date","Ref","Amt",null,"Date","Ref","Amt","Date","Ref","Amt",null,"Wk","Date","Ref","Amt","Date","Ref","Amt",null,null,"Weekly Team Summary",null,null,null,null,null,"USBC",24,null,null,null,"Please Enter Your Data on Sheet",null,"Please Enter Your Data on Sheet",null,"Please Enter Your Data on Sheet"]
[{"$f":"$A$777","v":"2017-09-05"},null,null,{"$f":"$D$777","v":"2018-01-02"},null,null,null,{"$f":"$A$777","v":"2017-09-05"},null,null,{"$f":"$D$777","v":"2018-01-02"},null,null,null,{"$f":"$A$777","v":"2017-09-05"},null,null,{"$f":"$D$777","v":"2018-01-02"},null,null,null,1,{"$f":"$A$777","v":"2017-09-05"},null,null,"2016-01-05",null,null,null,16,1,{"$f":"A5","v":"2017-09-05"},{"$f":"C5+J5+Q5","v":0},{"$f":"AE19+1","v":16},{"$f":"D5","v":"2018-01-02"},{"$f":"F5+M5+T5+AB5","v":0},"Fee",17]
[{"$f":"$A$778","v":"2017-09-12"},null,null,{"$f":"$D$778","v":"2018-01-09"},null,null,null,{"$f":"$A$778","v":"2017-09-12"},null,null,{"$f":"$D$778","v":"2018-01-09"},null,null,null,{"$f":"$A$778","v":"2017-09-12"},null,null,{"$f":"$D$778","v":"2018-01-09"},null,null,null,2,{"$f":"$A$778","v":"2017-09-12"},null,null,{"$f":"Z5+7","v":"2016-01-12"},null,null,null,{"$f":"AD5+1","v":17},{"$f":"AE5+1","v":2},"2017-09-12",{"$f":"C6+J6+Q6+Y6","v":0},{"$f":"AH5+1","v":17},"2018-01-09",0,"Weeks",31,null,null,1,"Checks Payable to Classic",1,"Checks Payable to Classic",1,"Checks Payable to Classic"]
[{"$f":"$A$779","v":"2017-09-19"},null,null,{"$f":"$D$779","v":"2018-01-16"},null,null,null,{"$f":"$A$779","v":"2017-09-19"},null,null,{"$f":"$D$779","v":"2018-01-16"},null,null,null,{"$f":"$A$779","v":"2017-09-19"},null,null,{"$f":"$D$779","v":"2018-01-16"},null,null,null,3,{"$f":"$A$779","v":"2017-09-19"},null,null,{"$f":"Z6+7","v":"2016-01-19"},null,null,null,{"$f":"AD6+1","v":18},{"$f":"AE6+1","v":3},"2017-09-19",0,{"$f":"AH6+1","v":18},"2018-01-16",0,null,null,null,null,2,"Enter payment on the Date Paid",2,"Enter payment on the Date Paid",2,"Enter payment on the Date Paid"]
[{"$f":"$A$780","v":"2017-09-26"},null,null,{"$f":"$D$780","v":"2018-01-23"},null,null,null,{"$f":"$A$780","v":"2017-09-26"},null,null,{"$f":"$D$780","v":"2018-01-23"},null,null,null,{"$f":"$A$780","v":"2017-09-26"},null,null,{"$f":"$D$780","v":"2018-01-23"},null,null,null,4,{"$f":"$A$780","v":"2017-09-26"},null,null,"2016-01-26",null,null,null,19,4,"2017-09-26",0,19,"2018-01-23",0,null,null,null,null,3,"Ref: Enter Check No. or Write Cash",3,"Ref: Enter Check No. or Write Cash",3,"Ref: Enter Check No. or Write Cash"]
[{"$f":"$A$781","v":"2017-10-03"},null,null,{"$f":"$D$781","v":"2018-01-30"},null,null,null,{"$f":"$A$781","v":"2017-10-03"},null,null,{"$f":"$D$781","v":"2018-01-30"},null,null,null,{"$f":"$A$781","v":"2017-10-03"},null,null,{"$f":"$D$781","v":"2018-01-30"},null,null,null,5,{"$f":"$A$781","v":"2017-10-03"},null,null,"2016-02-02",null,null,null,20,5,"2017-10-03",0,20,"2018-01-30",0,null,null,null,null,4,"Amt: Amount Paid",4,"Amt: Amount Paid",4,"Amt: Amount Paid"]
[{"$f":"$A$782","v":"2017-10-10"},null,null,{"$f":"$D$782","v":"2018-02-06"},null,null,null,{"$f":"$A$782","v":"2017-10-10"},null,null,{"$f":"$D$782","v":"2018-02-06"},null,null,null,{"$f":"$A$782","v":"2017-10-10"},null,null,{"$f":"$D$782","v":"2018-02-06"},null,null,null,6,{"$f":"$A$782","v":"2017-10-10"},null,null,"2016-02-09",null,null,null,21,6,"2017-10-10",0,21,"2018-02-06",0,null,null,null,null,5,"Weeks paid will be  marked yellow by Secretary",5,"Weeks paid will be  marked yellow by Secretary",5,"Weeks paid will be  marked yellow by Secretary"]
[{"$f":"$A$783","v":"2017-10-17"},null,null,{"$f":"$D$783","v":"2018-02-13"},null,null,null,{"$f":"$A$783","v":"2017-10-17"},null,null,{"$f":"$D$783","v":"2018-02-13"},null,null,null,{"$f":"$A$783","v":"2017-10-17"},null,null,{"$f":"$D$783","v":"2018-02-13"},null,null,null,7,{"$f":"$A$783","v":"2017-10-17"},null,null,"2016-02-16",null,null,null,22,7,"2017-10-17",0,22,"2018-02-13",0]
[{"$f":"$A$784","v":"2017-10-24"},null,null,{"$f":"$D$784","v":"2018-02-20"},null,null,null,{"$f":"$A$784","v":"2017-10-24"},null,null,{"$f":"$D$784","v":"2018-02-20"},null,null,null,{"$f":"$A$784","v":"2017-10-24"},null,null,{"$f":"$D$784","v":"2018-02-20"},null,null,null,8,{"$f":"$A$784","v":"2017-10-24"},null,null,"2016-02-23",null,null,null,23,8,"2017-10-24",0,23,"2018-02-20",0,null,null,null,null,null,"One-Time Fees",null,"One-Time Fees",null,"One-Time Fees"]
[{"$f":"$A$785","v":"2017-10-31"},null,null,{"$f":"$D$785","v":"2018-02-27"},null,null,null,{"$f":"$A$785","v":"2017-10-31"},null,null,{"$f":"$D$785","v":"2018-02-27"},null,null,null,{"$f":"$A$785","v":"2017-10-31"},null,null,{"$f":"$D$785","v":"2018-02-27"},null,null,null,9,{"$f":"$A$785","v":"2017-10-31"},null,null,"2016-03-01",null,null,null,24,9,"2017-10-31",0,24,"2018-02-27",0,null,null,null,null,null,"Non-Residents Pay $20 to Desk Monitor",null,"Non-Residents Pay $20 to Desk Monitor",null,"Non-Residents Pay $20 to Desk Monitor"]
[{"$f":"$A$786","v":"2017-11-07"},null,null,{"$f":"$D$786","v":"2018-03-06"},null,null,null,{"$f":"$A$786","v":"2017-11-07"},null,null,{"$f":"$D$786","v":"2018-03-06"},null,null,null,{"$f":"$A$786","v":"2017-11-07"},null,null,{"$f":"$D$786","v":"2018-03-06"},null,null,null,10,{"$f":"$A$786","v":"2017-11-07"},null,null,"2016-03-08",null,null,null,25,10,"2017-11-07",0,25,"2018-03-06",0,null,null,null,null,null,"USBC Dues Add $24 to first week",null,"USBC Dues Add $24 to first week",null,"USBC Dues Add $24 to first week"]
[{"$f":"$A$787","v":"2017-11-14"},null,null,{"$f":"$D$787","v":"2018-03-13"},null,null,null,{"$f":"$A$787","v":"2017-11-14"},null,null,{"$f":"$D$787","v":"2018-03-13"},null,null,null,{"$f":"$A$787","v":"2017-11-14"},null,null,{"$f":"$D$787","v":"2018-03-13"},null,null,null,11,{"$f":"$A$787","v":"2017-11-14"},null,null,"2016-03-15",null,null,null,26,11,"2017-11-14",0,26,"2018-03-13",0]
[{"$f":"$A$788","v":"2017-11-21"},null,null,{"$f":"$D$788","v":"2018-03-20"},null,null,null,{"$f":"$A$788","v":"2017-11-21"},null,null,{"$f":"$D$788","v":"2018-03-20"},null,null,null,{"$f":"$A$788","v":"2017-11-21"},null,null,{"$f":"$D$788","v":"2018-03-20"},null,null,null,12,{"$f":"$A$788","v":"2017-11-21"},null,null,"2016-03-22",null,null,null,27,12,"2017-11-21",0,27,"2018-03-20",0,null,null,null,null,null,"1st and Last 2 weeks - 3 weeks $51",null,"1st and Last 2 weeks - 3 weeks $51",null,"1st and Last 2 weeks - 3 weeks $51"]
[{"$f":"$A$789","v":"2017-11-28"},null,null,{"$f":"$D$789","v":"2018-03-27"},null,null,null,{"$f":"$A$789","v":"2017-11-28"},null,null,{"$f":"$D$789","v":"2018-03-27"},null,null,null,{"$f":"$A$789","v":"2017-11-28"},null,null,{"$f":"$D$789","v":"2018-03-27"},null,null,null,13,{"$f":"$A$789","v":"2017-11-28"},null,null,"2016-03-29",null,null,null,28,13,"2017-11-28",0,28,"2018-03-27",0,null,null,null,null,null,"September - 4 weeks Plus Last 2 weeks $102",null,"September - 4 weeks Plus Last 2 weeks $102",null,"September - 4 weeks Plus Last 2 weeks $102"]
[{"$f":"$A$790","v":"2017-12-05"},null,null,{"$f":"$D$790","v":"2018-04-03"},null,null,null,{"$f":"$A$790","v":"2017-12-05"},null,null,{"$f":"$D$790","v":"2018-04-03"},null,null,null,{"$f":"$A$790","v":"2017-12-05"},null,null,{"$f":"$D$790","v":"2018-04-03"},null,null,null,14,{"$f":"$A$790","v":"2017-12-05"},null,null,"2016-04-05",null,null,null,29,14,"2017-12-05",0,29,"2018-04-03",0,null,null,null,null,null,"October - 5 weeks $85",null,"October - 5 weeks $85",null,"October - 5 weeks $85"]
[{"$f":"$A$791","v":"2017-12-12"},null,null,{"$f":"$D$791","v":"2018-04-10"},null,null,null,{"$f":"$A$791","v":"2017-12-12"},null,null,{"$f":"$D$791","v":"2018-04-10"},null,null,null,{"$f":"$A$791","v":"2017-12-12"},null,null,{"$f":"$D$791","v":"2018-04-10"},null,null,null,null,{"$f":"$A$791","v":"2017-12-12"},null,null,"2016-04-12",null,null,null,30,15,"2017-12-12",0,30,"2018-04-10",0,null,null,null,null,null,"November - 4 weeks $68",null,"November - 4 weeks $68",null,"November - 4 weeks $68"]
[{"$f":"$A$792","v":"2017-12-19"},null,null,{"$f":"$D$792","v":"00:00:00"},"Total",{"$f":"SUM(C5:C20,F5:F19)","v":0},null,{"$f":"$A$792","v":"2017-12-19"},null,null,{"$f":"$D$792","v":"00:00:00"},"Total",{"$f":"SUM(J5:J20,M5:M19)","v":0},null,{"$f":"$A$792","v":"2017-12-19"},null,null,null,"Total",{"$f":"SUM(Q5:Q20,T5:T19)","v":0},null,15,null,null,null,"2016-04-19",null,null,null,31,16,{"$f":"A20","v":"2017-12-19"},{"$f":"C20+J20+Q20+Y20","v":0},null,null,null,null,null,null,null,null,"December - 3 weeks $51",null,"December - 3 weeks $51",null,"December - 3 weeks $51"]
["USBC",24,"Paid This League",null,null,null,null,"USBC",null,"Paid Online",null,null,null,null,"USBC",24,"Paid This League",null,null,null,null,null,null,null,null,"2016-04-26",null,null,null,null,null,null,null,null,null,null,null,null,null,null,null,"January - 5 weeks $85",null,"January - 5 weeks $85",null,"January - 5 weeks $85"]
["Fees",{"$f":"$AL$5*B23","v":527},"Total",{"$f":"B22+B21","v":551},"Balance",{"$f":"D22-F20","v":551},null,"Fees",{"$f":"$AL$5*I23","v":527},"Total",{"$f":"I22+I21","v":527},"Balance",{"$f":"K22-M20","v":527},null,"Fees",{"$f":"$AL$5*P23","v":527},"Total",{"$f":"P22+P21","v":551},"Balance",{"$f":"R22-T20","v":551}]
["Wks",{"$f":"$AL$6","v":31},null,"ID",11,null,null,"Wks",{"$f":"$AL$6","v":31},null,"ID",12,null,null,"Wks",{"$f":"$AL$6","v":31},null,"ID",13,null,null,null,null,null,null,null,null,null,null,null,null,null,null,null,null,null,null,null,null,null,null,"February - 4 weeks $68",null,"February - 4 weeks $68",null,"February - 4 weeks $68"]
[]
[{"$f":"\"Team \"&VLOOKUP($E46,Roster!$A$2:$AF$33,2)&\"  \"&_xlfn.IFNA(VLOOKUP($E46,Roster!$A$2:$AF$33,3,0),0)","v":"Team 2  Rascals"}]
[{"$f":"_xlfn.IFNA(VLOOKUP($E46,Roster!$A$2:$AF$33,8,0),0)&IF(F46=\"\",\"\",\" / \"&VLOOKUP($F46,Roster!$A$2:$AF$33,8,0))","v":"Marty Bell"},null,null,null,null,null,null,{"$f":"_xlfn.IFNA(VLOOKUP(L46,Roster!$A$2:$AF$33,8,0),0)&IF($M46=\"\",\"\",\" / \"&VLOOKUP($M46,Roster!$A$2:$AF$33,8,0))","v":"Alex Balok"},null,null,null,null,null,null,{"$f":"_xlfn.IFNA(VLOOKUP($S46,Roster!$A$2:$AF$33,8,0),0)&IF(T46=\"\",\"\",\" / \"&VLOOKUP($T46,Roster!$A$2:$AF$33,8,0))","v":"Johnny Gonzales"},null,null,null,null,null,null,{"$f":"IF(ISNA(LOOKUP(#REF!,#REF!,#REF!)),\"\",IF(LOOKUP(#REF!,#REF!,#REF!)>\"\",LOOKUP(#REF!,#REF!,#REF!)&\" / \"&LOOKUP(#REF!,#REF!,#REF!),LOOKUP(#REF!,#REF!,#REF!)))","v":{"$error":"#REF!"}},null,null,null,null,null,null,2]
["Date","Ref","Amt","Date","Ref","Amt",null,"Date","Ref","Amt","Date","Ref","Amt",null,"Date","Ref","Amt","Date","Ref","Amt",null,"Wk","Date","Ref","Amt","Date","Ref","Amt",null,null,"Weekly Team Summary",null,null,null,null,null,null,null,null,null,null,"1. Team Captains are responsible for the collection of all fees.",null,"1. Team Captains are responsible for the collection of all fees.",null,"1. Team Captains are responsible for the collection of all fees."]
[{"$f":"$A$777","v":"2017-09-05"},null,null,{"$f":"$D$777","v":"2018-01-02"},null,null,null,{"$f":"$A$777","v":"2017-09-05"},null,null,{"$f":"$D$777","v":"2018-01-02"},null,null,null,{"$f":"$A$777","v":"2017-09-05"},null,null,{"$f":"$D$777","v":"2018-01-02"},null,null,null,1,{"$f":"$A$777","v":"2017-09-05"},null,null,"2016-01-05",null,null,null,16,1,{"$f":"A28","v":"2017-09-05"},{"$f":"C28+J28+Q28","v":0},{"$f":"AE42+1","v":16},{"$f":"D28","v":"2018-01-02"},{"$f":"F28+M28+T28+AB28","v":0}]
[{"$f":"$A$778","v":"2017-09-12"},null,null,{"$f":"$D$778","v":"2018-01-09"},null,null,null,{"$f":"$A$778","v":"2017-09-12"},null,null,{"$f":"$D$778","v":"2018-01-09"},null,null,null,{"$f":"$A$778","v":"2017-09-12"},null,null,{"$f":"$D$778","v":"2018-01-09"},null,null,null,2,{"$f":"$A$778","v":"2017-09-12"},null,null,{"$f":"Z28+7","v":"2016-01-12"},null,null,null,{"$f":"AD28+1","v":17},{"$f":"AE28+1","v":2},"2017-09-12",{"$f":"C29+J29+Q29+Y29","v":0},{"$f":"AH28+1","v":17},"2018-01-09",0]
[{"$f":"$A$779","v":"2017-09-19"},null,null,{"$f":"$D$779","v":"2018-01-16"},null,null,null,{"$f":"$A$779","v":"2017-09-19"},null,null,{"$f":"$D$779","v":"2018-01-16"},null,null,null,{"$f":"$A$779","v":"2017-09-19"},null,null,{"$f":"$D$779","v":"2018-01-16"},null,null,null,3,{"$f":"$A$779","v":"2017-09-19"},null,null,{"$f":"Z29+7","v":"2016-01-19"},null,null,null,{"$f":"AD29+1","v":18},{"$f":"AE29+1","v":3},"2017-09-19",0,{"$f":"AH29+1","v":18},"2018-01-16",0,null,null,null,null,null,"2. Late Arriving Bowlers Listed on Roster are responsible for all season-to-date league fees. ",null,"2. Late Arriving Bowlers Listed on Roster are responsible for all season-to-date league fees. ",null,"2. Late Arriving Bowlers Listed on Roster are responsible for all season-to-date league fees. "]
[{"$f":"$A$780","v":"2017-09-26"},null,null,{"$f":"$D$780","v":"2018-01-23"},null,null,null,{"$f":"$A$780","v":"2017-09-26"},null,null,{"$f":"$D$780","v":"2018-01-23"},null,null,null,{"$f":"$A$780","v":"2017-09-26"},null,null,{"$f":"$D$780","v":"2018-01-23"},null,null,null,4,{"$f":"$A$780","v":"2017-09-26"},null,null,"2016-01-26",null,null,null,19,4,"2017-09-26",0,19,"2018-01-23",0]
[{"$f":"$A$781","v":"2017-10-03"},null,null,{"$f":"$D$781","v":"2018-01-30"},null,null,null,{"$f":"$A$781","v":"2017-10-03"},null,null,{"$f":"$D$781","v":"2018-01-30"},null,null,null,{"$f":"$A$781","v":"2017-10-03"},null,null,{"$f":"$D$781","v":"2018-01-30"},null,null,null,5,{"$f":"$A$781","v":"2017-10-03"},null,null,"2016-02-02",null,null,null,20,5,"2017-10-03",0,20,"2018-01-30",0]
[{"$f":"$A$782","v":"2017-10-10"},null,null,{"$f":"$D$782","v":"2018-02-06"},null,null,null,{"$f":"$A$782","v":"2017-10-10"},null,null,{"$f":"$D$782","v":"2018-02-06"},null,null,null,{"$f":"$A$782","v":"2017-10-10"},null,null,{"$f":"$D$782","v":"2018-02-06"},null,null,null,6,{"$f":"$A$782","v":"2017-10-10"},null,null,"2016-02-09",null,null,null,21,6,"2017-10-10",0,21,"2018-02-06",0,null,null,null,null,null,"3. New bowlers beginning after the league schedule begins are responsible for all season-to-date league fees excluding lineage.",null,"3. New bowlers beginning after the league schedule begins are responsible for all season-to-date league fees excluding lineage.",null,"3. New bowlers beginning after the league schedule begins are responsible for all season-to-date league fees excluding lineage."]
[{"$f":"$A$783","v":"2017-10-17"},null,null,{"$f":"$D$783","v":"2018-02-13"},null,null,null,{"$f":"$A$783","v":"2017-10-17"},null,null,{"$f":"$D$783","v":"2018-02-13"},null,null,null,{"$f":"$A$783","v":"2017-10-17"},null,null,{"$f":"$D$783","v":"2018-02-13"},null,null,null,7,{"$f":"$A$783","v":"2017-10-17"},null,null,"2016-02-16",null,null,null,22,7,"2017-10-17",0,22,"2018-02-13",0]
[{"$f":"$A$784","v":"2017-10-24"},null,null,{"$f":"$D$784","v":"2018-02-20"},null,null,null,{"$f":"$A$784","v":"2017-10-24"},null,null,{"$f":"$D$784","v":"2018-02-20"},null,null,null,{"$f":"$A$784","v":"2017-10-24"},null,null,{"$f":"$D$784","v":"2018-02-20"},null,null,null,8,{"$f":"$A$784","v":"2017-10-24"},null,null,"2016-02-23",null,null,null,23,8,"2017-10-24",0,23,"2018-02-20",0]
[{"$f":"$A$785","v":"2017-10-31"},null,null,{"$f":"$D$785","v":"2018-02-27"},null,null,null,{"$f":"$A$785","v":"2017-10-31"},null,null,{"$f":"$D$785","v":"2018-02-27"},null,null,null,{"$f":"$A$785","v":"2017-10-31"},null,null,{"$f":"$D$785","v":"2018-02-27"},null,null,null,9,{"$f":"$A$785","v":"2017-10-31"},null,null,"2016-03-01",null,null,null,24,9,"2017-10-31",0,24,"2018-02-27",0]
[{"$f":"$A$786","v":"2017-11-07"},null,null,{"$f":"$D$786","v":"2018-03-06"},null,null,null,{"$f":"$A$786","v":"2017-11-07"},null,null,{"$f":"$D$786","v":"2018-03-06"},null,null,null,{"$f":"$A$786","v":"2017-11-07"},null,null,{"$f":"$D$786","v":"2018-03-06"},null,null,null,10,{"$f":"$A$786","v":"2017-11-07"},null,null,"2016-03-08",null,null,null,25,10,"2017-11-07",0,25,"2018-03-06",0]
[{"$f":"$A$787","v":"2017-11-14"},null,null,{"$f":"$D$787","v":"2018-03-13"},null,null,null,{"$f":"$A$787","v":"2017-11-14"},null,null,{"$f":"$D$787","v":"2018-03-13"},null,null,null,{"$f":"$A$787","v":"2017-11-14"},null,null,{"$f":"$D$787","v":"2018-03-13"},null,null,null,11,{"$f":"$A$787","v":"2017-11-14"},null,null,"2016-03-15",null,null,null,26,11,"2017-11-14",0,26,"2018-03-13",0]
[{"$f":"$A$788","v":"2017-11-21"},null,null,{"$f":"$D$788","v":"2018-03-20"},null,null,null,{"$f":"$A$788","v":"2017-11-21"},null,null,{"$f":"$D$788","v":"2018-03-20"},null,null,null,{"$f":"$A$788","v":"2017-11-21"},null,null,{"$f":"$D$788","v":"2018-03-20"},null,null,null,12,{"$f":"$A$788","v":"2017-11-21"},null,null,"2016-03-22",null,null,null,27,12,"2017-11-21",0,27,"2018-03-20",0]
[{"$f":"$A$789","v":"2017-11-28"},null,null,{"$f":"$D$789","v":"2018-03-27"},null,null,null,{"$f":"$A$789","v":"2017-11-28"},null,null,{"$f":"$D$789","v":"2018-03-27"},null,null,null,{"$f":"$A$789","v":"2017-11-28"},null,null,{"$f":"$D$789","v":"2018-03-27"},null,null,null,13,{"$f":"$A$789","v":"2017-11-28"},null,null,"2016-03-29",null,null,null,28,13,"2017-11-28",0,28,"2018-03-27",0,null,null,null,null,null,"Let's Communicate",null,"Let's Communicate",null,"Let's Communicate"]
[{"$f":"$A$790","v":"2017-12-05"},null,null,{"$f":"$D$790","v":"2018-04-03"},null,null,null,{"$f":"$A$790","v":"2017-12-05"},null,null,{"$f":"$D$790","v":"2018-04-03"},null,null,null,{"$f":"$A$790","v":"2017-12-05"},null,null,{"$f":"$D$790","v":"2018-04-03"},null,null,null,14,{"$f":"$A$790","v":"2017-12-05"},null,null,"2016-04-05",null,null,null,29,14,"2017-12-05",0,29,"2018-04-03",0,null,null,null,null,null,"Please Enter Your Data on Sheet",null,"Please Enter Your Data on Sheet",null,"Please Enter Your Data on Sheet"]
[{"$f":"$A$791","v":"2017-12-12"},null,null,{"$f":"$D$791","v":"2018-04-10"},null,null,null,{"$f":"$A$791","v":"2017-12-12"},null,null,{"$f":"$D$791","v":"2018-04-10"},null,null,null,{"$f":"$A$791","v":"2017-12-12"},null,null,{"$f":"$D$791","v":"2018-04-10"},null,null,null,null,{"$f":"$A$791","v":"2017-12-12"},null,null,"2016-04-12",null,null,null,30,15,"2017-12-12",0,30,"2018-04-10",0]
[{"$f":"$A$792","v":"2017-12-19"},null,null,{"$f":"$D$792","v":"00:00:00"},"Total",{"$f":"SUM(C28:C43,F28:F42)","v":0},null,{"$f":"$A$792","v":"2017-12-19"},null,null,{"$f":"$D$792","v":"00:00:00"},"Total",{"$f":"SUM(J28:J43,M28:M42)","v":0},null,{"$f":"$A$792","v":"2017-12-19"},null,null,null,"Total",{"$f":"SUM(Q28:Q43,T28:T42)","v":0},null,15,null,null,null,"2016-04-19",null,null,null,31,16,"2017-12-19",0,null,null,null,null,null,null,null,1,"Checks Payable to Classic",1,"Checks Payable to Classic",1,"Checks Payable to Classic"]
["USBC",null,"Paid Online",null,null,null,null,"USBC",null,"Paid Online",null,null,null,null,"USBC",null,"Sun City Sratch Classic",null,null,null,null,null,null,null,null,null,null,null,null,null,null,null,null,null,null,null,null,null,null,null,2,"Enter payment on the Date Paid",2,"Enter payment on the Date Paid",2,"Enter payment on the Date Paid"]
["Fees",{"$f":"$AL$5*B46","v":527},"Total",{"$f":"B45+B44","v":527},"Balance",{"$f":"D45-F43","v":527},null,"Fees",{"$f":"$AL$5*I46","v":527},"Total",{"$f":"I45+I44","v":527},"Balance",{"$f":"K45-M43","v":527},null,"Fees",{"$f":"$AL$5*P46","v":527},"Total",{"$f":"P45+P44","v":527},"Balance",{"$f":"R45-T43","v":527}]
["Wks",{"$f":"$AL$6","v":31},null,"ID",21,null,null,"Wks",{"$f":"$AL$6","v":31},null,"ID",22,null,null,"Wks",{"$f":"$AL$6","v":31},null,"ID",23,null,null,null,null,null,null,null,null,null,null,null,null,null,null,null,null,null,null,null,null,null,3,"Ref: Enter Check No. or Write Cash",3,"Ref: Enter Check No. or Write Cash",3,"Ref: Enter Check No. or Write Cash"]
[31,3,null,null,null,null,null,32,null,null,null,null,null,null,33,null,null,null,null,null,null,null,null,null,null,null,null,null,null,null,null,null,null,null,null,null,null,null,null,null,4,"Amt: Amount Paid",4,"Amt: Amount Paid",4,"Amt: Amount Paid"]
[{"$f":"\"Team \"&VLOOKUP($E69,Roster!$A$2:$AF$33,2)&\"  \"&_xlfn.IFNA(VLOOKUP($E69,Roster!$A$2:$AF$33,3,0),0)","v":"Team 3  "},null,null,null,null,null,null,null,null,null,null,null,null,null,null,null,null,null,null,null,null,null,null,null,null,null,null,null,null,null,null,null,null,null,null,null,null,null,null,null,5,"Weeks paid will be  marked yellow",5,"Weeks paid will be  marked yellow",5,"Weeks paid will be  marked yellow"]
[{"$f":"_xlfn.IFNA(VLOOKUP($E69,Roster!$A$2:$AF$33,8,0),0)&IF(F69=\"\",\"\",\" / \"&VLOOKUP($F69,Roster!$A$2:$AF$33,8,0))","v":"Jeff Richard"},null,null,null,null,null,null,{"$f":"_xlfn.IFNA(VLOOKUP(L69,Roster!$A$2:$AF$33,8,0),0)&IF($M69=\"\",\"\",\" / \"&VLOOKUP($M69,Roster!$A$2:$AF$33,8,0))","v":"Jerry Elsen"},null,null,null,null,null,null,{"$f":"_xlfn.IFNA(VLOOKUP($S69,Roster!$A$2:$AF$33,8,0),0)&IF(T69=\"\",\"\",\" / \"&VLOOKUP($T69,Roster!$A$2:$AF$33,8,0))","v":"Bill Poff"},null,null,null,null,null,null,{"$f":"IF(ISNA(LOOKUP(#REF!,#REF!,#REF!)),\"\",IF(LOOKUP(#REF!,#REF!,#REF!)>\"\",LOOKUP(#REF!,#REF!,#REF!)&\" / \"&LOOKUP(#REF!,#REF!,#REF!),LOOKUP(#REF!,#REF!,#REF!)))","v":{"$error":"#REF!"}},null,null,null,null,null,null,3]
["Date","Ref","Amt","Date","Ref","Amt",null,"Date","Ref","Amt","Date","Ref","Amt",null,"Date","Ref","Amt","Date","Ref","Amt",null,"Wk","Date","Ref","Amt","Date","Ref","Amt",null,null,"Weekly Team Summary"]
[{"$f":"$A$777","v":"2017-09-05"},null,null,{"$f":"$D$777","v":"2018-01-02"},null,null,null,{"$f":"$A$777","v":"2017-09-05"},null,null,{"$f":"$D$777","v":"2018-01-02"},null,null,null,{"$f":"$A$777","v":"2017-09-05"},null,null,{"$f":"$D$777","v":"2018-01-02"},null,null,null,1,{"$f":"$A$777","v":"2017-09-05"},null,null,"2016-01-05",null,null,null,16,1,{"$f":"A51","v":"2017-09-05"},{"$f":"C51+J51+Q51","v":0},{"$f":"AE65+1","v":16},{"$f":"D51","v":"2018-01-02"},{"$f":"F51+M51+T51+AB51","v":0}]
[{"$f":"$A$778","v":"2017-09-12"},null,null,{"$f":"$D$778","v":"2018-01-09"},null,null,null,{"$f":"$A$778","v":"2017-09-12"},null,null,{"$f":"$D$778","v":"2018-01-09"},null,null,null,{"$f":"$A$778","v":"2017-09-12"},null,null,{"$f":"$D$778","v":"2018-01-09"},null,null,null,2,{"$f":"$A$778","v":"2017-09-12"},null,null,{"$f":"Z51+7","v":"2016-01-12"},null,null,null,{"$f":"AD51+1","v":17},{"$f":"AE51+1","v":2},"2017-09-12",{"$f":"C52+J52+Q52+Y52","v":0},{"$f":"AH51+1","v":17},"2018-01-09",0,null,null,null,null,null,"September - 4 weeks Plus Last 2 weeks $102",null,"September - 4 weeks Plus Last 2 weeks $102",null,"September - 4 weeks Plus Last 2 weeks $102"]
[{"$f":"$A$779","v":"2017-09-19"},null,null,{"$f":"$D$779","v":"2018-01-16"},null,null,null,{"$f":"$A$779","v":"2017-09-19"},null,null,{"$f":"$D$779","v":"2018-01-16"},null,null,null,{"$f":"$A$779","v":"2017-09-19"},null,null,{"$f":"$D$779","v":"2018-01-16"},null,null,null,3,{"$f":"$A$779","v":"2017-09-19"},null,null,{"$f":"Z52+7","v":"2016-01-19"},null,null,null,{"$f":"AD52+1","v":18},{"$f":"AE52+1","v":3},"2017-09-19",0,{"$f":"AH52+1","v":18},"2018-01-16",0,null,null,null,null,null,"October - 5 weeks $85",null,"October - 5 weeks $85",null,"October - 5 weeks $85"]
[{"$f":"$A$780","v":"2017-09-26"},null,null,{"$f":"$D$780","v":"2018-01-23"},null,null,null,{"$f":"$A$780","v":"2017-09-26"},null,null,{"$f":"$D$780","v":"2018-01-23"},null,null,null,{"$f":"$A$780","v":"2017-09-26"},null,null,{"$f":"$D$780","v":"2018-01-23"},null,null,null,4,{"$f":"$A$780","v":"2017-09-26"},null,null,"2016-01-26",null,null,null,19,4,"2017-09-26",0,19,"2018-01-23",0,null,null,null,null,null,"November - 4 weeks $68",null,"November - 4 weeks $68",null,"November - 4 weeks $68"]
[{"$f":"$A$781","v":"2017-10-03"},null,null,{"$f":"$D$781","v":"2018-01-30"},null,null,null,{"$f":"$A$781","v":"2017-10-03"},null,null,{"$f":"$D$781","v":"2018-01-30"},null,null,null,{"$f":"$A$781","v":"2017-10-03"},null,null,{"$f":"$D$781","v":"2018-01-30"},null,null,null,5,{"$f":"$A$781","v":"2017-10-03"},null,null,"2016-02-02",null,null,null,20,5,"2017-10-03",0,20,"2018-01-30",0,null,null,null,null,null,"December - 3 weeks $51",null,"December - 3 weeks $51",null,"December - 3 weeks $51"]
[{"$f":"$A$782","v":"2017-10-10"},null,null,{"$f":"$D$782","v":"2018-02-06"},null,null,null,{"$f":"$A$782","v":"2017-10-10"},null,null,{"$f":"$D$782","v":"2018-02-06"},null,null,null,{"$f":"$A$782","v":"2017-10-10"},null,null,{"$f":"$D$782","v":"2018-02-06"},null,null,null,6,{"$f":"$A$782","v":"2017-10-10"},null,null,"2016-02-09",null,null,null,21,6,"2017-10-10",0,21,"2018-02-06",0,null,null,null,null,null,"January - 5 weeks $85",null,"January - 5 weeks $85",null,"January - 5 weeks $85"]
[{"$f":"$A$783","v":"2017-10-17"},null,null,{"$f":"$D$783","v":"2018-02-13"},null,null,null,{"$f":"$A$783","v":"2017-10-17"},null,null,{"$f":"$D$783","v":"2018-02-13"},null,null,null,{"$f":"$A$783","v":"2017-10-17"},null,null,{"$f":"$D$783","v":"2018-02-13"},null,null,null,7,{"$f":"$A$783","v":"2017-10-17"},null,null,"2016-02-16",null,null,null,22,7,"2017-10-17",0,22,"2018-02-13",0,null,null,null,null,null,"February - 4 weeks $68",null,"February - 4 weeks $68",null,"February - 4 weeks $68"]
[{"$f":"$A$784","v":"2017-10-24"},null,null,{"$f":"$D$784","v":"2018-02-20"},null,null,null,{"$f":"$A$784","v":"2017-10-24"},null,null,{"$f":"$D$784","v":"2018-02-20"},null,null,null,{"$f":"$A$784","v":"2017-10-24"},null,null,{"$f":"$D$784","v":"2018-02-20"},null,null,null,8,{"$f":"$A$784","v":"2017-10-24"},null,null,"2016-02-23",null,null,null,23,8,"2017-10-24",0,23,"2018-02-20",0,null,null,null,null,null,"March - 4 weeks $68",null,"March - 4 weeks $68",null,"March - 4 weeks $68"]
[{"$f":"$A$785","v":"2017-10-31"},null,null,{"$f":"$D$785","v":"2018-02-27"},null,null,null,{"$f":"$A$785","v":"2017-10-31"},null,null,{"$f":"$D$785","v":"2018-02-27"},null,null,null,{"$f":"$A$785","v":"2017-10-31"},null,null,{"$f":"$D$785","v":"2018-02-27"},null,null,null,9,{"$f":"$A$785","v":"2017-10-31"},null,null,"2016-03-01",null,null,null,24,9,"2017-10-31",0,24,"2018-02-27",0,null,null,null,null,null,"April  - 2 weeks $34",null,"April  - 2 weeks $34",null,"April  - 2 weeks $34"]
[{"$f":"$A$786","v":"2017-11-07"},null,null,{"$f":"$D$786","v":"2018-03-06"},null,null,null,{"$f":"$A$786","v":"2017-11-07"},null,null,{"$f":"$D$786","v":"2018-03-06"},null,null,null,{"$f":"$A$786","v":"2017-11-07"},null,null,{"$f":"$D$786","v":"2018-03-06"},null,null,null,10,{"$f":"$A$786","v":"2017-11-07"},null,null,"2016-03-08",null,null,null,25,10,"2017-11-07",0,25,"2018-03-06",0,null,null,null,null,null,"Full Season - 31 Weeks $527",null,"Full Season - 31 Weeks $527",null,"Full Season - 31 Weeks $527"]
[{"$f":"$A$787","v":"2017-11-14"},null,null,{"$f":"$D$787","v":"2018-03-13"},null,null,null,{"$f":"$A$787","v":"2017-11-14"},null,null,{"$f":"$D$787","v":"2018-03-13"},null,null,null,{"$f":"$A$787","v":"2017-11-14"},null,null,{"$f":"$D$787","v":"2018-03-13"},null,null,null,11,{"$f":"$A$787","v":"2017-11-14"},null,null,"2016-03-15",null,null,null,26,11,"2017-11-14",0,26,"2018-03-13",0]
[{"$f":"$A$788","v":"2017-11-21"},null,null,{"$f":"$D$788","v":"2018-03-20"},null,null,null,{"$f":"$A$788","v":"2017-11-21"},null,null,{"$f":"$D$788","v":"2018-03-20"},null,null,null,{"$f":"$A$788","v":"2017-11-21"},null,null,{"$f":"$D$788","v":"2018-03-20"},null,null,null,12,{"$f":"$A$788","v":"2017-11-21"},null,null,"2016-03-22",null,null,null,27,12,"2017-11-21",0,27,"2018-03-20",0]
[{"$f":"$A$789","v":"2017-11-28"},null,null,{"$f":"$D$789","v":"2018-03-27"},null,null,null,{"$f":"$A$789","v":"2017-11-28"},null,null,{"$f":"$D$789","v":"2018-03-27"},null,null,null,{"$f":"$A$789","v":"2017-11-28"},null,null,{"$f":"$D$789","v":"2018-03-27"},null,null,null,13,{"$f":"$A$789","v":"2017-11-28"},null,null,"2016-03-29",null,null,null,28,13,"2017-11-28",0,28,"2018-03-27",0]
[{"$f":"$A$790","v":"2017-12-05"},null,null,{"$f":"$D$790","v":"2018-04-03"},null,null,null,{"$f":"$A$790","v":"2017-12-05"},null,null,{"$f":"$D$790","v":"2018-04-03"},null,null,null,{"$f":"$A$790","v":"2017-12-05"},null,null,{"$f":"$D$790","v":"2018-04-03"},null,null,null,14,{"$f":"$A$790","v":"2017-12-05"},null,null,"2016-04-05",null,null,null,29,14,"2017-12-05",0,29,"2018-04-03",0,null,null,null,null,null,"Let's Communicate",null,"Let's Communicate",null,"Let's Communicate"]
[{"$f":"$A$791","v":"2017-12-12"},null,null,{"$f":"$D$791","v":"2018-04-10"},null,null,null,{"$f":"$A$791","v":"2017-12-12"},null,null,{"$f":"$D$791","v":"2018-04-10"},null,null,null,{"$f":"$A$791","v":"2017-12-12"},null,null,{"$f":"$D$791","v":"2018-04-10"},null,null,null,null,{"$f":"$A$791","v":"2017-12-12"},null,null,"2016-04-12",null,null,null,30,15,"2017-12-12",0,30,"2018-04-10",0,null,null,null,null,null,"Please Enter Your Data on Sheet",null,"Please Enter Your Data on Sheet",null,"Please Enter Your Data on Sheet"]
[{"$f":"$A$792","v":"2017-12-19"},null,null,{"$f":"$D$792","v":"00:00:00"},"Total",{"$f":"SUM(C51:C66,F51:F65)","v":0},null,{"$f":"$A$792","v":"2017-12-19"},null,null,{"$f":"$D$792","v":"00:00:00"},"Total",{"$f":"SUM(J51:J66,M51:M65)","v":0},null,{"$f":"$A$792","v":"2017-12-19"},null,null,null,"Total",{"$f":"SUM(Q51:Q66,T51:T65)","v":0},null,15,null,null,null,"2016-04-19",null,null,null,31,16,"2017-12-19",0]
["USBC",null,"Paid in Peterson",null,null,null,null,"USBC",24,"Paid This League",null,null,null,null,"USBC",24,"Paid This League",null,null,null,null,null,null,null,null,null,null,null,null,null,null,null,null,null,null,null,{"$f":"Q51-21+Q55+Q58+Q64+Q65+T52+T57+T61","v":-21},null,null,null,1,"Checks Payable to Classic",1,"Checks Payable to Classic",1,"Checks Payable to Classic"]
["Fees",{"$f":"$AL$5*B69","v":527},"Total",{"$f":"B68+B67","v":527},"Balance",{"$f":"D68-F66","v":527},null,"Fees",{"$f":"$AL$5*I69","v":527},"Total",{"$f":"I68+I67","v":551},"Balance",{"$f":"K68-M66","v":551},null,"Fees",{"$f":"$AL$5*P69","v":527},"Total",{"$f":"P68+P67","v":551},"Balance",{"$f":"R68-T66","v":551},null,null,null,null,null,null,null,null,null,null,null,null,null,null,null,null,null,null,null,null,2,"Enter payment on the Date Paid",2,"Enter payment on the Date Paid",2,"Enter payment on the Date Paid"]
["Wks",{"$f":"$AL$6","v":31},{"$f":"$AL$5*B69","v":527},"ID",31,null,null,"Wks",{"$f":"$AL$6","v":31},{"$f":"$AL$5*I69","v":527},"ID",32,null,null,"Wks",{"$f":"$AL$6","v":31},{"$f":"$AL$5*P69","v":527},"ID",33]
[]
[41,4,null,null,null,null,null,42,null,null,null,null,null,null,43,null,null,null,null,null,null,null,null,null,null,null,null,null,null,null,null,null,null,null,null,null,null,null,null,null,3,"Ref: Enter Check No. or Write Cash",3,"Ref: Enter Check No. or Write Cash",3,"Ref: Enter Check No. or Write Cash"]
[{"$f":"\"Team \"&VLOOKUP($E93,Roster!$A$2:$AF$33,2)&\"  \"&_xlfn.IFNA(VLOOKUP($E93,Roster!$A$2:$AF$33,3,0),0)","v":"Team 4  Pro-Tech"},null,null,null,null,null,null,null,null,null,null,null,null,null,null,null,null,null,null,null,null,null,null,null,null,null,null,null,null,null,null,null,null,null,null,null,null,null,null,null,4,"Amt: Amount Paid",4,"Amt: Amount Paid",4,"Amt: Amount Paid"]
[{"$f":"_xlfn.IFNA(VLOOKUP(E93,Roster!$A$2:$AF$33,8,0),0)&IF(F93=\"\",\"\",\" / \"&VLOOKUP(F93,Roster!$A$2:$AF$33,8,0))","v":"Dave Schmitz"},null,null,null,null,null,null,{"$f":"_xlfn.IFNA(VLOOKUP(L93,Roster!$A$2:$AF$33,8,0),0)&IF(M93=\"\",\"\",\" / \"&VLOOKUP(M93,Roster!$A$2:$AF$33,8,0))","v":"John Babbitt"},null,null,null,null,null,null,{"$f":"_xlfn.IFNA(VLOOKUP(S93,Roster!$A$2:$AF$33,8,0),0)&IF(T93=\"\",\"\",\" / \"&VLOOKUP(T93,Roster!$A$2:$AF$33,8,0))","v":"Larry Tolar"},null,null,null,null,null,null,{"$f":"IF(ISNA(LOOKUP(#REF!,#REF!,#REF!)),\"\",IF(LOOKUP(#REF!,#REF!,#REF!)>\"\",LOOKUP(#REF!,#REF!,#REF!)&\" / \"&LOOKUP(#REF!,#REF!,#REF!),LOOKUP(#REF!,#REF!,#REF!)))","v":{"$error":"#REF!"}},null,null,null,null,null,null,4,null,null,null,null,null,null,null,null,null,null,null,5,"Weeks paid will be  marked yellow",5,"Weeks paid will be  marked yellow",5,"Weeks paid will be  marked yellow"]
["Date","Ref","Amt","Date","Ref","Amt",null,"Date","Ref","Amt","Date","Ref","Amt",null,"Date","Ref","Amt","Date","Ref","Amt",null,"Wk","Date","Ref","Amt","Date","Ref","Amt",null,null,"Weekly Team Summary"]
[{"$f":"$A$777","v":"2017-09-05"},null,null,{"$f":"$D$777","v":"2018-01-02"},null,null,null,{"$f":"$A$777","v":"2017-09-05"},null,null,{"$f":"$D$777","v":"2018-01-02"},null,null,null,{"$f":"$A$777","v":"2017-09-05"},null,null,{"$f":"$D$777","v":"2018-01-02"},null,null,null,1,{"$f":"$A$777","v":"2017-09-05"},null,null,"2016-01-05",null,null,null,16,1,{"$f":"A75","v":"2017-09-05"},{"$f":"C75+J75+Q75","v":0},{"$f":"AE89+1","v":16},{"$f":"D75","v":"2018-01-02"},{"$f":"F75+M75+T75+AB75","v":0}]
[{"$f":"$A$778","v":"2017-09-12"},null,null,{"$f":"$D$778","v":"2018-01-09"},null,null,null,{"$f":"$A$778","v":"2017-09-12"},null,null,{"$f":"$D$778","v":"2018-01-09"},null,null,null,{"$f":"$A$778","v":"2017-09-12"},null,null,{"$f":"$D$778","v":"2018-01-09"},null,null,null,2,{"$f":"$A$778","v":"2017-09-12"},null,null,{"$f":"Z75+7","v":"2016-01-12"},null,null,null,{"$f":"AD75+1","v":17},{"$f":"AE75+1","v":2},"2017-09-12",{"$f":"C76+J76+Q76+Y76","v":0},{"$f":"AH75+1","v":17},"2018-01-09",0]
[{"$f":"$A$779","v":"2017-09-19"},null,null,{"$f":"$D$779","v":"2018-01-16"},null,null,null,{"$f":"$A$779","v":"2017-09-19"},null,null,{"$f":"$D$779","v":"2018-01-16"},null,null,null,{"$f":"$A$779","v":"2017-09-19"},null,null,{"$f":"$D$779","v":"2018-01-16"},null,null,null,3,{"$f":"$A$779","v":"2017-09-19"},null,null,{"$f":"Z76+7","v":"2016-01-19"},null,null,null,{"$f":"AD76+1","v":18},{"$f":"AE76+1","v":3},"2017-09-19",0,{"$f":"AH76+1","v":18},"2018-01-16",0,null,null,null,null,null,"September - 4 weeks Plus Last 2 weeks $102",null,"September - 4 weeks Plus Last 2 weeks $102",null,"September - 4 weeks Plus Last 2 weeks $102"]
[{"$f":"$A$780","v":"2017-09-26"},null,null,{"$f":"$D$780","v":"2018-01-23"},null,null,null,{"$f":"$A$780","v":"2017-09-26"},null,null,{"$f":"$D$780","v":"2018-01-23"},null,null,null,{"$f":"$A$780","v":"2017-09-26"},null,null,{"$f":"$D$780","v":"2018-01-23"},null,null,null,4,{"$f":"$A$780","v":"2017-09-26"},null,null,"2016-01-26",null,null,null,19,4,"2017-09-26",0,19,"2018-01-23",0,null,null,null,null,null,"October - 5 weeks $85",null,"October - 5 weeks $85",null,"October - 5 weeks $85"]
[{"$f":"$A$781","v":"2017-10-03"},null,null,{"$f":"$D$781","v":"2018-01-30"},null,null,null,{"$f":"$A$781","v":"2017-10-03"},null,null,{"$f":"$D$781","v":"2018-01-30"},null,null,null,{"$f":"$A$781","v":"2017-10-03"},null,null,{"$f":"$D$781","v":"2018-01-30"},null,null,null,5,{"$f":"$A$781","v":"2017-10-03"},null,null,"2016-02-02",null,null,null,20,5,"2017-10-03",0,20,"2018-01-30",0,null,null,null,null,null,"November - 4 weeks $68",null,"November - 4 weeks $68",null,"November - 4 weeks $68"]
[{"$f":"$A$782","v":"2017-10-10"},null,null,{"$f":"$D$782","v":"2018-02-06"},null,null,null,{"$f":"$A$782","v":"2017-10-10"},null,null,{"$f":"$D$782","v":"2018-02-06"},null,null,null,{"$f":"$A$782","v":"2017-10-10"},null,null,{"$f":"$D$782","v":"2018-02-06"},null,null,null,6,{"$f":"$A$782","v":"2017-10-10"},null,null,"2016-02-09",null,null,null,21,6,"2017-10-10",0,21,"2018-02-06",0,null,null,null,null,null,"December - 3 weeks $51",null,"December - 3 weeks $51",null,"December - 3 weeks $51"]
[{"$f":"$A$783","v":"2017-10-17"},null,null,{"$f":"$D$783","v":"2018-02-13"},null,null,null,{"$f":"$A$783","v":"2017-10-17"},null,null,{"$f":"$D$783","v":"2018-02-13"},null,null,null,{"$f":"$A$783","v":"2017-10-17"},null,null,{"$f":"$D$783","v":"2018-02-13"},null,null,null,7,{"$f":"$A$783","v":"2017-10-17"},null,null,"2016-02-16",null,null,null,22,7,"2017-10-17",0,22,"2018-02-13",0,null,null,null,null,null,"January - 5 weeks $85",null,"January - 5 weeks $85",null,"January - 5 weeks $85"]
[{"$f":"$A$784","v":"2017-10-24"},null,null,{"$f":"$D$784","v":"2018-02-20"},null,null,null,{"$f":"$A$784","v":"2017-10-24"},null,null,{"$f":"$D$784","v":"2018-02-20"},null,null,null,{"$f":"$A$784","v":"2017-10-24"},null,null,{"$f":"$D$784","v":"2018-02-20"},null,null,null,8,{"$f":"$A$784","v":"2017-10-24"},null,null,"2016-02-23",null,null,null,23,8,"2017-10-24",0,23,"2018-02-20",0,null,null,null,null,null,"February - 4 weeks $68",null,"February - 4 weeks $68",null,"February - 4 weeks $68"]
[{"$f":"$A$785","v":"2017-10-31"},null,null,{"$f":"$D$785","v":"2018-02-27"},null,null,null,{"$f":"$A$785","v":"2017-10-31"},null,null,{"$f":"$D$785","v":"2018-02-27"},null,null,null,{"$f":"$A$785","v":"2017-10-31"},null,null,{"$f":"$D$785","v":"2018-02-27"},null,null,null,9,{"$f":"$A$785","v":"2017-10-31"},null,null,"2016-03-01",null,null,null,24,9,"2017-10-31",0,24,"2018-02-27",0,null,null,null,null,null,"March - 4 weeks $68",null,"March - 4 weeks $68",null,"March - 4 weeks $68"]
[{"$f":"$A$786","v":"2017-11-07"},null,null,{"$f":"$D$786","v":"2018-03-06"},null,null,null,{"$f":"$A$786","v":"2017-11-07"},null,null,{"$f":"$D$786","v":"2018-03-06"},null,null,null,{"$f":"$A$786","v":"2017-11-07"},null,null,{"$f":"$D$786","v":"2018-03-06"},null,null,null,10,{"$f":"$A$786","v":"2017-11-07"},null,null,"2016-03-08",null,null,null,25,10,"2017-11-07",0,25,"2018-03-06",0,null,null,null,null,null,"April  - 2 weeks $34",null,"April  - 2 weeks $34",null,"April  - 2 weeks $34"]
[{"$f":"$A$787","v":"2017-11-14"},null,null,{"$f":"$D$787","v":"2018-03-13"},null,null,null,{"$f":"$A$787","v":"2017-11-14"},null,null,{"$f":"$D$787","v":"2018-03-13"},null,null,null,{"$f":"$A$787","v":"2017-11-14"},null,null,{"$f":"$D$787","v":"2018-03-13"},null,null,null,11,{"$f":"$A$787","v":"2017-11-14"},null,null,"2016-03-15",null,null,null,26,11,"2017-11-14",0,26,"2018-03-13",0,null,null,null,null,null,"Full Season - 31 Weeks $527",null,"Full Season - 31 Weeks $527",null,"Full Season - 31 Weeks $527"]
[{"$f":"$A$788","v":"2017-11-21"},null,null,{"$f":"$D$788","v":"2018-03-20"},null,null,null,{"$f":"$A$788","v":"2017-11-21"},null,null,{"$f":"$D$788","v":"2018-03-20"},null,null,null,{"$f":"$A$788","v":"2017-11-21"},null,null,{"$f":"$D$788","v":"2018-03-20"},null,null,null,12,{"$f":"$A$788","v":"2017-11-21"},null,null,"2016-03-22",null,null,null,27,12,"2017-11-21",0,27,"2018-03-20",0]
[{"$f":"$A$789","v":"2017-11-28"},null,null,{"$f":"$D$789","v":"2018-03-27"},null,null,null,{"$f":"$A$789","v":"2017-11-28"},null,null,{"$f":"$D$789","v":"2018-03-27"},null,null,null,{"$f":"$A$789","v":"2017-11-28"},null,null,{"$f":"$D$789","v":"2018-03-27"},null,null,null,13,{"$f":"$A$789","v":"2017-11-28"},null,null,"2016-03-29",null,null,null,28,13,"2017-11-28",0,28,"2018-03-27",0]
[{"$f":"$A$790","v":"2017-12-05"},null,null,{"$f":"$D$790","v":"2018-04-03"},null,null,null,{"$f":"$A$790","v":"2017-12-05"},null,null,{"$f":"$D$790","v":"2018-04-03"},null,null,null,{"$f":"$A$790","v":"2017-12-05"},null,null,{"$f":"$D$790","v":"2018-04-03"},null,null,null,14,{"$f":"$A$790","v":"2017-12-05"},null,null,"2016-04-05",null,null,null,29,14,"2017-12-05",0,29,"2018-04-03",0]
[{"$f":"$A$791","v":"2017-12-12"},null,null,{"$f":"$D$791","v":"2018-04-10"},null,null,null,{"$f":"$A$791","v":"2017-12-12"},null,null,{"$f":"$D$791","v":"2018-04-10"},null,null,null,{"$f":"$A$791","v":"2017-12-12"},null,null,{"$f":"$D$791","v":"2018-04-10"},null,null,null,null,{"$f":"$A$791","v":"2017-12-12"},null,null,"2016-04-12",null,null,null,30,15,"2017-12-12",0,30,"2018-04-10",0]
[{"$f":"$A$792","v":"2017-12-19"},null,null,{"$f":"$D$792","v":"00:00:00"},"Total",{"$f":"SUM(C75:C90,F75:F89)","v":0},null,{"$f":"$A$792","v":"2017-12-19"},null,null,{"$f":"$D$792","v":"00:00:00"},"Total",{"$f":"SUM(J75:J90,M75:M89)","v":0},null,{"$f":"$A$792","v":"2017-12-19"},null,null,null,"Total",{"$f":"SUM(Q75:Q90,T75:T89)","v":0},null,15,null,null,null,"2016-04-19",null,null,null,31,16,"2017-12-19",0]
["USBC",24,"Paid This League",null,null,null,null,"USBC",null,"Paid Pony League",null,null,null,null,"USBC",24,"Paid This League"]
["Fees",{"$f":"$AL$5*B93","v":527},"Total",{"$f":"B92+B91","v":551},"Balance",{"$f":"D92-F90","v":551},null,"Fees",{"$f":"$AL$5*I93","v":527},"Total",{"$f":"I92+I91","v":527},"Balance",{"$f":"K92-M90","v":527},null,"Fees",{"$f":"$AL$5*P93","v":527},"Total",{"$f":"P92+P91","v":551},"Balance",{"$f":"R92-T90","v":551}]
["Wks",{"$f":"$AL$6","v":31},{"$f":"$AL$5*B93","v":527},"ID",41,null,null,"Wks",{"$f":"$AL$6","v":31},{"$f":"$AL$5*I93","v":527},"ID",42,null,null,"Wks",{"$f":"$AL$6","v":31},{"$f":"$AL$5*P93","v":527},"ID",43]
[51,5,null,null,null,null,null,52,null,null,null,null,null,null,53]
[{"$f":"\"Team \"&VLOOKUP($E116,Roster!$A$2:$AF$33,2)&\"  \"&_xlfn.IFNA(VLOOKUP($E116,Roster!$A$2:$AF$33,3,0),0)","v":"Team 5  "}]
[{"$f":"_xlfn.IFNA(VLOOKUP(E116,Roster!$A$2:$AF$33,8,0),0)&IF(F116=\"\",\"\",\" / \"&VLOOKUP(F116,Roster!$A$2:$AF$33,8,0))","v":"Dana Barrette"},null,null,null,null,null,null,{"$f":"_xlfn.IFNA(VLOOKUP(L116,Roster!$A$2:$AF$33,8,0),0)&IF(M116=\"\",\"\",\" / \"&VLOOKUP(M116,Roster!$A$2:$AF$33,8,0))","v":"Larry Latham"},null,null,null,null,null,null,{"$f":"_xlfn.IFNA(VLOOKUP(S116,Roster!$A$2:$AF$33,8,0),0)&IF(T116=\"\",\"\",\" / \"&VLOOKUP(T116,Roster!$A$2:$AF$33,8,0))","v":"Bob Reed"},null,null,null,null,null,null,{"$f":"IF(ISNA(LOOKUP(#REF!,#REF!,#REF!)),\"\",IF(LOOKUP(#REF!,#REF!,#REF!)>\"\",LOOKUP(#REF!,#REF!,#REF!)&\" / \"&LOOKUP(#REF!,#REF!,#REF!),LOOKUP(#REF!,#REF!,#REF!)))","v":{"$error":"#REF!"}},null,null,null,null,null,null,5]
["Date","Ref","Amt","Date","Ref","Amt",null,"Date","Ref","Amt","Date","Ref","Amt",null,"Date","Ref","Amt","Date","Ref","Amt",null,"Wk","Date","Ref","Amt","Date","Ref","Amt",null,null,"Weekly Team Summary"]
[{"$f":"$A$777","v":"2017-09-05"},null,null,{"$f":"$D$777","v":"2018-01-02"},null,null,null,{"$f":"$A$777","v":"2017-09-05"},null,null,{"$f":"$D$777","v":"2018-01-02"},null,null,null,{"$f":"$A$777","v":"2017-09-05"},null,null,{"$f":"$D$777","v":"2018-01-02"},null,null,null,1,{"$f":"$A$777","v":"2017-09-05"},null,null,"2016-01-05",null,"Owed",null,16,1,{"$f":"A98","v":"2017-09-05"},{"$f":"C98+J98+Q98","v":0},{"$f":"AE112+1","v":16},{"$f":"D98","v":"2018-01-02"},{"$f":"F98+M98+T98","v":0},null,"1900-02-19"]
[{"$f":"$A$778","v":"2017-09-12"},null,null,{"$f":"$D$778","v":"2018-01-09"},null,null,null,{"$f":"$A$778","v":"2017-09-12"},null,null,{"$f":"$D$778","v":"2018-01-09"},null,null,null,{"$f":"$A$778","v":"2017-09-12"},null,null,{"$f":"$D$778","v":"2018-01-09"},null,null,null,2,{"$f":"$A$778","v":"2017-09-12"},null,null,{"$f":"Z98+7","v":"2016-01-12"},null,null,null,{"$f":"AD98+1","v":17},{"$f":"AE98+1","v":2},"2017-09-12",{"$f":"C99+J99+Q99+Y99","v":0},{"$f":"AH98+1","v":17},"2018-01-09",{"$f":"F99+M99+T99+AB99","v":0},null,60]
[{"$f":"$A$779","v":"2017-09-19"},null,null,{"$f":"$D$779","v":"2018-01-16"},null,null,null,{"$f":"$A$779","v":"2017-09-19"},null,null,{"$f":"$D$779","v":"2018-01-16"},null,null,null,{"$f":"$A$779","v":"2017-09-19"},null,null,{"$f":"$D$779","v":"2018-01-16"},null,null,null,3,{"$f":"$A$779","v":"2017-09-19"},null,null,{"$f":"Z99+7","v":"2016-01-19"},null,null,null,{"$f":"AD99+1","v":18},{"$f":"AE99+1","v":3},"2017-09-19",0,{"$f":"AH99+1","v":18},"2018-01-16",0,null,60]
[{"$f":"$A$780","v":"2017-09-26"},null,null,{"$f":"$D$780","v":"2018-01-23"},null,null,null,{"$f":"$A$780","v":"2017-09-26"},null,null,{"$f":"$D$780","v":"2018-01-23"},null,null,null,{"$f":"$A$780","v":"2017-09-26"},null,null,{"$f":"$D$780","v":"2018-01-23"},null,null,null,4,{"$f":"$A$780","v":"2017-09-26"},null,null,"2016-01-26",null,null,null,19,4,"2017-09-26",0,19,"2018-01-23",0,null,"1900-01-16"]
[{"$f":"$A$781","v":"2017-10-03"},null,null,{"$f":"$D$781","v":"2018-01-30"},null,null,null,{"$f":"$A$781","v":"2017-10-03"},null,null,{"$f":"$D$781","v":"2018-01-30"},null,null,null,{"$f":"$A$781","v":"2017-10-03"},null,null,{"$f":"$D$781","v":"2018-01-30"},null,null,null,5,{"$f":"$A$781","v":"2017-10-03"},null,null,"2016-02-02",null,null,null,20,5,"2017-10-03",0,20,"2018-01-30",0,null,"1900-02-11"]
[{"$f":"$A$782","v":"2017-10-10"},null,null,{"$f":"$D$782","v":"2018-02-06"},null,null,null,{"$f":"$A$782","v":"2017-10-10"},null,null,{"$f":"$D$782","v":"2018-02-06"},null,null,null,{"$f":"$A$782","v":"2017-10-10"},null,null,{"$f":"$D$782","v":"2018-02-06"},null,null,null,6,{"$f":"$A$782","v":"2017-10-10"},null,null,"2016-02-09",null,null,null,21,6,"2017-10-10",0,21,"2018-02-06",0,null,"1900-01-16"]
[{"$f":"$A$783","v":"2017-10-17"},null,null,{"$f":"$D$783","v":"2018-02-13"},null,null,null,{"$f":"$A$783","v":"2017-10-17"},null,null,{"$f":"$D$783","v":"2018-02-13"},null,null,null,{"$f":"$A$783","v":"2017-10-17"},null,null,{"$f":"$D$783","v":"2018-02-13"},null,null,null,7,{"$f":"$A$783","v":"2017-10-17"},null,null,"2016-02-16",null,null,null,22,7,"2017-10-17",0,22,"2018-02-13",0,null,"1900-01-16"]
[{"$f":"$A$784","v":"2017-10-24"},null,null,{"$f":"$D$784","v":"2018-02-20"},null,null,null,{"$f":"$A$784","v":"2017-10-24"},null,null,{"$f":"$D$784","v":"2018-02-20"},null,null,null,{"$f":"$A$784","v":"2017-10-24"},null,null,{"$f":"$D$784","v":"2018-02-20"},null,null,null,8,{"$f":"$A$784","v":"2017-10-24"},null,null,"2016-02-23",null,null,null,23,8,"2017-10-24",0,23,"2018-02-20",0,null,"1900-01-16"]
[{"$f":"$A$785","v":"2017-10-31"},null,null,{"$f":"$D$785","v":"2018-02-27"},null,null,null,{"$f":"$A$785","v":"2017-10-31"},null,null,{"$f":"$D$785","v":"2018-02-27"},null,null,null,{"$f":"$A$785","v":"2017-10-31"},null,null,{"$f":"$D$785","v":"2018-02-27"},null,null,null,9,{"$f":"$A$785","v":"2017-10-31"},null,null,"2016-03-01",null,null,null,24,9,"2017-10-31",0,24,"2018-02-27",0,null,"1900-01-16"]
[{"$f":"$A$786","v":"2017-11-07"},null,null,{"$f":"$D$786","v":"2018-03-06"},null,null,null,{"$f":"$A$786","v":"2017-11-07"},null,null,{"$f":"$D$786","v":"2018-03-06"},null,null,null,{"$f":"$A$786","v":"2017-11-07"},null,null,{"$f":"$D$786","v":"2018-03-06"},null,null,null,10,{"$f":"$A$786","v":"2017-11-07"},null,null,"2016-03-08",null,null,null,25,10,"2017-11-07",0,25,"2018-03-06",0,null,"1900-02-20"]
[{"$f":"$A$787","v":"2017-11-14"},null,null,{"$f":"$D$787","v":"2018-03-13"},null,null,null,{"$f":"$A$787","v":"2017-11-14"},null,null,{"$f":"$D$787","v":"2018-03-13"},null,null,null,{"$f":"$A$787","v":"2017-11-14"},null,null,{"$f":"$D$787","v":"2018-03-13"},null,null,null,11,{"$f":"$A$787","v":"2017-11-14"},null,null,"2016-03-15",null,null,null,26,11,"2017-11-14",0,26,"2018-03-13",0,null,{"$f":"SUM(AL98:AL107)","v":"1900-12-08"}]
[{"$f":"$A$788","v":"2017-11-21"},null,null,{"$f":"$D$788","v":"2018-03-20"},null,null,null,{"$f":"$A$788","v":"2017-11-21"},null,null,{"$f":"$D$788","v":"2018-03-20"},null,null,null,{"$f":"$A$788","v":"2017-11-21"},null,null,{"$f":"$D$788","v":"2018-03-20"},null,null,null,12,{"$f":"$A$788","v":"2017-11-21"},null,null,"2016-03-22",null,null,null,27,12,"2017-11-21",0,27,"2018-03-20",0,null,"1900-01-16T12:00:00"]
[{"$f":"$A$789","v":"2017-11-28"},null,null,{"$f":"$D$789","v":"2018-03-27"},null,null,null,{"$f":"$A$789","v":"2017-11-28"},null,null,{"$f":"$D$789","v":"2018-03-27"},null,null,null,{"$f":"$A$789","v":"2017-11-28"},null,null,{"$f":"$D$789","v":"2018-03-27"},null,null,null,13,{"$f":"$A$789","v":"2017-11-28"},null,null,"2016-03-29",null,null,null,28,13,"2017-11-28",0,28,"2018-03-27",0,null,"1900-01-21"]
[{"$f":"$A$790","v":"2017-12-05"},null,null,{"$f":"$D$790","v":"2018-04-03"},null,null,null,{"$f":"$A$790","v":"2017-12-05"},null,null,{"$f":"$D$790","v":"2018-04-03"},null,null,null,{"$f":"$A$790","v":"2017-12-05"},null,null,{"$f":"$D$790","v":"2018-04-03"},null,null,null,14,{"$f":"$A$790","v":"2017-12-05"},null,null,"2016-04-05",null,null,null,29,14,"2017-12-05",0,29,"2018-04-03",0,null,"12:00:00"]
[{"$f":"$A$791","v":"2017-12-12"},null,null,{"$f":"$D$791","v":"2018-04-10"},null,null,null,{"$f":"$A$791","v":"2017-12-12"},null,null,{"$f":"$D$791","v":"2018-04-10"},null,null,null,{"$f":"$A$791","v":"2017-12-12"},null,null,{"$f":"$D$791","v":"2018-04-10"},null,null,null,null,{"$f":"$A$791","v":"2017-12-12"},null,null,"2016-04-12",null,null,null,30,15,"2017-12-12",0,30,"2018-04-10",0,null,{"$f":"AL108-AL109-AL110-AL111","v":"1900-10-31"}]
[{"$f":"$A$792","v":"2017-12-19"},null,null,{"$f":"$D$792","v":"00:00:00"},"Total",{"$f":"SUM(C98:C113,F98:F112)","v":0},null,{"$f":"$A$792","v":"2017-12-19"},null,null,{"$f":"$D$792","v":"00:00:00"},"Total",{"$f":"SUM(J98:J113,M98:M112)","v":0},null,{"$f":"$A$792","v":"2017-12-19"},null,null,null,"Total",{"$f":"SUM(Q98:Q113,T98:T112)","v":0},null,15,null,null,null,"2016-04-19",null,null,null,31,16,"2017-12-19",0,null,null,null,null,{"$f":"AL112/16","v":"1900-01-19T01:30:00"}]
["USBC",24,"Paid This League",null,null,null,null,"USBC",24,"Paid This League",null,null,null,null,"USBC",null,"Paid Online",null,null,null,null,null,null,null,null,null,null,null,null,null,{"$f":"Q98+Q101+Q109+T98","v":0}]
["Fees",{"$f":"$AL$5*B116","v":527},"Total",{"$f":"B115+B114","v":551},"Balance",{"$f":"D115-F113","v":551},null,"Fees",{"$f":"$AL$5*I116","v":527},"Total",{"$f":"I115+I114","v":551},"Balance",{"$f":"K115-M113","v":551},null,"Fees",{"$f":"$AL$5*P116","v":527},"Total",{"$f":"P115+P114","v":527},"Balance",{"$f":"R115-T113","v":527}]
["Wks",{"$f":"$AL$6","v":31},{"$f":"$AL$5*B116","v":527},"ID",51,null,null,"Wks",{"$f":"$AL$6","v":31},{"$f":"$AL$5*I116","v":527},"ID",52,null,null,"Wks",{"$f":"$AL$6","v":31},{"$f":"$AL$5*P116","v":527},"ID",53]
[61,6,null,null,null,null,null,62,null,null,null,null,null,null,63]
[{"$f":"\"Team \"&VLOOKUP($E139,Roster!$A$2:$AF$33,2)&\"  \"&_xlfn.IFNA(VLOOKUP($E139,Roster!$A$2:$AF$33,3,0),0)","v":"Team 6  0"}]
[{"$f":"_xlfn.IFNA(VLOOKUP(E139,Roster!$A$2:$AF$33,8,0),0)&IF(F139=\"\",\"\",\" / \"&VLOOKUP(F139,Roster!$A$2:$AF$33,8,0))","v":{"$error":"#N/A"}},null,null,null,null,null,null,{"$f":"_xlfn.IFNA(VLOOKUP(L139,Roster!$A$2:$AF$33,8,0),0)&IF(M139=\"\",\"\",\" / \"&VLOOKUP(M139,Roster!$A$2:$AF$33,8,0))","v":"Mike Watt"},null,null,null,null,null,null,{"$f":"_xlfn.IFNA(VLOOKUP(S139,Roster!$A$2:$AF$33,8,0),0)&IF(T139=\"\",\"\",\" / \"&VLOOKUP(T139,Roster!$A$2:$AF$33,8,0))","v":"0"},null,null,null,null,null,null,{"$f":"IF(ISNA(LOOKUP(#REF!,#REF!,#REF!)),\"\",IF(LOOKUP(#REF!,#REF!,#REF!)>\"\",LOOKUP(#REF!,#REF!,#REF!)&\" / \"&LOOKUP(#REF!,#REF!,#REF!),LOOKUP(#REF!,#REF!,#REF!)))","v":{"$error":"#REF!"}},null,null,null,null,null,null,6]
["Date","Ref","Amt","Date","Ref","Amt",null,"Date","Ref","Amt","Date","Ref","Amt",null,"Date","Ref","Amt","Date","Ref","Amt",null,"Wk","Date","Ref","Amt","Date","Ref","Amt",null,null,"Weekly Team Summary"]
[{"$f":"$A$777","v":"2017-09-05"},null,null,{"$f":"$D$777","v":"2018-01-02"},null,null,null,{"$f":"$A$777","v":"2017-09-05"},null,null,{"$f":"$D$777","v":"2018-01-02"},null,null,null,{"$f":"$A$777","v":"2017-09-05"},null,null,{"$f":"$D$777","v":"2018-01-02"},null,null,null,1,{"$f":"$A$777","v":"2017-09-05"},null,null,"2016-01-05",null,null,null,16,1,{"$f":"A121","v":"2017-09-05"},{"$f":"C121+J121+Q121","v":0},{"$f":"AE135+1","v":16},{"$f":"D121","v":"2018-01-02"},{"$f":"F121+M121+T121+AB121","v":0}]
[{"$f":"$A$778","v":"2017-09-12"},null,null,{"$f":"$D$778","v":"2018-01-09"},null,null,null,{"$f":"$A$778","v":"2017-09-12"},null,null,{"$f":"$D$778","v":"2018-01-09"},null,null,null,{"$f":"$A$778","v":"2017-09-12"},null,null,{"$f":"$D$778","v":"2018-01-09"},null,null,null,2,{"$f":"$A$778","v":"2017-09-12"},null,null,{"$f":"Z121+7","v":"2016-01-12"},null,null,null,{"$f":"AD121+1","v":17},{"$f":"AE121+1","v":2},"2017-09-12",{"$f":"C122+J122+Q122+Y122","v":0},{"$f":"AH121+1","v":17},"2018-01-09",0]
[{"$f":"$A$779","v":"2017-09-19"},null,null,{"$f":"$D$779","v":"2018-01-16"},null,null,null,{"$f":"$A$779","v":"2017-09-19"},null,null,{"$f":"$D$779","v":"2018-01-16"},null,null,null,{"$f":"$A$779","v":"2017-09-19"},null,null,{"$f":"$D$779","v":"2018-01-16"},null,null,null,3,{"$f":"$A$779","v":"2017-09-19"},null,null,{"$f":"Z122+7","v":"2016-01-19"},null,null,null,{"$f":"AD122+1","v":18},{"$f":"AE122+1","v":3},"2017-09-19",0,{"$f":"AH122+1","v":18},"2018-01-16",0]
[{"$f":"$A$780","v":"2017-09-26"},null,null,{"$f":"$D$780","v":"2018-01-23"},null,null,null,{"$f":"$A$780","v":"2017-09-26"},null,null,{"$f":"$D$780","v":"2018-01-23"},null,null,null,{"$f":"$A$780","v":"2017-09-26"},null,null,{"$f":"$D$780","v":"2018-01-23"},null,null,null,4,{"$f":"$A$780","v":"2017-09-26"},null,null,"2016-01-26",null,null,null,19,4,"2017-09-26",0,19,"2018-01-23",0]
[{"$f":"$A$781","v":"2017-10-03"},null,null,{"$f":"$D$781","v":"2018-01-30"},null,null,null,{"$f":"$A$781","v":"2017-10-03"},null,null,{"$f":"$D$781","v":"2018-01-30"},null,null,null,{"$f":"$A$781","v":"2017-10-03"},null,null,{"$f":"$D$781","v":"2018-01-30"},null,null,{"$f":"85-52","v":33},5,{"$f":"$A$781","v":"2017-10-03"},null,null,"2016-02-02",null,null,null,20,5,"2017-10-03",0,20,"2018-01-30",0]
[{"$f":"$A$782","v":"2017-10-10"},null,null,{"$f":"$D$782","v":"2018-02-06"},null,null,null,{"$f":"$A$782","v":"2017-10-10"},null,null,{"$f":"$D$782","v":"2018-02-06"},null,null,null,{"$f":"$A$782","v":"2017-10-10"},null,null,{"$f":"$D$782","v":"2018-02-06"},null,null,null,6,{"$f":"$A$782","v":"2017-10-10"},null,null,"2016-02-09",null,null,null,21,6,"2017-10-10",0,21,"2018-02-06",0]
[{"$f":"$A$783","v":"2017-10-17"},null,null,{"$f":"$D$783","v":"2018-02-13"},null,null,null,{"$f":"$A$783","v":"2017-10-17"},null,null,{"$f":"$D$783","v":"2018-02-13"},null,null,null,{"$f":"$A$783","v":"2017-10-17"},null,null,{"$f":"$D$783","v":"2018-02-13"},null,null,null,7,{"$f":"$A$783","v":"2017-10-17"},null,null,"2016-02-16",null,null,null,22,7,"2017-10-17",0,22,"2018-02-13",0]
[{"$f":"$A$784","v":"2017-10-24"},null,null,{"$f":"$D$784","v":"2018-02-20"},null,null,null,{"$f":"$A$784","v":"2017-10-24"},null,null,{"$f":"$D$784","v":"2018-02-20"},null,null,null,{"$f":"$A$784","v":"2017-10-24"},null,null,{"$f":"$D$784","v":"2018-02-20"},null,null,null,8,{"$f":"$A$784","v":"2017-10-24"},null,null,"2016-02-23",null,null,null,23,8,"2017-10-24",0,23,"2018-02-20",0]
[{"$f":"$A$785","v":"2017-10-31"},null,null,{"$f":"$D$785","v":"2018-02-27"},null,null,null,{"$f":"$A$785","v":"2017-10-31"},null,null,{"$f":"$D$785","v":"2018-02-27"},null,null,null,{"$f":"$A$785","v":"2017-10-31"},null,null,{"$f":"$D$785","v":"2018-02-27"},null,null,null,9,{"$f":"$A$785","v":"2017-10-31"},null,null,"2016-03-01",null,null,null,24,9,"2017-10-31",0,24,"2018-02-27",0]
[{"$f":"$A$786","v":"2017-11-07"},null,null,{"$f":"$D$786","v":"2018-03-06"},null,null,null,{"$f":"$A$786","v":"2017-11-07"},null,null,{"$f":"$D$786","v":"2018-03-06"},null,null,null,{"$f":"$A$786","v":"2017-11-07"},null,null,{"$f":"$D$786","v":"2018-03-06"},null,null,null,10,{"$f":"$A$786","v":"2017-11-07"},null,null,"2016-03-08",null,null,null,25,10,"2017-11-07",0,25,"2018-03-06",0]
[{"$f":"$A$787","v":"2017-11-14"},null,null,{"$f":"$D$787","v":"2018-03-13"},null,null,null,{"$f":"$A$787","v":"2017-11-14"},null,null,{"$f":"$D$787","v":"2018-03-13"},null,null,null,{"$f":"$A$787","v":"2017-11-14"},null,null,{"$f":"$D$787","v":"2018-03-13"},null,null,null,11,{"$f":"$A$787","v":"2017-11-14"},null,null,"2016-03-15",null,null,null,26,11,"2017-11-14",0,26,"2018-03-13",0]
[{"$f":"$A$788","v":"2017-11-21"},null,null,{"$f":"$D$788","v":"2018-03-20"},null,null,null,{"$f":"$A$788","v":"2017-11-21"},null,null,{"$f":"$D$788","v":"2018-03-20"},null,null,null,{"$f":"$A$788","v":"2017-11-21"},null,null,{"$f":"$D$788","v":"2018-03-20"},null,null,null,12,{"$f":"$A$788","v":"2017-11-21"},null,null,"2016-03-22",null,null,null,27,12,"2017-11-21",0,27,"2018-03-20",0]
[{"$f":"$A$789","v":"2017-11-28"},null,null,{"$f":"$D$789","v":"2018-03-27"},null,null,null,{"$f":"$A$789","v":"2017-11-28"},null,null,{"$f":"$D$789","v":"2018-03-27"},null,null,null,{"$f":"$A$789","v":"2017-11-28"},null,null,{"$f":"$D$789","v":"2018-03-27"},null,null,null,13,{"$f":"$A$789","v":"2017-11-28"},null,null,"2016-03-29",null,null,null,28,13,"2017-11-28",0,28,"2018-03-27",0]
[{"$f":"$A$790","v":"2017-12-05"},null,null,{"$f":"$D$790","v":"2018-04-03"},null,null,null,{"$f":"$A$790","v":"2017-12-05"},null,null,{"$f":"$D$790","v":"2018-04-03"},null,null,null,{"$f":"$A$790","v":"2017-12-05"},null,null,{"$f":"$D$790","v":"2018-04-03"},null,null,null,14,{"$f":"$A$790","v":"2017-12-05"},null,null,"2016-04-05",null,null,null,29,14,"2017-12-05",0,29,"2018-04-03",0]
[{"$f":"$A$791","v":"2017-12-12"},null,null,{"$f":"$D$791","v":"2018-04-10"},null,null,null,{"$f":"$A$791","v":"2017-12-12"},null,null,{"$f":"$D$791","v":"2018-04-10"},null,null,null,{"$f":"$A$791","v":"2017-12-12"},null,null,{"$f":"$D$791","v":"2018-04-10"},null,null,null,null,{"$f":"$A$791","v":"2017-12-12"},null,null,"2016-04-12",null,null,null,30,15,"2017-12-12",0,30,"2018-04-10",0]
[{"$f":"$A$792","v":"2017-12-19"},null,null,{"$f":"$D$792","v":"00:00:00"},"Total",{"$f":"SUM(C121:C136,F121:F135)","v":0},null,{"$f":"$A$792","v":"2017-12-19"},null,null,{"$f":"$D$792","v":"00:00:00"},"Total",{"$f":"SUM(J121:J136,M121:M135)","v":0},null,{"$f":"$A$792","v":"2017-12-19"},null,null,null,"Total",{"$f":"SUM(Q121:Q136,T121:T135)","v":0},null,15,null,null,null,"2016-04-19",null,null,null,31,16,"2017-12-19",0]
["USBC",null,"KP LSt, BP Classic, JC Classic",null,null,null,null,"USBC",null,"Paid This Thurs Night Classic",null,null,null,null,"USBC",null,"Paid Late Starters"]
["Fees",{"$f":"$AL$5*B139","v":527},"Total",{"$f":"B138+B137","v":527},"Balance",{"$f":"D138-F136","v":527},null,"Fees",{"$f":"$AL$5*I139","v":527},"Total",{"$f":"I138+I137","v":527},"Balance",{"$f":"K138-M136","v":527},null,"Fees",{"$f":"$AL$5*P139","v":527},"Total",{"$f":"P138+P137","v":527},"Balance",{"$f":"R138-T136","v":527}]
["Wks",{"$f":"$AL$6","v":31},{"$f":"$AL$5*B139","v":527},"ID",64,65,null,"Wks",{"$f":"$AL$6","v":31},{"$f":"$AL$5*I139","v":527},"ID",62,null,null,"Wks",{"$f":"$AL$6","v":31},{"$f":"$AL$5*P139","v":527},"ID",63]
[71,7,null,null,null,null,null,72,null,null,null,null,null,null,73]
[{"$f":"\"Team \"&VLOOKUP($E162,Roster!$A$2:$AF$33,2)&\"  \"&_xlfn.IFNA(VLOOKUP($E162,Roster!$A$2:$AF$33,3,0),0)","v":"Team 7  Bitburgers"}]
[{"$f":"_xlfn.IFNA(VLOOKUP(E162,Roster!$A$2:$AF$33,8,0),0)&IF(F162=\"\",\"\",\" / \"&VLOOKUP(F162,Roster!$A$2:$AF$33,8,0))","v":"Paul Kleckner"},null,null,null,null,null,null,{"$f":"_xlfn.IFNA(VLOOKUP(L162,Roster!$A$2:$AF$33,8,0),0)&IF(M162=\"\",\"\",\" / \"&VLOOKUP(M162,Roster!$A$2:$AF$33,8,0))","v":"Bob Edge"},null,null,null,null,null,null,{"$f":"_xlfn.IFNA(VLOOKUP(S162,Roster!$A$2:$AF$33,8,0),0)&IF(T162=\"\",\"\",\" / \"&VLOOKUP(T162,Roster!$A$2:$AF$33,8,0))","v":"Terry Camp"},null,null,null,null,null,null,{"$f":"IF(ISNA(LOOKUP(#REF!,#REF!,#REF!)),\"\",IF(LOOKUP(#REF!,#REF!,#REF!)>\"\",LOOKUP(#REF!,#REF!,#REF!)&\" / \"&LOOKUP(#REF!,#REF!,#REF!),LOOKUP(#REF!,#REF!,#REF!)))","v":{"$error":"#REF!"}},null,null,null,null,null,null,7]
["Date","Ref","Amt","Date","Ref","Amt",null,"Date","Ref","Amt","Date","Ref","Amt",null,"Date","Ref","Amt","Date","Ref","Amt",null,"Wk","Date","Ref","Amt","Date","Ref","Amt",null,null,"Weekly Team Summary"]
[{"$f":"$A$777","v":"2017-09-05"},null,null,{"$f":"$D$777","v":"2018-01-02"},null,null,null,{"$f":"$A$777","v":"2017-09-05"},null,null,{"$f":"$D$777","v":"2018-01-02"},null,null,null,{"$f":"$A$777","v":"2017-09-05"},null,null,{"$f":"$D$777","v":"2018-01-02"},null,null,null,1,{"$f":"$A$777","v":"2017-09-05"},null,null,"2016-01-05",null,null,null,16,1,{"$f":"A144","v":"2017-09-05"},{"$f":"C144+J144+Q144","v":0},{"$f":"AE158+1","v":16},{"$f":"D144","v":"2018-01-02"},{"$f":"F144+M144+T144+AB144","v":0}]
[{"$f":"$A$778","v":"2017-09-12"},null,null,{"$f":"$D$778","v":"2018-01-09"},null,null,null,{"$f":"$A$778","v":"2017-09-12"},null,null,{"$f":"$D$778","v":"2018-01-09"},null,null,null,{"$f":"$A$778","v":"2017-09-12"},null,null,{"$f":"$D$778","v":"2018-01-09"},null,null,null,2,{"$f":"$A$778","v":"2017-09-12"},null,null,{"$f":"Z144+7","v":"2016-01-12"},null,null,null,{"$f":"AD144+1","v":17},{"$f":"AE144+1","v":2},"2017-09-12",{"$f":"C145+J145+Q145+Y145","v":0},{"$f":"AH144+1","v":17},"2018-01-09",0]
[{"$f":"$A$779","v":"2017-09-19"},null,null,{"$f":"$D$779","v":"2018-01-16"},null,null,null,{"$f":"$A$779","v":"2017-09-19"},null,null,{"$f":"$D$779","v":"2018-01-16"},null,null,null,{"$f":"$A$779","v":"2017-09-19"},null,null,{"$f":"$D$779","v":"2018-01-16"},null,null,null,3,{"$f":"$A$779","v":"2017-09-19"},null,null,{"$f":"Z145+7","v":"2016-01-19"},null,null,null,{"$f":"AD145+1","v":18},{"$f":"AE145+1","v":3},"2017-09-19",0,{"$f":"AH145+1","v":18},"2018-01-16",0]
[{"$f":"$A$780","v":"2017-09-26"},null,null,{"$f":"$D$780","v":"2018-01-23"},null,null,null,{"$f":"$A$780","v":"2017-09-26"},null,null,{"$f":"$D$780","v":"2018-01-23"},null,null,null,{"$f":"$A$780","v":"2017-09-26"},null,null,{"$f":"$D$780","v":"2018-01-23"},null,null,null,4,{"$f":"$A$780","v":"2017-09-26"},null,null,"2016-01-26",null,null,null,19,4,"2017-09-26",0,19,"2018-01-23",0]
[{"$f":"$A$781","v":"2017-10-03"},null,null,{"$f":"$D$781","v":"2018-01-30"},null,null,null,{"$f":"$A$781","v":"2017-10-03"},null,null,{"$f":"$D$781","v":"2018-01-30"},null,null,null,{"$f":"$A$781","v":"2017-10-03"},null,null,{"$f":"$D$781","v":"2018-01-30"},null,null,null,5,{"$f":"$A$781","v":"2017-10-03"},null,null,"2016-02-02",null,null,null,20,5,"2017-10-03",0,20,"2018-01-30",0]
[{"$f":"$A$782","v":"2017-10-10"},null,null,{"$f":"$D$782","v":"2018-02-06"},null,null,null,{"$f":"$A$782","v":"2017-10-10"},null,null,{"$f":"$D$782","v":"2018-02-06"},null,null,null,{"$f":"$A$782","v":"2017-10-10"},null,null,{"$f":"$D$782","v":"2018-02-06"},null,null,null,6,{"$f":"$A$782","v":"2017-10-10"},null,null,"2016-02-09",null,null,null,21,6,"2017-10-10",0,21,"2018-02-06",0]
[{"$f":"$A$783","v":"2017-10-17"},null,null,{"$f":"$D$783","v":"2018-02-13"},null,null,null,{"$f":"$A$783","v":"2017-10-17"},null,null,{"$f":"$D$783","v":"2018-02-13"},null,null,null,{"$f":"$A$783","v":"2017-10-17"},null,null,{"$f":"$D$783","v":"2018-02-13"},null,null,null,7,{"$f":"$A$783","v":"2017-10-17"},null,null,"2016-02-16",null,null,null,22,7,"2017-10-17",0,22,"2018-02-13",0]
[{"$f":"$A$784","v":"2017-10-24"},null,null,{"$f":"$D$784","v":"2018-02-20"},null,null,null,{"$f":"$A$784","v":"2017-10-24"},null,null,{"$f":"$D$784","v":"2018-02-20"},null,null,null,{"$f":"$A$784","v":"2017-10-24"},null,null,{"$f":"$D$784","v":"2018-02-20"},null,null,null,8,{"$f":"$A$784","v":"2017-10-24"},null,null,"2016-02-23",null,null,null,23,8,"2017-10-24",0,23,"2018-02-20",0]
[{"$f":"$A$785","v":"2017-10-31"},null,null,{"$f":"$D$785","v":"2018-02-27"},null,null,null,{"$f":"$A$785","v":"2017-10-31"},null,null,{"$f":"$D$785","v":"2018-02-27"},null,null,null,{"$f":"$A$785","v":"2017-10-31"},null,null,{"$f":"$D$785","v":"2018-02-27"},null,null,null,9,{"$f":"$A$785","v":"2017-10-31"},null,null,"2016-03-01",null,null,null,24,9,"2017-10-31",0,24,"2018-02-27",0]
[{"$f":"$A$786","v":"2017-11-07"},null,null,{"$f":"$D$786","v":"2018-03-06"},null,null,null,{"$f":"$A$786","v":"2017-11-07"},null,null,{"$f":"$D$786","v":"2018-03-06"},null,null,null,{"$f":"$A$786","v":"2017-11-07"},null,null,{"$f":"$D$786","v":"2018-03-06"},null,null,null,10,{"$f":"$A$786","v":"2017-11-07"},null,null,"2016-03-08",null,null,null,25,10,"2017-11-07",0,25,"2018-03-06",0]
[{"$f":"$A$787","v":"2017-11-14"},null,null,{"$f":"$D$787","v":"2018-03-13"},null,null,null,{"$f":"$A$787","v":"2017-11-14"},null,null,{"$f":"$D$787","v":"2018-03-13"},null,null,null,{"$f":"$A$787","v":"2017-11-14"},null,null,{"$f":"$D$787","v":"2018-03-13"},null,null,null,11,{"$f":"$A$787","v":"2017-11-14"},null,null,"2016-03-15",null,null,null,26,11,"2017-11-14",0,26,"2018-03-13",0]
[{"$f":"$A$788","v":"2017-11-21"},null,null,{"$f":"$D$788","v":"2018-03-20"},null,null,null,{"$f":"$A$788","v":"2017-11-21"},null,null,{"$f":"$D$788","v":"2018-03-20"},null,null,null,{"$f":"$A$788","v":"2017-11-21"},null,null,{"$f":"$D$788","v":"2018-03-20"},null,null,null,12,{"$f":"$A$788","v":"2017-11-21"},null,null,"2016-03-22",null,null,null,27,12,"2017-11-21",0,27,"2018-03-20",0]
[{"$f":"$A$789","v":"2017-11-28"},null,null,{"$f":"$D$789","v":"2018-03-27"},null,null,null,{"$f":"$A$789","v":"2017-11-28"},null,null,{"$f":"$D$789","v":"2018-03-27"},null,null,null,{"$f":"$A$789","v":"2017-11-28"},null,null,{"$f":"$D$789","v":"2018-03-27"},null,null,null,13,{"$f":"$A$789","v":"2017-11-28"},null,null,"2016-03-29",null,null,null,28,13,"2017-11-28",0,28,"2018-03-27",0]
[{"$f":"$A$790","v":"2017-12-05"},null,null,{"$f":"$D$790","v":"2018-04-03"},null,null,null,{"$f":"$A$790","v":"2017-12-05"},null,null,{"$f":"$D$790","v":"2018-04-03"},null,null,null,{"$f":"$A$790","v":"2017-12-05"},null,null,{"$f":"$D$790","v":"2018-04-03"},null,null,null,14,{"$f":"$A$790","v":"2017-12-05"},null,null,"2016-04-05",null,null,null,29,14,"2017-12-05",0,29,"2018-04-03",0]
[{"$f":"$A$791","v":"2017-12-12"},null,null,{"$f":"$D$791","v":"2018-04-10"},null,null,null,{"$f":"$A$791","v":"2017-12-12"},null,null,{"$f":"$D$791","v":"2018-04-10"},null,null,null,{"$f":"$A$791","v":"2017-12-12"},null,null,{"$f":"$D$791","v":"2018-04-10"},null,null,null,null,{"$f":"$A$791","v":"2017-12-12"},null,null,"2016-04-12",null,null,null,30,15,"2017-12-12",0,30,"2018-04-10",0]
[{"$f":"$A$792","v":"2017-12-19"},null,null,{"$f":"$D$792","v":"00:00:00"},"Total",{"$f":"SUM(C144:C159,F144:F158)","v":0},null,{"$f":"$A$792","v":"2017-12-19"},null,null,{"$f":"$D$792","v":"00:00:00"},"Total",{"$f":"SUM(J144:J159,M144:M158)","v":0},null,{"$f":"$A$792","v":"2017-12-19"},null,null,null,"Total",{"$f":"SUM(Q144:Q159,T144:T158)","v":0},null,15,null,null,null,"2016-04-19",null,null,null,31,16,"2017-12-19",0]
["USBC",24,"Paid This League",null,null,null,null,"USBC",24,"Paid This League",null,null,null,null,"USBC",24,"Paid This League"]
["Fees",{"$f":"$AL$5*B162","v":527},"Total",{"$f":"B161+B160","v":551},"Balance",{"$f":"D161-F159","v":551},null,"Fees",{"$f":"$AL$5*I162","v":527},"Total",{"$f":"I161+I160","v":551},"Balance",{"$f":"K161-M159","v":551},null,"Fees",{"$f":"$AL$5*P162","v":527},"Total",{"$f":"P161+P160","v":551},"Balance",{"$f":"R161-T159","v":551}]
["Wks",{"$f":"$AL$6","v":31},{"$f":"$AL$5*B162","v":527},"ID",71,null,null,"Wks",{"$f":"$AL$6","v":31},{"$f":"$AL$5*I162","v":527},"ID",72,null,null,"Wks",{"$f":"$AL$6","v":31},{"$f":"$AL$5*P162","v":527},"ID",73]
[81,8,null,null,null,null,null,82,null,null,null,null,null,null,83]
[{"$f":"\"Team \"&VLOOKUP($E185,Roster!$A$2:$AF$33,2)&\"  \"&_xlfn.IFNA(VLOOKUP($E185,Roster!$A$2:$AF$33,3,0),0)","v":"Team 8  Brenda's Kitchen"}]
[{"$f":"_xlfn.IFNA(VLOOKUP(E185,Roster!$A$2:$AF$33,8,0),0)&IF(F185=\"\",\"\",\" / \"&VLOOKUP(F185,Roster!$A$2:$AF$33,8,0))","v":"Dan Imholte"},null,null,null,null,null,null,{"$f":"_xlfn.IFNA(VLOOKUP(L185,Roster!$A$2:$AF$33,8,0),0)&IF(M185=\"\",\"\",\" / \"&VLOOKUP(M185,Roster!$A$2:$AF$33,8,0))","v":"Terry Hamman"},null,null,null,null,null,null,{"$f":"_xlfn.IFNA(VLOOKUP(S185,Roster!$A$2:$AF$33,8,0),0)&IF(T185=\"\",\"\",\" / \"&VLOOKUP(T185,Roster!$A$2:$AF$33,8,0))","v":"Gary Bentley"},null,null,null,null,null,null,{"$f":"IF(ISNA(LOOKUP(#REF!,#REF!,#REF!)),\"\",IF(LOOKUP(#REF!,#REF!,#REF!)>\"\",LOOKUP(#REF!,#REF!,#REF!)&\" / \"&LOOKUP(#REF!,#REF!,#REF!),LOOKUP(#REF!,#REF!,#REF!)))","v":{"$error":"#REF!"}},null,null,null,null,null,null,8]
["Date","Ref","Amt","Date","Ref","Amt",null,"Date","Ref","Amt","Date","Ref","Amt",null,"Date","Ref","Amt","Date","Ref","Amt",null,"Wk","Date","Ref","Amt","Date","Ref","Amt",null,null,"Weekly Team Summary"]
[{"$f":"$A$777","v":"2017-09-05"},null,null,{"$f":"$D$777","v":"2018-01-02"},null,null,null,{"$f":"$A$777","v":"2017-09-05"},null,null,{"$f":"$D$777","v":"2018-01-02"},null,null,null,{"$f":"$A$777","v":"2017-09-05"},null,null,{"$f":"$D$777","v":"2018-01-02"},null,null,null,1,{"$f":"$A$777","v":"2017-09-05"},null,null,"2016-01-05",null,null,null,16,1,{"$f":"A167","v":"2017-09-05"},{"$f":"C167+J167+Q167","v":0},{"$f":"AE181+1","v":16},{"$f":"D167","v":"2018-01-02"},{"$f":"F167+M167+T167+AB167","v":0}]
[{"$f":"$A$778","v":"2017-09-12"},null,null,{"$f":"$D$778","v":"2018-01-09"},null,null,null,{"$f":"$A$778","v":"2017-09-12"},null,null,{"$f":"$D$778","v":"2018-01-09"},null,null,null,{"$f":"$A$778","v":"2017-09-12"},null,null,{"$f":"$D$778","v":"2018-01-09"},null,null,null,2,{"$f":"$A$778","v":"2017-09-12"},null,null,{"$f":"Z167+7","v":"2016-01-12"},null,null,null,{"$f":"AD167+1","v":17},{"$f":"AE167+1","v":2},"2017-09-12",{"$f":"C168+J168+Q168+Y168","v":0},{"$f":"AH167+1","v":17},"2018-01-09",0]
[{"$f":"$A$779","v":"2017-09-19"},null,null,{"$f":"$D$779","v":"2018-01-16"},null,null,null,{"$f":"$A$779","v":"2017-09-19"},null,null,{"$f":"$D$779","v":"2018-01-16"},null,null,null,{"$f":"$A$779","v":"2017-09-19"},null,null,{"$f":"$D$779","v":"2018-01-16"},null,null,null,3,{"$f":"$A$779","v":"2017-09-19"},null,null,{"$f":"Z168+7","v":"2016-01-19"},null,null,null,{"$f":"AD168+1","v":18},{"$f":"AE168+1","v":3},"2017-09-19",0,{"$f":"AH168+1","v":18},"2018-01-16",0]
[{"$f":"$A$780","v":"2017-09-26"},null,null,{"$f":"$D$780","v":"2018-01-23"},null,null,null,{"$f":"$A$780","v":"2017-09-26"},null,null,{"$f":"$D$780","v":"2018-01-23"},null,null,null,{"$f":"$A$780","v":"2017-09-26"},null,null,{"$f":"$D$780","v":"2018-01-23"},null,null,null,4,{"$f":"$A$780","v":"2017-09-26"},null,null,"2016-01-26",null,null,null,19,4,"2017-09-26",0,19,"2018-01-23",0]
[{"$f":"$A$781","v":"2017-10-03"},null,null,{"$f":"$D$781","v":"2018-01-30"},null,null,null,{"$f":"$A$781","v":"2017-10-03"},null,null,{"$f":"$D$781","v":"2018-01-30"},null,null,null,{"$f":"$A$781","v":"2017-10-03"},null,null,{"$f":"$D$781","v":"2018-01-30"},null,null,null,5,{"$f":"$A$781","v":"2017-10-03"},null,null,"2016-02-02",null,null,null,20,5,"2017-10-03",0,20,"2018-01-30",0]
[{"$f":"$A$782","v":"2017-10-10"},null,null,{"$f":"$D$782","v":"2018-02-06"},null,null,null,{"$f":"$A$782","v":"2017-10-10"},null,null,{"$f":"$D$782","v":"2018-02-06"},null,null,null,{"$f":"$A$782","v":"2017-10-10"},null,null,{"$f":"$D$782","v":"2018-02-06"},null,null,null,6,{"$f":"$A$782","v":"2017-10-10"},null,null,"2016-02-09",null,null,null,21,6,"2017-10-10",0,21,"2018-02-06",0]
[{"$f":"$A$783","v":"2017-10-17"},null,null,{"$f":"$D$783","v":"2018-02-13"},null,null,null,{"$f":"$A$783","v":"2017-10-17"},null,null,{"$f":"$D$783","v":"2018-02-13"},null,null,null,{"$f":"$A$783","v":"2017-10-17"},null,null,{"$f":"$D$783","v":"2018-02-13"},null,null,null,7,{"$f":"$A$783","v":"2017-10-17"},null,null,"2016-02-16",null,null,null,22,7,"2017-10-17",0,22,"2018-02-13",0]
[{"$f":"$A$784","v":"2017-10-24"},null,null,{"$f":"$D$784","v":"2018-02-20"},null,null,null,{"$f":"$A$784","v":"2017-10-24"},null,null,{"$f":"$D$784","v":"2018-02-20"},null,null,null,{"$f":"$A$784","v":"2017-10-24"},null,null,{"$f":"$D$784","v":"2018-02-20"},null,null,null,8,{"$f":"$A$784","v":"2017-10-24"},null,null,"2016-02-23",null,null,null,23,8,"2017-10-24",0,23,"2018-02-20",0]
[{"$f":"$A$785","v":"2017-10-31"},null,null,{"$f":"$D$785","v":"2018-02-27"},null,null,null,{"$f":"$A$785","v":"2017-10-31"},null,null,{"$f":"$D$785","v":"2018-02-27"},null,null,null,{"$f":"$A$785","v":"2017-10-31"},null,null,{"$f":"$D$785","v":"2018-02-27"},null,null,null,9,{"$f":"$A$785","v":"2017-10-31"},null,null,"2016-03-01",null,null,null,24,9,"2017-10-31",0,24,"2018-02-27",0]
[{"$f":"$A$786","v":"2017-11-07"},null,null,{"$f":"$D$786","v":"2018-03-06"},null,null,null,{"$f":"$A$786","v":"2017-11-07"},null,null,{"$f":"$D$786","v":"2018-03-06"},null,null,null,{"$f":"$A$786","v":"2017-11-07"},null,null,{"$f":"$D$786","v":"2018-03-06"},null,null,null,10,{"$f":"$A$786","v":"2017-11-07"},null,null,"2016-03-08",null,null,null,25,10,"2017-11-07",0,25,"2018-03-06",0]
[{"$f":"$A$787","v":"2017-11-14"},null,null,{"$f":"$D$787","v":"2018-03-13"},null,null,null,{"$f":"$A$787","v":"2017-11-14"},null,null,{"$f":"$D$787","v":"2018-03-13"},null,null,null,{"$f":"$A$787","v":"2017-11-14"},null,null,{"$f":"$D$787","v":"2018-03-13"},null,null,null,11,{"$f":"$A$787","v":"2017-11-14"},null,null,"2016-03-15",null,null,null,26,11,"2017-11-14",0,26,"2018-03-13",0]
[{"$f":"$A$788","v":"2017-11-21"},null,null,{"$f":"$D$788","v":"2018-03-20"},null,null,null,{"$f":"$A$788","v":"2017-11-21"},null,null,{"$f":"$D$788","v":"2018-03-20"},null,null,null,{"$f":"$A$788","v":"2017-11-21"},null,null,{"$f":"$D$788","v":"2018-03-20"},null,null,null,12,{"$f":"$A$788","v":"2017-11-21"},null,null,"2016-03-22",null,null,null,27,12,"2017-11-21",0,27,"2018-03-20",0]
[{"$f":"$A$789","v":"2017-11-28"},null,null,{"$f":"$D$789","v":"2018-03-27"},null,null,null,{"$f":"$A$789","v":"2017-11-28"},null,null,{"$f":"$D$789","v":"2018-03-27"},null,null,null,{"$f":"$A$789","v":"2017-11-28"},null,null,{"$f":"$D$789","v":"2018-03-27"},null,null,null,13,{"$f":"$A$789","v":"2017-11-28"},null,null,"2016-03-29",null,null,null,28,13,"2017-11-28",0,28,"2018-03-27",0]
[{"$f":"$A$790","v":"2017-12-05"},null,null,{"$f":"$D$790","v":"2018-04-03"},null,null,null,{"$f":"$A$790","v":"2017-12-05"},null,null,{"$f":"$D$790","v":"2018-04-03"},null,null,null,{"$f":"$A$790","v":"2017-12-05"},null,null,{"$f":"$D$790","v":"2018-04-03"},null,null,null,14,{"$f":"$A$790","v":"2017-12-05"},null,null,"2016-04-05",null,null,null,29,14,"2017-12-05",0,29,"2018-04-03",0]
[{"$f":"$A$791","v":"2017-12-12"},null,null,{"$f":"$D$791","v":"2018-04-10"},null,null,null,{"$f":"$A$791","v":"2017-12-12"},null,null,{"$f":"$D$791","v":"2018-04-10"},null,null,null,{"$f":"$A$791","v":"2017-12-12"},null,null,{"$f":"$D$791","v":"2018-04-10"},null,null,null,null,{"$f":"$A$791","v":"2017-12-12"},null,null,"2016-04-12",null,null,null,30,15,"2017-12-12",0,30,"2018-04-10",0]
[{"$f":"$A$792","v":"2017-12-19"},null,null,{"$f":"$D$792","v":"00:00:00"},"Total",{"$f":"SUM(C167:C182,F167:F181)","v":0},null,{"$f":"$A$792","v":"2017-12-19"},null,null,{"$f":"$D$792","v":"00:00:00"},"Total",{"$f":"SUM(J167:J182,M167:M181)","v":0},null,{"$f":"$A$792","v":"2017-12-19"},null,null,null,"Total",{"$f":"SUM(Q167:Q182,T167:T181)","v":0},null,15,null,null,null,"2016-04-19",null,null,null,31,16,"2017-12-19",0]
["USBC",24,"Paid This League",null,null,null,null,"USBC",24,"Paid This League",null,null,null,null,"USBC",24,"Paid This League"]
["Fees",{"$f":"$AL$5*B185","v":527},"Total",{"$f":"B184+B183","v":551},"Balance",{"$f":"D184-F182","v":551},null,"Fees",{"$f":"$AL$5*I185","v":527},"Total",{"$f":"I184+I183","v":551},"Balance",{"$f":"K184-M182","v":551},null,"Fees",{"$f":"$AL$5*P185","v":527},"Total",{"$f":"P184+P183","v":551},"Balance",{"$f":"R184-T182","v":551}]
["Wks",{"$f":"$AL$6","v":31},{"$f":"$AL$5*B185","v":527},"ID",81,null,null,"Wks",{"$f":"$AL$6","v":31},{"$f":"$AL$5*I185","v":527},"ID",82,null,null,"Wks",{"$f":"$AL$6","v":31},{"$f":"$AL$5*P185","v":527},"ID",83]
[91,9,null,null,null,null,null,92,null,null,null,null,null,null,93]
[{"$f":"\"Team \"&VLOOKUP($E208,Roster!$A$2:$AF$33,2)&\"  \"&_xlfn.IFNA(VLOOKUP($E208,Roster!$A$2:$AF$33,3,0),0)","v":"Team 9  "}]
[{"$f":"_xlfn.IFNA(VLOOKUP(E208,Roster!$A$2:$AF$33,8,0),0)&IF(F208=\"\",\"\",\" / \"&VLOOKUP(F208,Roster!$A$2:$AF$33,8,0))","v":"Joe Couch"},null,null,null,null,null,null,{"$f":"_xlfn.IFNA(VLOOKUP(L208,Roster!$A$2:$AF$33,8,0),0)&IF(M208=\"\",\"\",\" / \"&VLOOKUP(M208,Roster!$A$2:$AF$33,8,0))","v":"Paul Williams"},null,null,null,null,null,null,{"$f":"_xlfn.IFNA(VLOOKUP(S208,Roster!$A$2:$AF$33,8,0),0)&IF(T208=\"\",\"\",\" / \"&VLOOKUP(T208,Roster!$A$2:$AF$33,8,0))","v":"Ted Bogumil"},null,null,null,null,null,null,{"$f":"IF(ISNA(LOOKUP(#REF!,#REF!,#REF!)),\"\",IF(LOOKUP(#REF!,#REF!,#REF!)>\"\",LOOKUP(#REF!,#REF!,#REF!)&\" / \"&LOOKUP(#REF!,#REF!,#REF!),LOOKUP(#REF!,#REF!,#REF!)))","v":{"$error":"#REF!"}},null,null,null,null,null,null,9]
["Date","Ref","Amt","Date","Ref","Amt",null,"Date","Ref","Amt","Date","Ref","Amt",null,"Date","Ref","Amt","Date","Ref","Amt",null,"Wk","Date","Ref","Amt","Date","Ref","Amt",null,null,"Weekly Team Summary"]
[{"$f":"$A$777","v":"2017-09-05"},null,null,{"$f":"$D$777","v":"2018-01-02"},null,null,null,{"$f":"$A$777","v":"2017-09-05"},null,null,{"$f":"$D$777","v":"2018-01-02"},null,null,null,{"$f":"$A$777","v":"2017-09-05"},null,null,{"$f":"$D$777","v":"2018-01-02"},null,null,null,1,{"$f":"$A$777","v":"2017-09-05"},null,null,"2016-01-05",null,null,null,16,1,{"$f":"A190","v":"2017-09-05"},{"$f":"C190+J190+Q190","v":0},{"$f":"AE204+1","v":16},{"$f":"D190","v":"2018-01-02"},{"$f":"F190+M190+T190+AB190","v":0},null,{"$f":"8*16","v":"1900-05-07"}]
[{"$f":"$A$778","v":"2017-09-12"},null,null,{"$f":"$D$778","v":"2018-01-09"},null,null,null,{"$f":"$A$778","v":"2017-09-12"},null,null,{"$f":"$D$778","v":"2018-01-09"},null,null,null,{"$f":"$A$778","v":"2017-09-12"},null,null,{"$f":"$D$778","v":"2018-01-09"},null,null,null,2,{"$f":"$A$778","v":"2017-09-12"},null,null,{"$f":"Z190+7","v":"2016-01-12"},null,null,null,{"$f":"AD190+1","v":17},{"$f":"AE190+1","v":2},"2017-09-12",{"$f":"C191+J191+Q191+Y191","v":0},{"$f":"AH190+1","v":17},"2018-01-09",0,null,{"$f":"8.25*2","v":"1900-01-16T12:00:00"},null,null,null,null,null,null,null,null,null,null,{"$f":"SUM(AS191:AV191)","v":0}]
[{"$f":"$A$779","v":"2017-09-19"},null,null,{"$f":"$D$779","v":"2018-01-16"},null,null,null,{"$f":"$A$779","v":"2017-09-19"},null,null,{"$f":"$D$779","v":"2018-01-16"},null,null,null,{"$f":"$A$779","v":"2017-09-19"},null,null,{"$f":"$D$779","v":"2018-01-16"},null,null,null,3,{"$f":"$A$779","v":"2017-09-19"},null,null,{"$f":"Z191+7","v":"2016-01-19"},null,null,null,{"$f":"AD191+1","v":18},{"$f":"AE191+1","v":3},"2017-09-19",0,{"$f":"AH191+1","v":18},"2018-01-16",0,null,{"$f":"AL190+AL191","v":"1900-05-23T12:00:00"},null,null,null,null,null,null,null,null,null,null,{"$f":"SUM(AS192:AV192)","v":0}]
[{"$f":"$A$780","v":"2017-09-26"},null,null,{"$f":"$D$780","v":"2018-01-23"},null,null,null,{"$f":"$A$780","v":"2017-09-26"},null,null,{"$f":"$D$780","v":"2018-01-23"},null,null,null,{"$f":"$A$780","v":"2017-09-26"},null,null,{"$f":"$D$780","v":"2018-01-23"},null,null,null,4,{"$f":"$A$780","v":"2017-09-26"},null,null,"2016-01-26",null,null,null,19,4,"2017-09-26",0,19,"2018-01-23",0]
[{"$f":"$A$781","v":"2017-10-03"},null,null,{"$f":"$D$781","v":"2018-01-30"},null,null,null,{"$f":"$A$781","v":"2017-10-03"},null,null,{"$f":"$D$781","v":"2018-01-30"},null,null,null,{"$f":"$A$781","v":"2017-10-03"},null,null,{"$f":"$D$781","v":"2018-01-30"},null,null,null,5,{"$f":"$A$781","v":"2017-10-03"},null,null,"2016-02-02",null,null,null,20,5,"2017-10-03",0,20,"2018-01-30",0]
[{"$f":"$A$782","v":"2017-10-10"},null,null,{"$f":"$D$782","v":"2018-02-06"},null,null,null,{"$f":"$A$782","v":"2017-10-10"},null,null,{"$f":"$D$782","v":"2018-02-06"},null,null,null,{"$f":"$A$782","v":"2017-10-10"},null,null,{"$f":"$D$782","v":"2018-02-06"},null,null,null,6,{"$f":"$A$782","v":"2017-10-10"},null,null,"2016-02-09",null,null,null,21,6,"2017-10-10",0,21,"2018-02-06",0]
[{"$f":"$A$783","v":"2017-10-17"},null,null,{"$f":"$D$783","v":"2018-02-13"},null,null,null,{"$f":"$A$783","v":"2017-10-17"},null,null,{"$f":"$D$783","v":"2018-02-13"},null,null,null,{"$f":"$A$783","v":"2017-10-17"},null,null,{"$f":"$D$783","v":"2018-02-13"},null,null,null,7,{"$f":"$A$783","v":"2017-10-17"},null,null,"2016-02-16",null,null,null,22,7,"2017-10-17",0,22,"2018-02-13",0]
[{"$f":"$A$784","v":"2017-10-24"},null,null,{"$f":"$D$784","v":"2018-02-20"},null,null,null,{"$f":"$A$784","v":"2017-10-24"},null,null,{"$f":"$D$784","v":"2018-02-20"},null,null,null,{"$f":"$A$784","v":"2017-10-24"},null,null,{"$f":"$D$784","v":"2018-02-20"},null,null,null,8,{"$f":"$A$784","v":"2017-10-24"},null,null,"2016-02-23",null,null,null,23,8,"2017-10-24",0,23,"2018-02-20",0]
[{"$f":"$A$785","v":"2017-10-31"},null,null,{"$f":"$D$785","v":"2018-02-27"},null,null,null,{"$f":"$A$785","v":"2017-10-31"},null,null,{"$f":"$D$785","v":"2018-02-27"},null,null,null,{"$f":"$A$785","v":"2017-10-31"},null,null,{"$f":"$D$785","v":"2018-02-27"},null,null,null,9,{"$f":"$A$785","v":"2017-10-31"},null,null,"2016-03-01",null,null,null,24,9,"2017-10-31",0,24,"2018-02-27",0]
[{"$f":"$A$786","v":"2017-11-07"},null,null,{"$f":"$D$786","v":"2018-03-06"},null,null,null,{"$f":"$A$786","v":"2017-11-07"},null,null,{"$f":"$D$786","v":"2018-03-06"},null,null,null,{"$f":"$A$786","v":"2017-11-07"},null,null,{"$f":"$D$786","v":"2018-03-06"},null,null,null,10,{"$f":"$A$786","v":"2017-11-07"},null,null,"2016-03-08",null,null,null,25,10,"2017-11-07",0,25,"2018-03-06",0]
[{"$f":"$A$787","v":"2017-11-14"},null,null,{"$f":"$D$787","v":"2018-03-13"},null,null,null,{"$f":"$A$787","v":"2017-11-14"},null,null,{"$f":"$D$787","v":"2018-03-13"},null,null,null,{"$f":"$A$787","v":"2017-11-14"},null,null,{"$f":"$D$787","v":"2018-03-13"},null,null,null,11,{"$f":"$A$787","v":"2017-11-14"},null,null,"2016-03-15",null,null,null,26,11,"2017-11-14",0,26,"2018-03-13",0]
[{"$f":"$A$788","v":"2017-11-21"},null,null,{"$f":"$D$788","v":"2018-03-20"},null,null,null,{"$f":"$A$788","v":"2017-11-21"},null,null,{"$f":"$D$788","v":"2018-03-20"},null,null,null,{"$f":"$A$788","v":"2017-11-21"},null,null,{"$f":"$D$788","v":"2018-03-20"},null,null,null,12,{"$f":"$A$788","v":"2017-11-21"},null,null,"2016-03-22",null,null,null,27,12,"2017-11-21",0,27,"2018-03-20",0]
[{"$f":"$A$789","v":"2017-11-28"},null,null,{"$f":"$D$789","v":"2018-03-27"},null,null,null,{"$f":"$A$789","v":"2017-11-28"},null,null,{"$f":"$D$789","v":"2018-03-27"},null,null,null,{"$f":"$A$789","v":"2017-11-28"},null,null,{"$f":"$D$789","v":"2018-03-27"},null,null,null,13,{"$f":"$A$789","v":"2017-11-28"},null,null,"2016-03-29",null,null,null,28,13,"2017-11-28",0,28,"2018-03-27",0]
[{"$f":"$A$790","v":"2017-12-05"},null,null,{"$f":"$D$790","v":"2018-04-03"},null,null,null,{"$f":"$A$790","v":"2017-12-05"},null,null,{"$f":"$D$790","v":"2018-04-03"},null,null,null,{"$f":"$A$790","v":"2017-12-05"},null,null,{"$f":"$D$790","v":"2018-04-03"},null,null,null,14,{"$f":"$A$790","v":"2017-12-05"},null,null,"2016-04-05",null,null,null,29,14,"2017-12-05",0,29,"2018-04-03",0]
[{"$f":"$A$791","v":"2017-12-12"},null,null,{"$f":"$D$791","v":"2018-04-10"},null,null,null,{"$f":"$A$791","v":"2017-12-12"},null,null,{"$f":"$D$791","v":"2018-04-10"},null,null,null,{"$f":"$A$791","v":"2017-12-12"},null,null,{"$f":"$D$791","v":"2018-04-10"},null,null,null,null,{"$f":"$A$791","v":"2017-12-12"},null,null,"2016-04-12",null,null,null,30,15,"2017-12-12",0,30,"2018-04-10",0]
[{"$f":"$A$792","v":"2017-12-19"},null,null,{"$f":"$D$792","v":"00:00:00"},"Total",{"$f":"SUM(C190:C205,F190:F204)","v":0},null,{"$f":"$A$792","v":"2017-12-19"},null,null,{"$f":"$D$792","v":"00:00:00"},"Total",{"$f":"SUM(J190:J205,M190:M204)","v":0},null,{"$f":"$A$792","v":"2017-12-19"},null,null,null,"Total",{"$f":"SUM(Q190:Q205,T190:T204)","v":0},null,15,null,null,null,"2016-04-19",null,null,null,31,16,"2017-12-19",0]
["USBC",24,"Paid This League",null,null,null,null,"USBC",null,"Paid Drop Outs",null,null,null,null,"USBC",24,"Paid This League"]
["Fees",{"$f":"$AL$5*B208","v":527},"Total",{"$f":"B207+B206","v":551},"Balance",{"$f":"D207-F205","v":551},null,"Fees",{"$f":"$AL$5*I208","v":527},"Total",{"$f":"I207+I206","v":527},"Balance",{"$f":"K207-M205","v":527},null,"Fees",{"$f":"$AL$5*P208","v":527},"Total",{"$f":"P207+P206","v":551},"Balance",{"$f":"R207-T205","v":551}]
["Wks",{"$f":"$AL$6","v":31},{"$f":"$AL$5*B208","v":527},"ID",91,null,null,"Wks",{"$f":"$AL$6","v":31},{"$f":"$AL$5*I208","v":527},"ID",92,null,null,"Wks",{"$f":"$AL$6","v":31},{"$f":"$AL$5*P208","v":527},"ID",93]
[101,10,null,null,null,null,null,102,null,null,null,null,null,null,103]
[{"$f":"\"Team \"&VLOOKUP($E231,Roster!$A$2:$AF$33,2)&\"  \"&_xlfn.IFNA(VLOOKUP($E231,Roster!$A$2:$AF$33,3,0),0)","v":"Team 10  Vital Care"},null,null,null,null,null,null,null,null,null,null,null,null,null,null,null,null,null,null,null,null,null,null,null,null,null,null,null,null,null,null,null,null,null,null,null,null,null,null,null,null,null,null,null,null,null,null,null,null,null,null,68]
[{"$f":"_xlfn.IFNA(VLOOKUP(E231,Roster!$A$2:$AF$33,8,0),0)&IF(F231=\"\",\"\",\" / \"&VLOOKUP(F231,Roster!$A$2:$AF$33,8,0))","v":"Andy Lewis"},null,null,null,null,null,null,{"$f":"_xlfn.IFNA(VLOOKUP(L231,Roster!$A$2:$AF$33,8,0),0)&IF(M231=\"\",\"\",\" / \"&VLOOKUP(M231,Roster!$A$2:$AF$33,8,0))","v":"Dennis Barnes"},null,null,null,null,null,null,{"$f":"_xlfn.IFNA(VLOOKUP(S231,Roster!$A$2:$AF$33,8,0),0)&IF(T231=\"\",\"\",\" / \"&VLOOKUP(T231,Roster!$A$2:$AF$33,8,0))","v":"Gary McCoy"},null,null,null,null,null,null,{"$f":"IF(ISNA(LOOKUP(#REF!,#REF!,#REF!)),\"\",IF(LOOKUP(#REF!,#REF!,#REF!)>\"\",LOOKUP(#REF!,#REF!,#REF!)&\" / \"&LOOKUP(#REF!,#REF!,#REF!),LOOKUP(#REF!,#REF!,#REF!)))","v":{"$error":"#REF!"}},null,null,null,null,null,null,10,null,null,null,null,null,null,null,null,null,null,null,null,null,null,null,null,null,null,null,null,null,null,68]
["Date","Ref","Amt","Date","Ref","Amt",null,"Date","Ref","Amt","Date","Ref","Amt",null,"Date","Ref","Amt","Date","Ref","Amt",null,"Wk","Date","Ref","Amt","Date","Ref","Amt",null,null,"Weekly Team Summary",null,null,null,null,null,null,null,null,null,null,null,null,null,null,null,null,null,null,null,null,68]
[{"$f":"$A$777","v":"2017-09-05"},null,null,{"$f":"$D$777","v":"2018-01-02"},null,null,null,{"$f":"$A$777","v":"2017-09-05"},null,null,{"$f":"$D$777","v":"2018-01-02"},null,null,null,{"$f":"$A$777","v":"2017-09-05"},null,null,{"$f":"$D$777","v":"2018-01-02"},null,null,null,1,{"$f":"$A$777","v":"2017-09-05"},null,null,"2016-01-05",null,null,null,16,1,{"$f":"A213","v":"2017-09-05"},{"$f":"C213+J213+Q213","v":0},{"$f":"AE227+1","v":16},{"$f":"D213","v":"2018-01-02"},{"$f":"F213+M213+T213+AB213","v":0},null,null,null,null,null,null,null,null,null,{"$f":"AR237+AS237","v":1031}]
[{"$f":"$A$778","v":"2017-09-12"},null,null,{"$f":"$D$778","v":"2018-01-09"},null,null,null,{"$f":"$A$778","v":"2017-09-12"},null,null,{"$f":"$D$778","v":"2018-01-09"},null,null,null,{"$f":"$A$778","v":"2017-09-12"},null,null,{"$f":"$D$778","v":"2018-01-09"},null,null,null,2,{"$f":"$A$778","v":"2017-09-12"},null,null,{"$f":"Z213+7","v":"2016-01-12"},null,null,null,{"$f":"AD213+1","v":17},{"$f":"AE213+1","v":2},"2017-09-12",{"$f":"C214+J214+Q214","v":0},{"$f":"AH213+1","v":17},"2018-01-09",0]
[{"$f":"$A$779","v":"2017-09-19"},null,null,{"$f":"$D$779","v":"2018-01-16"},null,null,null,{"$f":"$A$779","v":"2017-09-19"},null,null,{"$f":"$D$779","v":"2018-01-16"},null,null,null,{"$f":"$A$779","v":"2017-09-19"},null,null,{"$f":"$D$779","v":"2018-01-16"},null,null,null,3,{"$f":"$A$779","v":"2017-09-19"},null,null,{"$f":"Z214+7","v":"2016-01-19"},null,null,null,{"$f":"AD214+1","v":18},{"$f":"AE214+1","v":3},"2017-09-19",{"$f":"C215+J215+Q215+Y215","v":0},{"$f":"AH214+1","v":18},"2018-01-16",0]
[{"$f":"$A$780","v":"2017-09-26"},null,null,{"$f":"$D$780","v":"2018-01-23"},null,null,null,{"$f":"$A$780","v":"2017-09-26"},null,null,{"$f":"$D$780","v":"2018-01-23"},null,null,null,{"$f":"$A$780","v":"2017-09-26"},null,null,{"$f":"$D$780","v":"2018-01-23"},null,null,null,4,{"$f":"$A$780","v":"2017-09-26"},null,null,"2016-01-26",null,null,null,19,4,"2017-09-26",0,19,"2018-01-23",0]
[{"$f":"$A$781","v":"2017-10-03"},null,null,{"$f":"$D$781","v":"2018-01-30"},null,null,null,{"$f":"$A$781","v":"2017-10-03"},null,null,{"$f":"$D$781","v":"2018-01-30"},null,null,null,{"$f":"$A$781","v":"2017-10-03"},null,null,{"$f":"$D$781","v":"2018-01-30"},null,null,null,5,{"$f":"$A$781","v":"2017-10-03"},null,null,"2016-02-02",null,null,null,20,5,"2017-10-03",0,20,"2018-01-30",0]
[{"$f":"$A$782","v":"2017-10-10"},null,null,{"$f":"$D$782","v":"2018-02-06"},null,null,null,{"$f":"$A$782","v":"2017-10-10"},null,null,{"$f":"$D$782","v":"2018-02-06"},null,null,null,{"$f":"$A$782","v":"2017-10-10"},null,null,{"$f":"$D$782","v":"2018-02-06"},null,null,null,6,{"$f":"$A$782","v":"2017-10-10"},null,null,"2016-02-09",null,null,null,21,6,"2017-10-10",0,21,"2018-02-06",0]
[{"$f":"$A$783","v":"2017-10-17"},null,null,{"$f":"$D$783","v":"2018-02-13"},null,null,null,{"$f":"$A$783","v":"2017-10-17"},null,null,{"$f":"$D$783","v":"2018-02-13"},null,null,null,{"$f":"$A$783","v":"2017-10-17"},null,null,{"$f":"$D$783","v":"2018-02-13"},null,null,null,7,{"$f":"$A$783","v":"2017-10-17"},null,null,"2016-02-16",null,null,null,22,7,"2017-10-17",0,22,"2018-02-13",0]
[{"$f":"$A$784","v":"2017-10-24"},null,null,{"$f":"$D$784","v":"2018-02-20"},null,null,null,{"$f":"$A$784","v":"2017-10-24"},null,null,{"$f":"$D$784","v":"2018-02-20"},null,null,null,{"$f":"$A$784","v":"2017-10-24"},null,null,{"$f":"$D$784","v":"2018-02-20"},null,null,null,8,{"$f":"$A$784","v":"2017-10-24"},null,null,"2016-02-23",null,null,null,23,8,"2017-10-24",0,23,"2018-02-20",0]
[{"$f":"$A$785","v":"2017-10-31"},null,null,{"$f":"$D$785","v":"2018-02-27"},null,null,null,{"$f":"$A$785","v":"2017-10-31"},null,null,{"$f":"$D$785","v":"2018-02-27"},null,null,null,{"$f":"$A$785","v":"2017-10-31"},null,null,{"$f":"$D$785","v":"2018-02-27"},null,null,null,9,{"$f":"$A$785","v":"2017-10-31"},null,null,"2016-03-01",null,null,null,24,9,"2017-10-31",0,24,"2018-02-27",0]
[{"$f":"$A$786","v":"2017-11-07"},null,null,{"$f":"$D$786","v":"2018-03-06"},null,null,null,{"$f":"$A$786","v":"2017-11-07"},null,null,{"$f":"$D$786","v":"2018-03-06"},null,null,null,{"$f":"$A$786","v":"2017-11-07"},null,null,{"$f":"$D$786","v":"2018-03-06"},null,null,null,10,{"$f":"$A$786","v":"2017-11-07"},null,null,"2016-03-08",null,null,null,25,10,"2017-11-07",0,25,"2018-03-06",0]
[{"$f":"$A$787","v":"2017-11-14"},null,null,{"$f":"$D$787","v":"2018-03-13"},null,null,null,{"$f":"$A$787","v":"2017-11-14"},null,null,{"$f":"$D$787","v":"2018-03-13"},null,null,null,{"$f":"$A$787","v":"2017-11-14"},null,null,{"$f":"$D$787","v":"2018-03-13"},null,null,null,11,{"$f":"$A$787","v":"2017-11-14"},null,null,"2016-03-15",null,null,null,26,11,"2017-11-14",0,26,"2018-03-13",0]
[{"$f":"$A$788","v":"2017-11-21"},null,null,{"$f":"$D$788","v":"2018-03-20"},null,null,null,{"$f":"$A$788","v":"2017-11-21"},null,null,{"$f":"$D$788","v":"2018-03-20"},null,null,null,{"$f":"$A$788","v":"2017-11-21"},null,null,{"$f":"$D$788","v":"2018-03-20"},null,null,null,12,{"$f":"$A$788","v":"2017-11-21"},null,null,"2016-03-22",null,null,null,27,12,"2017-11-21",0,27,"2018-03-20",0]
[{"$f":"$A$789","v":"2017-11-28"},null,null,{"$f":"$D$789","v":"2018-03-27"},null,null,null,{"$f":"$A$789","v":"2017-11-28"},null,null,{"$f":"$D$789","v":"2018-03-27"},null,null,null,{"$f":"$A$789","v":"2017-11-28"},null,null,{"$f":"$D$789","v":"2018-03-27"},null,null,null,13,{"$f":"$A$789","v":"2017-11-28"},null,null,"2016-03-29",null,null,null,28,13,"2017-11-28",0,28,"2018-03-27",0,null,null,null,null,null,null,null,null,10]
[{"$f":"$A$790","v":"2017-12-05"},null,null,{"$f":"$D$790","v":"2018-04-03"},null,null,null,{"$f":"$A$790","v":"2017-12-05"},null,null,{"$f":"$D$790","v":"2018-04-03"},null,null,null,{"$f":"$A$790","v":"2017-12-05"},null,null,{"$f":"$D$790","v":"2018-04-03"},null,null,null,14,{"$f":"$A$790","v":"2017-12-05"},null,null,"2016-04-05",null,null,null,29,14,"2017-12-05",0,29,"2018-04-03",0,null,null,null,null,null,null,null,null,5]
[{"$f":"$A$791","v":"2017-12-12"},null,null,{"$f":"$D$791","v":"2018-04-10"},null,null,null,{"$f":"$A$791","v":"2017-12-12"},null,null,{"$f":"$D$791","v":"2018-04-10"},null,null,null,{"$f":"$A$791","v":"2017-12-12"},null,null,{"$f":"$D$791","v":"2018-04-10"},null,null,null,null,{"$f":"$A$791","v":"2017-12-12"},null,null,"2016-04-12",null,null,null,30,15,"2017-12-12",0,30,"2018-04-10",0,null,null,null,null,null,null,null,34,2]
[{"$f":"$A$792","v":"2017-12-19"},null,null,{"$f":"$D$792","v":"00:00:00"},"Total",{"$f":"SUM(C213:C228,F213:F227)","v":0},null,{"$f":"$A$792","v":"2017-12-19"},null,null,{"$f":"$D$792","v":"00:00:00"},"Total",{"$f":"SUM(J213:J228,M213:M227)","v":0},null,{"$f":"$A$792","v":"2017-12-19"},null,null,null,"Total",{"$f":"SUM(Q213:Q228,T213:T227)","v":0},null,15,null,null,null,"2016-04-19",null,null,null,31,16,"2017-12-19",0,null,null,null,null,null,null,null,null,null,null,68,null,null,null,null,null,null,null,null,150]
["USBC",24,"Paid This League",null,null,null,null,"USBC",null,"Paid Peterson",null,null,null,null,"USBC",null,"Paid Peterson",null,null,null,null,null,null,null,null,null,null,null,null,null,null,null,null,null,null,null,null,null,null,null,null,null,null,null,null,null,null,null,null,null,null,null,10]
["Fees",{"$f":"$AL$5*B231","v":527},"Total",{"$f":"B230+B229","v":551},"Balance",{"$f":"D230-F228","v":551},null,"Fees",{"$f":"$AL$5*I231","v":527},"Total",{"$f":"I230+I229","v":527},"Balance",{"$f":"K230-M228","v":527},null,"Fees",{"$f":"$AL$5*P231","v":527},"Total",{"$f":"P230+P229","v":527},"Balance",{"$f":"R230-T228","v":527},null,null,null,null,null,null,null,null,null,null,null,null,null,null,null,null,null,null,null,24,null,"Checks and Cash","Checks",{"$f":"SUM(AR214:AR229)","v":102},{"$f":"SUM(AS213:AS229)","v":17},"Cash"]
["Wks",{"$f":"$AL$6","v":31},{"$f":"$AL$5*B231","v":527},"ID",101,null,null,"Wks",{"$f":"$AL$6","v":31},{"$f":"$AL$5*I231","v":527},"ID",102,null,null,"Wks",{"$f":"$AL$6","v":31},{"$f":"$AL$5*P231","v":527},"ID",103,null,null,null,null,null,null,null,null,null,null,null,null,null,null,null,null,null,null,null,null,20,null,"Total","Total",{"$f":"AR230+AS230","v":119},null,null,null,null,null,null,null,null,5]
[null,null,null,null,null,null,null,null,null,null,null,null,null,null,null,null,null,null,null,null,null,null,null,null,null,null,null,null,null,null,null,null,null,null,null,null,null,null,null,{"$f":"AN231*AN230","v":480},null,null,"Entered",{"$f":"AQ684","v":0},null,null,null,null,null,null,null,null,10]
[null,null,null,null,null,null,null,null,null,null,null,null,null,null,null,null,null,null,null,null,null,null,null,null,null,null,null,null,null,null,null,null,null,null,null,null,null,null,null,null,null,null,"Variance",{"$f":"AR231-AR232","v":119}]
[null,null,null,null,null,null,null,null,null,null,null,null,null,null,null,null,null,null,null,null,null,null,{"$f":"V234+1","v":1}]
[null,null,null,null,null,null,null,null,null,null,null,null,null,null,null,null,null,null,null,null,null,null,null,null,null,null,null,null,11,null,null,null,null,null,null,null,null,null,null,null,null,null,null,68,11]
["Date","Ref","Amt","Date","Ref","Amt",null,"Date","Ref","Amt","Date","Ref","Amt",null,"Date","Ref","Amt","Date","Ref","Amt",null,"Wk","Date","Ref","Amt","Date","Ref","Amt",null,null,"Weekly Team Summary",null,null,null,null,null,null,null,null,null,null,null,null,493]
[null,null,null,null,null,null,null,null,null,null,null,null,null,null,null,null,null,null,null,null,null,null,null,null,null,null,null,null,null,null,1,{"$f":"A237","v":"00:00:00"},{"$f":"C237+J237+Q237+Y237","v":0},{"$f":"AE251+1","v":16},{"$f":"D237","v":"00:00:00"},{"$f":"F237+M237+T237+AB237","v":0},null,null,null,null,null,null,null,{"$f":"SUM(AR213:AR236)","v":1003},{"$f":"SUM(AS230:AS236)","v":28}]
[null,null,null,null,null,null,null,null,null,null,null,null,null,null,null,null,null,null,null,null,null,null,null,null,null,null,null,null,null,null,{"$f":"AE237+1","v":2},"00:00:00",0,{"$f":"AH237+1","v":17},"00:00:00",0]
[null,null,null,null,null,null,null,null,null,null,null,null,null,null,null,null,null,null,null,null,null,null,null,null,null,null,null,null,null,null,{"$f":"AE238+1","v":3},"00:00:00",0,{"$f":"AH238+1","v":18},"00:00:00",0]
[null,null,null,null,null,null,null,null,null,null,null,null,null,null,null,null,null,null,null,null,null,null,null,null,null,null,null,null,null,null,4,"00:00:00",0,19,"00:00:00",0]
[null,null,null,null,null,null,null,null,null,null,null,null,null,null,null,null,null,null,null,null,null,null,null,null,null,null,null,null,null,null,5,"00:00:00",0,20,"00:00:00",0]
[null,null,null,null,null,null,null,null,null,null,null,null,null,null,null,null,null,null,null,null,null,null,null,null,null,null,null,null,null,null,6,"00:00:00",0,21,"00:00:00",0]
[null,null,null,null,null,null,null,null,null,null,null,null,null,null,null,null,null,null,null,null,null,null,null,null,null,null,null,null,null,null,7,"00:00:00",0,22,"00:00:00",0]
[null,null,null,null,null,null,null,null,null,null,null,null,null,null,null,null,null,null,null,null,null,null,null,null,null,null,null,null,null,null,8,"00:00:00",0,23,"00:00:00",0]
[null,null,null,null,null,null,null,null,null,null,null,null,null,null,null,null,null,null,null,null,null,null,null,null,null,null,null,null,null,null,9,"00:00:00",0,24,"00:00:00",0]
[null,null,null,null,null,null,null,null,null,null,null,null,null,null,null,null,null,null,null,null,null,null,null,null,null,null,null,null,null,null,10,"00:00:00",0,25,"00:00:00",0]
[null,null,null,null,null,null,null,null,null,null,null,null,null,null,null,null,null,null,null,null,null,null,null,null,null,null,null,null,null,null,11,"00:00:00",0,26,"00:00:00",0]
[null,null,null,null,null,null,null,null,null,null,null,null,null,null,null,null,null,null,null,null,null,null,null,null,null,null,null,null,null,null,12,"00:00:00",0,27,"00:00:00",0]
[null,null,null,null,null,null,null,null,null,null,null,null,null,null,null,null,null,null,null,null,null,null,null,null,null,null,null,null,null,null,13,"00:00:00",0,28,"00:00:00",0]
[null,null,null,null,null,null,null,null,null,null,null,null,null,null,null,null,null,null,null,null,null,null,null,null,null,null,null,null,null,null,14,"00:00:00",0,29,"00:00:00",0]
[null,null,null,null,null,null,null,null,null,null,null,null,null,null,null,null,null,null,null,null,null,null,null,null,null,null,null,null,null,null,15,"00:00:00",0,30,"00:00:00",0]
[]
[null,null,null,null,null,null,null,null,null,null,null,null,null,null,null,null,null,null,null,null,null,null,null,null,null,null,null,null,null,null,null,null,{"$f":"C237+C238+C239+C240+C241+C242+C243+C244+C245+C246+C247+C248+C249+C250+C251+F237+F238+F239+F240+F241+F242+F243+F244+F245+F246+F247+F248+F249+F250+F251","v":0},{"$f":"SUM(J237:J251)+SUM(M237:M251)","v":0},{"$f":"SUM(Q237:Q251)+SUM(T237:T251)","v":0},{"$f":"SUM(Y237:Y251)+SUM(AB237:AB251)","v":0}]
[null,null,null,null,null,null,null,null,null,null,null,null,null,null,null,null,null,null,null,null,null,null,null,null,null,null,null,null,null,null,null,null,{"$f":"IF(A252=\"USBC Paid in This League\",AG253-20,AG253)/10","v":0},{"$f":"IF(H252=\"USBC Paid in This League\",AH253-20,AH253)/10","v":0},{"$f":"IF(O252=\"USBC Paid in This League\",AI253-20,AI253)/10","v":0},{"$f":"IF(W252=\"USBC Paid in This League\",AJ253-20,AJ253)/10","v":0}]
[]
[null,null,null,null,null,null,null,null,null,null,null,null,null,null,null,null,null,null,null,null,null,null,{"$f":"V256+1","v":1}]
[null,null,null,null,null,null,null,null,null,null,null,null,null,null,null,null,null,null,null,null,null,null,null,null,null,null,null,null,12]
["Date","Ref","Amt","Date","Ref","Amt",null,"Date","Ref","Amt","Date","Ref","Amt",null,"Date","Ref","Amt","Date","Ref","Amt",null,"Wk","Date","Ref","Amt","Date","Ref","Amt",null,null,"Weekly Team Summary"]
["2014-09-15",null,null,{"$f":"A272+21","v":"2015-01-05"},null,null,null,"2014-09-15",null,null,{"$f":"H272+21","v":"2015-01-05"},null,null,null,"2014-09-15",null,null,{"$f":"O272+21","v":"2015-01-05"},null,null,null,1,"2014-09-15",null,null,{"$f":"W272+21","v":"2015-01-05"},null,null,null,null,1,{"$f":"A259","v":"2014-09-15"},{"$f":"C259+J259+Q259+Y259","v":0},{"$f":"AE273+1","v":16},{"$f":"D259","v":"2015-01-05"},{"$f":"F259+M259+T259+AB259","v":0}]
[{"$f":"A259+7","v":"2014-09-22"},null,null,{"$f":"D259+7","v":"2015-01-12"},null,null,null,{"$f":"H259+7","v":"2014-09-22"},null,null,{"$f":"K259+7","v":"2015-01-12"},null,null,null,{"$f":"O259+7","v":"2014-09-22"},null,null,{"$f":"R259+7","v":"2015-01-12"},null,null,null,2,{"$f":"W259+7","v":"2014-09-22"},null,null,{"$f":"Z259+7","v":"2015-01-12"},null,null,null,null,{"$f":"AE259+1","v":2},"2014-09-22",0,{"$f":"AH259+1","v":17},"2015-01-12",0]
["2014-09-29",null,null,"2015-01-19",null,null,null,"2014-09-29",null,null,"2015-01-19",null,null,null,"2014-09-29",null,null,"2015-01-19",null,null,null,3,"2014-09-29",null,null,"2015-01-19",null,null,null,null,{"$f":"AE260+1","v":3},"2014-09-29",0,{"$f":"AH260+1","v":18},"2015-01-19",0]
["2014-10-06",null,null,"2015-01-26",null,null,null,"2014-10-06",null,null,"2015-01-26",null,null,null,"2014-10-06",null,null,"2015-01-26",null,null,null,4,"2014-10-06",null,null,"2015-01-26",null,null,null,null,4,"2014-10-06",0,19,"2015-01-26",0]
["2014-10-13",null,null,"2015-02-02",null,null,null,"2014-10-13",null,null,"2015-02-02",null,null,null,"2014-10-13",null,null,"2015-02-02",null,null,null,5,"2014-10-13",null,null,"2015-02-02",null,null,null,null,5,"2014-10-13",0,20,"2015-02-02",0]
["2014-10-20",null,null,"2015-02-09",null,null,null,"2014-10-20",null,null,"2015-02-09",null,null,null,"2014-10-20",null,null,"2015-02-09",null,null,null,6,"2014-10-20",null,null,"2015-02-09",null,null,null,null,6,"2014-10-20",0,21,"2015-02-09",0]
["2014-10-27",null,null,"2015-02-16",null,null,null,"2014-10-27",null,null,"2015-02-16",null,null,null,"2014-10-27",null,null,"2015-02-16",null,null,null,7,"2014-10-27",null,null,"2015-02-16",null,null,null,null,7,"2014-10-27",0,22,"2015-02-16",0]
["2014-11-03",null,null,"2015-02-23",null,null,null,"2014-11-03",null,null,"2015-02-23",null,null,null,"2014-11-03",null,null,"2015-02-23",null,null,null,8,"2014-11-03",null,null,"2015-02-23",null,null,null,null,8,"2014-11-03",0,23,"2015-02-23",0]
["2014-11-10",null,null,"2015-03-02",null,null,null,"2014-11-10",null,null,"2015-03-02",null,null,null,"2014-11-10",null,null,"2015-03-02",null,null,null,9,"2014-11-10",null,null,"2015-03-02",null,null,null,null,9,"2014-11-10",0,24,"2015-03-02",0]
["2014-11-17",null,null,"2015-03-09",null,null,null,"2014-11-17",null,null,"2015-03-09",null,null,null,"2014-11-17",null,null,"2015-03-09",null,null,null,10,"2014-11-17",null,null,"2015-03-09",null,null,null,null,10,"2014-11-17",0,25,"2015-03-09",0]
["2014-11-24",null,null,"2015-03-16",null,null,null,"2014-11-24",null,null,"2015-03-16",null,null,null,"2014-11-24",null,null,"2015-03-16",null,null,null,11,"2014-11-24",null,null,"2015-03-16",null,null,null,null,11,"2014-11-24",0,26,"2015-03-16",0]
["2014-12-01",null,null,{"$f":"D269+7","v":"2015-03-23"},null,null,null,"2014-12-01",null,null,{"$f":"K269+7","v":"2015-03-23"},null,null,null,"2014-12-01",null,null,{"$f":"R269+7","v":"2015-03-23"},null,null,null,12,"2014-12-01",null,null,{"$f":"Z269+7","v":"2015-03-23"},null,null,null,null,12,"2014-12-01",0,27,"2015-03-23",0]
["2014-12-08",null,null,{"$f":"D270+7","v":"2015-03-30"},null,null,null,"2014-12-08",null,null,{"$f":"K270+7","v":"2015-03-30"},null,null,null,"2014-12-08",null,null,{"$f":"R270+7","v":"2015-03-30"},null,null,null,13,"2014-12-08",null,null,{"$f":"Z270+7","v":"2015-03-30"},null,null,null,null,13,"2014-12-08",0,28,"2015-03-30",0]
["2014-12-15",null,null,{"$f":"D271+7","v":"2015-04-06"},null,null,null,"2014-12-15",null,null,{"$f":"K271+7","v":"2015-04-06"},null,null,null,"2014-12-15",null,null,{"$f":"R271+7","v":"2015-04-06"},null,null,null,14,"2014-12-15",null,null,{"$f":"Z271+7","v":"2015-04-06"},null,null,null,null,14,"2014-12-15",0,29,"2015-04-06",0]
["2014-12-22",null,null,{"$f":"D272+7","v":"2015-04-13"},null,null,null,"2014-12-22",null,null,{"$f":"K272+7","v":"2015-04-13"},null,null,null,"2014-12-22",null,null,{"$f":"R272+7","v":"2015-04-13"},null,null,null,15,"2014-12-22",null,null,{"$f":"Z272+7","v":"2015-04-13"},null,null,null,null,15,"2014-12-22",0,30,"2015-04-13",0]
[]
[null,null,null,null,null,null,null,null,null,null,null,null,null,null,null,null,null,null,null,null,null,null,null,null,null,null,null,null,null,null,null,null,{"$f":"C259+C260+C261+C262+C263+C264+C265+C266+C267+C268+C269+C270+C271+C272+C273+F259+F260+F261+F262+F263+F264+F265+F266+F267+F268+F269+F270+F271+F272+F273","v":0},{"$f":"SUM(J259:J273)+SUM(M259:M273)","v":0},{"$f":"SUM(Q259:Q273)+SUM(T259:T273)","v":0},{"$f":"SUM(Y259:Y273)+SUM(AB259:AB273)","v":0}]
[null,null,null,null,null,null,null,null,null,null,null,null,null,null,null,null,null,null,null,null,null,null,null,null,null,null,null,null,null,null,null,null,{"$f":"IF(A275=\"USBC Paid in This League\",AG275-20,AG275)/10","v":0},{"$f":"IF(H275=\"USBC Paid in This League\",AH275-20,AH275)/10","v":0},{"$f":"IF(O275=\"USBC Paid in This League\",AI275-20,AI275)/10","v":0},{"$f":"IF(W275=\"USBC Paid in This League\",AJ275-20,AJ275)/10","v":0}]
[]
[]
[]
[null,null,null,null,null,null,null,null,null,null,null,null,null,null,null,null,null,null,null,null,null,null,null,null,null,null,null,null,13]
["Date","Ref","Amt","Date","Ref","Amt",null,"Date","Ref","Amt","Date","Ref","Amt",null,"Date","Ref","Amt","Date","Ref","Amt",null,"Wk","Date","Ref","Amt","Date","Ref","Amt",null,null,"Weekly Team Summary"]
["2014-09-15",null,null,{"$f":"A295+21","v":"2015-01-05"},null,null,null,"2014-09-15",null,null,{"$f":"H295+21","v":"2015-01-05"},null,null,null,"2014-09-15",null,null,{"$f":"O295+21","v":"2015-01-05"},null,null,null,1,"2014-09-15",null,null,{"$f":"W295+21","v":"2015-01-05"},null,null,null,null,1,{"$f":"A282","v":"2014-09-15"},{"$f":"C282+J282+Q282+Y282","v":0},{"$f":"AE296+1","v":16},{"$f":"D282","v":"2015-01-05"},{"$f":"F282+M282+T282+AB282","v":0}]
[{"$f":"A282+7","v":"2014-09-22"},null,null,{"$f":"D282+7","v":"2015-01-12"},null,null,null,{"$f":"H282+7","v":"2014-09-22"},null,null,{"$f":"K282+7","v":"2015-01-12"},null,null,null,{"$f":"O282+7","v":"2014-09-22"},null,null,{"$f":"R282+7","v":"2015-01-12"},null,null,null,2,{"$f":"W282+7","v":"2014-09-22"},null,null,{"$f":"Z282+7","v":"2015-01-12"},null,null,null,null,{"$f":"AE282+1","v":2},"2014-09-22",0,{"$f":"AH282+1","v":17},"2015-01-12",0]
["2014-09-29",null,null,"2015-01-19",null,null,null,"2014-09-29",null,null,"2015-01-19",null,null,null,"2014-09-29",null,null,"2015-01-19",null,null,null,3,"2014-09-29",null,null,"2015-01-19",null,null,null,null,{"$f":"AE283+1","v":3},"2014-09-29",0,{"$f":"AH283+1","v":18},"2015-01-19",0]
["2014-10-06",null,null,"2015-01-26",null,null,null,"2014-10-06",null,null,"2015-01-26",null,null,null,"2014-10-06",null,null,"2015-01-26",null,null,null,4,"2014-10-06",null,null,"2015-01-26",null,null,null,null,4,"2014-10-06",0,19,"2015-01-26",0]
["2014-10-13",null,null,"2015-02-02",null,null,null,"2014-10-13",null,null,"2015-02-02",null,null,null,"2014-10-13",null,null,"2015-02-02",null,null,null,5,"2014-10-13",null,null,"2015-02-02",null,null,null,null,5,"2014-10-13",0,20,"2015-02-02",0]
["2014-10-20",null,null,"2015-02-09",null,null,null,"2014-10-20",null,null,"2015-02-09",null,null,null,"2014-10-20",null,null,"2015-02-09",null,null,null,6,"2014-10-20",null,null,"2015-02-09",null,null,null,null,6,"2014-10-20",0,21,"2015-02-09",0]
["2014-10-27",null,null,"2015-02-16",null,null,null,"2014-10-27",null,null,"2015-02-16",null,null,null,"2014-10-27",null,null,"2015-02-16",null,null,null,7,"2014-10-27",null,null,"2015-02-16",null,null,null,null,7,"2014-10-27",0,22,"2015-02-16",0]
["2014-11-03",null,null,"2015-02-23",null,null,null,"2014-11-03",null,null,"2015-02-23",null,null,null,"2014-11-03",null,null,"2015-02-23",null,null,null,8,"2014-11-03",null,null,"2015-02-23",null,null,null,null,8,"2014-11-03",0,23,"2015-02-23",0]
["2014-11-10",null,null,"2015-03-02",null,null,null,"2014-11-10",null,null,"2015-03-02",null,null,null,"2014-11-10",null,null,"2015-03-02",null,null,null,9,"2014-11-10",null,null,"2015-03-02",null,null,null,null,9,"2014-11-10",0,24,"2015-03-02",0]
["2014-11-17",null,null,"2015-03-09",null,null,null,"2014-11-17",null,null,"2015-03-09",null,null,null,"2014-11-17",null,null,"2015-03-09",null,null,null,10,"2014-11-17",null,null,"2015-03-09",null,null,null,null,10,"2014-11-17",0,25,"2015-03-09",0]
["2014-11-24",null,null,"2015-03-16",null,null,null,"2014-11-24",null,null,"2015-03-16",null,null,null,"2014-11-24",null,null,"2015-03-16",null,null,null,11,"2014-11-24",null,null,"2015-03-16",null,null,null,null,11,"2014-11-24",0,26,"2015-03-16",0]
["2014-12-01",null,null,{"$f":"D292+7","v":"2015-03-23"},null,null,null,"2014-12-01",null,null,{"$f":"K292+7","v":"2015-03-23"},null,null,null,"2014-12-01",null,null,{"$f":"R292+7","v":"2015-03-23"},null,null,null,12,"2014-12-01",null,null,{"$f":"Z292+7","v":"2015-03-23"},null,null,null,null,12,"2014-12-01",0,27,"2015-03-23",0]
["2014-12-08",null,null,{"$f":"D293+7","v":"2015-03-30"},null,null,null,"2014-12-08",null,null,{"$f":"K293+7","v":"2015-03-30"},null,null,null,"2014-12-08",null,null,{"$f":"R293+7","v":"2015-03-30"},null,null,null,13,"2014-12-08",null,null,{"$f":"Z293+7","v":"2015-03-30"},null,null,null,null,13,"2014-12-08",0,28,"2015-03-30",0]
["2014-12-15",null,null,{"$f":"D294+7","v":"2015-04-06"},null,null,null,"2014-12-15",null,null,{"$f":"K294+7","v":"2015-04-06"},null,null,null,"2014-12-15",null,null,{"$f":"R294+7","v":"2015-04-06"},null,null,null,14,"2014-12-15",null,null,{"$f":"Z294+7","v":"2015-04-06"},null,null,null,null,14,"2014-12-15",0,29,"2015-04-06",0]
["2014-12-22",null,null,{"$f":"D295+7","v":"2015-04-13"},null,null,null,"2014-12-22",null,null,{"$f":"K295+7","v":"2015-04-13"},null,null,null,"2014-12-22",null,null,{"$f":"R295+7","v":"2015-04-13"},null,null,null,15,"2014-12-22",null,null,{"$f":"Z295+7","v":"2015-04-13"},null,null,null,null,15,"2014-12-22",0,30,"2015-04-13",0]
[]
[null,null,null,null,null,null,null,null,null,null,null,null,null,null,null,null,null,null,null,null,null,null,null,null,null,null,null,null,null,null,null,null,{"$f":"C282+C283+C284+C285+C286+C287+C288+C289+C290+C291+C292+C293+C294+C295+C296+F282+F283+F284+F285+F286+F287+F288+F289+F290+F291+F292+F293+F294+F295+F296","v":0},{"$f":"SUM(J282:J296)+SUM(M282:M296)","v":0},{"$f":"SUM(Q282:Q296)+SUM(T282:T296)","v":0},{"$f":"SUM(Y282:Y296)+SUM(AB282:AB296)","v":0}]
[null,null,null,null,null,null,null,null,null,null,null,null,null,null,null,null,null,null,null,null,null,null,null,null,null,null,null,null,null,null,null,null,{"$f":"IF(A298=\"USBC Paid in This League\",AG298-20,AG298)/10","v":0},{"$f":"IF(H298=\"USBC Paid in This League\",AH298-20,AH298)/10","v":0},{"$f":"IF(O298=\"USBC Paid in This League\",AI298-20,AI298)/10","v":0},{"$f":"IF(W298=\"USBC Paid in This League\",AJ298-20,AJ298)/10","v":0}]
[]
[]
[]
[null,null,null,null,null,null,null,null,null,null,null,null,null,null,null,null,null,null,null,null,null,null,null,null,null,null,null,null,14]
["Date","Ref","Amt","Date","Ref","Amt",null,"Date","Ref","Amt","Date","Ref","Amt",null,"Date","Ref","Amt","Date","Ref","Amt",null,"Wk","Date","Ref","Amt","Date","Ref","Amt",null,null,"Weekly Team Summary"]
["2014-09-15",null,null,{"$f":"A318+21","v":"2015-01-05"},null,null,null,"2014-09-15",null,null,{"$f":"H318+21","v":"2015-01-05"},null,null,null,"2014-09-15",null,null,{"$f":"O318+21","v":"2015-01-05"},null,null,null,1,"2014-09-15",null,null,{"$f":"W318+21","v":"2015-01-05"},null,null,null,null,1,{"$f":"A305","v":"2014-09-15"},{"$f":"C305+J305+Q305+Y305","v":0},{"$f":"AE319+1","v":16},{"$f":"D305","v":"2015-01-05"},{"$f":"F305+M305+T305+AB305","v":0}]
[{"$f":"A305+7","v":"2014-09-22"},null,null,{"$f":"D305+7","v":"2015-01-12"},null,null,null,{"$f":"H305+7","v":"2014-09-22"},null,null,{"$f":"K305+7","v":"2015-01-12"},null,null,null,{"$f":"O305+7","v":"2014-09-22"},null,null,{"$f":"R305+7","v":"2015-01-12"},null,null,null,2,{"$f":"W305+7","v":"2014-09-22"},null,null,{"$f":"Z305+7","v":"2015-01-12"},null,null,null,null,{"$f":"AE305+1","v":2},"2014-09-22",0,{"$f":"AH305+1","v":17},"2015-01-12",0]
["2014-09-29",null,null,"2015-01-19",null,null,null,"2014-09-29",null,null,"2015-01-19",null,null,null,"2014-09-29",null,null,"2015-01-19",null,null,null,3,"2014-09-29",null,null,"2015-01-19",null,null,null,null,{"$f":"AE306+1","v":3},"2014-09-29",0,{"$f":"AH306+1","v":18},"2015-01-19",0]
["2014-10-06",null,null,"2015-01-26",null,null,null,"2014-10-06",null,null,"2015-01-26",null,null,null,"2014-10-06",null,null,"2015-01-26",null,null,null,4,"2014-10-06",null,null,"2015-01-26",null,null,null,null,4,"2014-10-06",0,19,"2015-01-26",0]
["2014-10-13",null,null,"2015-02-02",null,null,null,"2014-10-13",null,null,"2015-02-02",null,null,null,"2014-10-13",null,null,"2015-02-02",null,null,null,5,"2014-10-13",null,null,"2015-02-02",null,null,null,null,5,"2014-10-13",0,20,"2015-02-02",0]
["2014-10-20",null,null,"2015-02-09",null,null,null,"2014-10-20",null,null,"2015-02-09",null,null,null,"2014-10-20",null,null,"2015-02-09",null,null,null,6,"2014-10-20",null,null,"2015-02-09",null,null,null,null,6,"2014-10-20",0,21,"2015-02-09",0]
["2014-10-27",null,null,"2015-02-16",null,null,null,"2014-10-27",null,null,"2015-02-16",null,null,null,"2014-10-27",null,null,"2015-02-16",null,null,null,7,"2014-10-27",null,null,"2015-02-16",null,null,null,null,7,"2014-10-27",0,22,"2015-02-16",0]
["2014-11-03",null,null,"2015-02-23",null,null,null,"2014-11-03",null,null,"2015-02-23",null,null,null,"2014-11-03",null,null,"2015-02-23",null,null,null,8,"2014-11-03",null,null,"2015-02-23",null,null,null,null,8,"2014-11-03",0,23,"2015-02-23",0]
["2014-11-10",null,null,"2015-03-02",null,null,null,"2014-11-10",null,null,"2015-03-02",null,null,null,"2014-11-10",null,null,"2015-03-02",null,null,null,9,"2014-11-10",null,null,"2015-03-02",null,null,null,null,9,"2014-11-10",0,24,"2015-03-02",0]
["2014-11-17",null,null,"2015-03-09",null,null,null,"2014-11-17",null,null,"2015-03-09",null,null,null,"2014-11-17",null,null,"2015-03-09",null,null,null,10,"2014-11-17",null,null,"2015-03-09",null,null,null,null,10,"2014-11-17",0,25,"2015-03-09",0]
["2014-11-24",null,null,"2015-03-16",null,null,null,"2014-11-24",null,null,"2015-03-16",null,null,null,"2014-11-24",null,null,"2015-03-16",null,null,null,11,"2014-11-24",null,null,"2015-03-16",null,null,null,null,11,"2014-11-24",0,26,"2015-03-16",0]
["2014-12-01",null,null,{"$f":"D315+7","v":"2015-03-23"},null,null,null,"2014-12-01",null,null,{"$f":"K315+7","v":"2015-03-23"},null,null,null,"2014-12-01",null,null,{"$f":"R315+7","v":"2015-03-23"},null,null,null,12,"2014-12-01",null,null,{"$f":"Z315+7","v":"2015-03-23"},null,null,null,null,12,"2014-12-01",0,27,"2015-03-23",0]
["2014-12-08",null,null,{"$f":"D316+7","v":"2015-03-30"},null,null,null,"2014-12-08",null,null,{"$f":"K316+7","v":"2015-03-30"},null,null,null,"2014-12-08",null,null,{"$f":"R316+7","v":"2015-03-30"},null,null,null,13,"2014-12-08",null,null,{"$f":"Z316+7","v":"2015-03-30"},null,null,null,null,13,"2014-12-08",0,28,"2015-03-30",0]
["2014-12-15",null,null,{"$f":"D317+7","v":"2015-04-06"},null,null,null,"2014-12-15",null,null,{"$f":"K317+7","v":"2015-04-06"},null,null,null,"2014-12-15",null,null,{"$f":"R317+7","v":"2015-04-06"},null,null,null,14,"2014-12-15",null,null,{"$f":"Z317+7","v":"2015-04-06"},null,null,null,null,14,"2014-12-15",0,29,"2015-04-06",0]
["2014-12-22",null,null,{"$f":"D318+7","v":"2015-04-13"},null,null,null,"2014-12-22",null,null,{"$f":"K318+7","v":"2015-04-13"},null,null,null,"2014-12-22",null,null,{"$f":"R318+7","v":"2015-04-13"},null,null,null,15,"2014-12-22",null,null,{"$f":"Z318+7","v":"2015-04-13"},null,null,null,null,15,"2014-12-22",0,30,"2015-04-13",0]
[]
[null,null,null,null,null,null,null,null,null,null,null,null,null,null,null,null,null,null,null,null,null,null,null,null,null,null,null,null,null,null,null,null,{"$f":"C305+C306+C307+C308+C309+C310+C311+C312+C313+C314+C315+C316+C317+C318+C319+F305+F306+F307+F308+F309+F310+F311+F312+F313+F314+F315+F316+F317+F318+F319","v":0},{"$f":"SUM(J305:J319)+SUM(M305:M319)","v":0},{"$f":"SUM(Q305:Q319)+SUM(T305:T319)","v":0},{"$f":"SUM(Y305:Y319)+SUM(AB305:AB319)","v":0}]
[null,null,null,null,null,null,null,null,null,null,null,null,null,null,null,null,null,null,null,null,null,null,null,null,null,null,null,null,null,null,null,null,{"$f":"IF(A321=\"USBC Paid in This League\",AG321-20,AG321)/10","v":0},{"$f":"IF(H321=\"USBC Paid in This League\",AH321-20,AH321)/10","v":0},{"$f":"IF(O321=\"USBC Paid in This League\",AI321-20,AI321)/10","v":0},{"$f":"IF(W321=\"USBC Paid in This League\",AJ321-20,AJ321)/10","v":0}]
[]
[]
[]
[null,null,null,null,null,null,null,null,null,null,null,null,null,null,null,null,null,null,null,null,null,null,null,null,null,null,null,null,15]
["Date","Ref","Amt","Date","Ref","Amt",null,"Date","Ref","Amt","Date","Ref","Amt",null,"Date","Ref","Amt","Date","Ref","Amt",null,"Wk","Date","Ref","Amt","Date","Ref","Amt",null,null,"Weekly Team Summary"]
["2014-09-15",null,null,{"$f":"A341+21","v":"2015-01-05"},null,null,null,"2014-09-15",null,null,{"$f":"H341+21","v":"2015-01-05"},null,null,null,"2014-09-15",null,null,{"$f":"O341+21","v":"2015-01-05"},null,null,null,1,"2014-09-15",null,null,{"$f":"W341+21","v":"2015-01-05"},null,null,null,null,1,{"$f":"A328","v":"2014-09-15"},{"$f":"C328+J328+Q328+Y328","v":0},{"$f":"AE342+1","v":16},{"$f":"D328","v":"2015-01-05"},{"$f":"F328+M328+T328+AB328","v":0}]
[{"$f":"A328+7","v":"2014-09-22"},null,null,{"$f":"D328+7","v":"2015-01-12"},null,null,null,{"$f":"H328+7","v":"2014-09-22"},null,null,{"$f":"K328+7","v":"2015-01-12"},null,null,null,{"$f":"O328+7","v":"2014-09-22"},null,null,{"$f":"R328+7","v":"2015-01-12"},null,null,null,2,{"$f":"W328+7","v":"2014-09-22"},null,null,{"$f":"Z328+7","v":"2015-01-12"},null,null,null,null,{"$f":"AE328+1","v":2},"2014-09-22",0,{"$f":"AH328+1","v":17},"2015-01-12",0]
["2014-09-29",null,null,"2015-01-19",null,null,null,"2014-09-29",null,null,"2015-01-19",null,null,null,"2014-09-29",null,null,"2015-01-19",null,null,null,3,"2014-09-29",null,null,"2015-01-19",null,null,null,null,{"$f":"AE329+1","v":3},"2014-09-29",0,{"$f":"AH329+1","v":18},"2015-01-19",0]
["2014-10-06",null,null,"2015-01-26",null,null,null,"2014-10-06",null,null,"2015-01-26",null,null,null,"2014-10-06",null,null,"2015-01-26",null,null,null,4,"2014-10-06",null,null,"2015-01-26",null,null,null,null,4,"2014-10-06",0,19,"2015-01-26",0]
["2014-10-13",null,null,"2015-02-02",null,null,null,"2014-10-13",null,null,"2015-02-02",null,null,null,"2014-10-13",null,null,"2015-02-02",null,null,null,5,"2014-10-13",null,null,"2015-02-02",null,null,null,null,5,"2014-10-13",0,20,"2015-02-02",0]
["2014-10-20",null,null,"2015-02-09",null,null,null,"2014-10-20",null,null,"2015-02-09",null,null,null,"2014-10-20",null,null,"2015-02-09",null,null,null,6,"2014-10-20",null,null,"2015-02-09",null,null,null,null,6,"2014-10-20",0,21,"2015-02-09",0]
["2014-10-27",null,null,"2015-02-16",null,null,null,"2014-10-27",null,null,"2015-02-16",null,null,null,"2014-10-27",null,null,"2015-02-16",null,null,null,7,"2014-10-27",null,null,"2015-02-16",null,null,null,null,7,"2014-10-27",0,22,"2015-02-16",0]
["2014-11-03",null,null,"2015-02-23",null,null,null,"2014-11-03",null,null,"2015-02-23",null,null,null,"2014-11-03",null,null,"2015-02-23",null,null,null,8,"2014-11-03",null,null,"2015-02-23",null,null,null,null,8,"2014-11-03",0,23,"2015-02-23",0]
["2014-11-10",null,null,"2015-03-02",null,null,null,"2014-11-10",null,null,"2015-03-02",null,null,null,"2014-11-10",null,null,"2015-03-02",null,null,null,9,"2014-11-10",null,null,"2015-03-02",null,null,null,null,9,"2014-11-10",0,24,"2015-03-02",0]
["2014-11-17",null,null,"2015-03-09",null,null,null,"2014-11-17",null,null,"2015-03-09",null,null,null,"2014-11-17",null,null,"2015-03-09",null,null,null,10,"2014-11-17",null,null,"2015-03-09",null,null,null,null,10,"2014-11-17",0,25,"2015-03-09",0]
["2014-11-24",null,null,"2015-03-16",null,null,null,"2014-11-24",null,null,"2015-03-16",null,null,null,"2014-11-24",null,null,"2015-03-16",null,null,null,11,"2014-11-24",null,null,"2015-03-16",null,null,null,null,11,"2014-11-24",0,26,"2015-03-16",0]
["2014-12-01",null,null,{"$f":"D338+7","v":"2015-03-23"},null,null,null,"2014-12-01",null,null,{"$f":"K338+7","v":"2015-03-23"},null,null,null,"2014-12-01",null,null,{"$f":"R338+7","v":"2015-03-23"},null,null,null,12,"2014-12-01",null,null,{"$f":"Z338+7","v":"2015-03-23"},null,null,null,null,12,"2014-12-01",0,27,"2015-03-23",0]
["2014-12-08",null,null,{"$f":"D339+7","v":"2015-03-30"},null,null,null,"2014-12-08",null,null,{"$f":"K339+7","v":"2015-03-30"},null,null,null,"2014-12-08",null,null,{"$f":"R339+7","v":"2015-03-30"},null,null,null,13,"2014-12-08",null,null,{"$f":"Z339+7","v":"2015-03-30"},null,null,null,null,13,"2014-12-08",0,28,"2015-03-30",0]
["2014-12-15",null,null,{"$f":"D340+7","v":"2015-04-06"},null,null,null,"2014-12-15",null,null,{"$f":"K340+7","v":"2015-04-06"},null,null,null,"2014-12-15",null,null,{"$f":"R340+7","v":"2015-04-06"},null,null,null,14,"2014-12-15",null,null,{"$f":"Z340+7","v":"2015-04-06"},null,null,null,null,14,"2014-12-15",0,29,"2015-04-06",0]
["2014-12-22",null,null,{"$f":"D341+7","v":"2015-04-13"},null,null,null,"2014-12-22",null,null,{"$f":"K341+7","v":"2015-04-13"},null,null,null,"2014-12-22",null,null,{"$f":"R341+7","v":"2015-04-13"},null,null,null,15,"2014-12-22",null,null,{"$f":"Z341+7","v":"2015-04-13"},null,null,null,null,15,"2014-12-22",0,30,"2015-04-13",0]
[]
[null,null,null,null,null,null,null,null,null,null,null,null,null,null,null,null,null,null,null,null,null,null,null,null,null,null,null,null,null,null,null,null,{"$f":"C328+C329+C330+C331+C332+C333+C334+C335+C336+C337+C338+C339+C340+C341+C342+F328+F329+F330+F331+F332+F333+F334+F335+F336+F337+F338+F339+F340+F341+F342","v":0},{"$f":"SUM(J328:J342)+SUM(M328:M342)","v":0},{"$f":"SUM(Q328:Q342)+SUM(T328:T342)","v":0},{"$f":"SUM(Y328:Y342)+SUM(AB328:AB342)","v":0}]
[null,null,null,null,null,null,null,null,null,null,null,null,null,null,null,null,null,null,null,null,null,null,null,null,null,null,null,null,null,null,null,null,{"$f":"IF(A344=\"USBC Paid in This League\",AG344-20,AG344)/10","v":0},{"$f":"IF(H344=\"USBC Paid in This League\",AH344-20,AH344)/10","v":0},{"$f":"IF(O344=\"USBC Paid in This League\",AI344-20,AI344)/10","v":0},{"$f":"IF(W344=\"USBC Paid in This League\",AJ344-20,AJ344)/10","v":0}]
[]
[]
[]
[null,null,null,null,null,null,null,null,null,null,null,null,null,null,null,null,null,null,null,null,null,null,null,null,null,null,null,null,16]
["Date","Ref","Amt","Date","Ref","Amt",null,"Date","Ref","Amt","Date","Ref","Amt",null,"Date","Ref","Amt","Date","Ref","Amt",null,"Wk","Date","Ref","Amt","Date","Ref","Amt",null,null,"Weekly Team Summary"]
["2014-09-15",null,null,{"$f":"A364+21","v":"2015-01-05"},null,null,null,"2014-09-15",null,null,{"$f":"H364+21","v":"2015-01-05"},null,null,null,"2014-09-15",null,null,{"$f":"O364+21","v":"2015-01-05"},null,null,null,1,"2014-09-15",null,null,{"$f":"W364+21","v":"2015-01-05"},null,null,null,null,1,{"$f":"A351","v":"2014-09-15"},{"$f":"C351+J351+Q351+Y351","v":0},{"$f":"AE365+1","v":16},{"$f":"D351","v":"2015-01-05"},{"$f":"F351+M351+T351+AB351","v":0}]
[{"$f":"A351+7","v":"2014-09-22"},null,null,{"$f":"D351+7","v":"2015-01-12"},null,null,null,{"$f":"H351+7","v":"2014-09-22"},null,null,{"$f":"K351+7","v":"2015-01-12"},null,null,null,{"$f":"O351+7","v":"2014-09-22"},null,null,{"$f":"R351+7","v":"2015-01-12"},null,null,null,2,{"$f":"W351+7","v":"2014-09-22"},null,null,{"$f":"Z351+7","v":"2015-01-12"},null,null,null,null,{"$f":"AE351+1","v":2},"2014-09-22",0,{"$f":"AH351+1","v":17},"2015-01-12",0]
["2014-09-29",null,null,"2015-01-19",null,null,null,"2014-09-29",null,null,"2015-01-19",null,null,null,"2014-09-29",null,null,"2015-01-19",null,null,null,3,"2014-09-29",null,null,"2015-01-19",null,null,null,null,{"$f":"AE352+1","v":3},"2014-09-29",0,{"$f":"AH352+1","v":18},"2015-01-19",0]
["2014-10-06",null,null,"2015-01-26",null,null,null,"2014-10-06",null,null,"2015-01-26",null,null,null,"2014-10-06",null,null,"2015-01-26",null,null,null,4,"2014-10-06",null,null,"2015-01-26",null,null,null,null,4,"2014-10-06",0,19,"2015-01-26",0]
["2014-10-13",null,null,"2015-02-02",null,null,null,"2014-10-13",null,null,"2015-02-02",null,null,null,"2014-10-13",null,null,"2015-02-02",null,null,null,5,"2014-10-13",null,null,"2015-02-02",null,null,null,null,5,"2014-10-13",0,20,"2015-02-02",0]
["2014-10-20",null,null,"2015-02-09",null,null,null,"2014-10-20",null,null,"2015-02-09",null,null,null,"2014-10-20",null,null,"2015-02-09",null,null,null,6,"2014-10-20",null,null,"2015-02-09",null,null,null,null,6,"2014-10-20",0,21,"2015-02-09",0]
["2014-10-27",null,null,"2015-02-16",null,null,null,"2014-10-27",null,null,"2015-02-16",null,null,null,"2014-10-27",null,null,"2015-02-16",null,null,null,7,"2014-10-27",null,null,"2015-02-16",null,null,null,null,7,"2014-10-27",0,22,"2015-02-16",0]
["2014-11-03",null,null,"2015-02-23",null,null,null,"2014-11-03",null,null,"2015-02-23",null,null,null,"2014-11-03",null,null,"2015-02-23",null,null,null,8,"2014-11-03",null,null,"2015-02-23",null,null,null,null,8,"2014-11-03",0,23,"2015-02-23",0]
["2014-11-10",null,null,"2015-03-02",null,null,null,"2014-11-10",null,null,"2015-03-02",null,null,null,"2014-11-10",null,null,"2015-03-02",null,null,null,9,"2014-11-10",null,null,"2015-03-02",null,null,null,null,9,"2014-11-10",0,24,"2015-03-02",0]
["2014-11-17",null,null,"2015-03-09",null,null,null,"2014-11-17",null,null,"2015-03-09",null,null,null,"2014-11-17",null,null,"2015-03-09",null,null,null,10,"2014-11-17",null,null,"2015-03-09",null,null,null,null,10,"2014-11-17",0,25,"2015-03-09",0]
["2014-11-24",null,null,"2015-03-16",null,null,null,"2014-11-24",null,null,"2015-03-16",null,null,null,"2014-11-24",null,null,"2015-03-16",null,null,null,11,"2014-11-24",null,null,"2015-03-16",null,null,null,null,11,"2014-11-24",0,26,"2015-03-16",0]
["2014-12-01",null,null,{"$f":"D361+7","v":"2015-03-23"},null,null,null,"2014-12-01",null,null,{"$f":"K361+7","v":"2015-03-23"},null,null,null,"2014-12-01",null,null,{"$f":"R361+7","v":"2015-03-23"},null,null,null,12,"2014-12-01",null,null,{"$f":"Z361+7","v":"2015-03-23"},null,null,null,null,12,"2014-12-01",0,27,"2015-03-23",0]
["2014-12-08",null,null,{"$f":"D362+7","v":"2015-03-30"},null,null,null,"2014-12-08",null,null,{"$f":"K362+7","v":"2015-03-30"},null,null,null,"2014-12-08",null,null,{"$f":"R362+7","v":"2015-03-30"},null,null,null,13,"2014-12-08",null,null,{"$f":"Z362+7","v":"2015-03-30"},null,null,null,null,13,"2014-12-08",0,28,"2015-03-30",0]
["2014-12-15",null,null,{"$f":"D363+7","v":"2015-04-06"},null,null,null,"2014-12-15",null,null,{"$f":"K363+7","v":"2015-04-06"},null,null,null,"2014-12-15",null,null,{"$f":"R363+7","v":"2015-04-06"},null,null,null,14,"2014-12-15",null,null,{"$f":"Z363+7","v":"2015-04-06"},null,null,null,null,14,"2014-12-15",0,29,"2015-04-06",0]
["2014-12-22",null,null,{"$f":"D364+7","v":"2015-04-13"},null,null,null,"2014-12-22",null,null,{"$f":"K364+7","v":"2015-04-13"},null,null,null,"2014-12-22",null,null,{"$f":"R364+7","v":"2015-04-13"},null,null,null,15,"2014-12-22",null,null,{"$f":"Z364+7","v":"2015-04-13"},null,null,null,null,15,"2014-12-22",0,30,"2015-04-13",0]
[]
[null,null,null,null,null,null,null,null,null,null,null,null,null,null,null,null,null,null,null,null,null,null,null,null,null,null,null,null,null,null,null,null,{"$f":"C351+C352+C353+C354+C355+C356+C357+C358+C359+C360+C361+C362+C363+C364+C365+F351+F352+F353+F354+F355+F356+F357+F358+F359+F360+F361+F362+F363+F364+F365","v":0},{"$f":"SUM(J351:J365)+SUM(M351:M365)","v":0},{"$f":"SUM(Q351:Q365)+SUM(T351:T365)","v":0},{"$f":"SUM(Y351:Y365)+SUM(AB351:AB365)","v":0}]
[null,null,null,null,null,null,null,null,null,null,null,null,null,null,null,null,null,null,null,null,null,null,null,null,null,null,null,null,null,null,null,null,{"$f":"IF(A367=\"USBC Paid in This League\",AG367-20,AG367)/10","v":0},{"$f":"IF(H367=\"USBC Paid in This League\",AH367-20,AH367)/10","v":0},{"$f":"IF(O367=\"USBC Paid in This League\",AI367-20,AI367)/10","v":0},{"$f":"IF(W367=\"USBC Paid in This League\",AJ367-20,AJ367)/10","v":0}]
[]
[]
[]
[null,null,null,null,null,null,null,null,null,null,null,null,null,null,null,null,null,null,null,null,null,null,null,null,null,null,null,null,17]
["Date","Ref","Amt","Date","Ref","Amt",null,"Date","Ref","Amt","Date","Ref","Amt",null,"Date","Ref","Amt","Date","Ref","Amt",null,"Wk","Date","Ref","Amt","Date","Ref","Amt",null,null,"Weekly Team Summary"]
["2014-09-15",null,null,{"$f":"A387+21","v":"2015-01-05"},null,null,null,"2014-09-15",null,null,{"$f":"H387+21","v":"2015-01-05"},null,null,null,"2014-09-15",null,null,{"$f":"O387+21","v":"2015-01-05"},null,null,null,1,"2014-09-15",null,null,{"$f":"W387+21","v":"2015-01-05"},null,null,null,null,1,{"$f":"A374","v":"2014-09-15"},{"$f":"C374+J374+Q374+Y374","v":0},{"$f":"AE388+1","v":16},{"$f":"D374","v":"2015-01-05"},{"$f":"F374+M374+T374+AB374","v":0}]
[{"$f":"A374+7","v":"2014-09-22"},null,null,{"$f":"D374+7","v":"2015-01-12"},null,null,null,{"$f":"H374+7","v":"2014-09-22"},null,null,{"$f":"K374+7","v":"2015-01-12"},null,null,null,{"$f":"O374+7","v":"2014-09-22"},null,null,{"$f":"R374+7","v":"2015-01-12"},null,null,null,2,{"$f":"W374+7","v":"2014-09-22"},null,null,{"$f":"Z374+7","v":"2015-01-12"},null,null,null,null,{"$f":"AE374+1","v":2},"2014-09-22",0,{"$f":"AH374+1","v":17},"2015-01-12",0]
["2014-09-29",null,null,"2015-01-19",null,null,null,"2014-09-29",null,null,"2015-01-19",null,null,null,"2014-09-29",null,null,"2015-01-19",null,null,null,3,"2014-09-29",null,null,"2015-01-19",null,null,null,null,{"$f":"AE375+1","v":3},"2014-09-29",0,{"$f":"AH375+1","v":18},"2015-01-19",0]
["2014-10-06",null,null,"2015-01-26",null,null,null,"2014-10-06",null,null,"2015-01-26",null,null,null,"2014-10-06",null,null,"2015-01-26",null,null,null,4,"2014-10-06",null,null,"2015-01-26",null,null,null,null,4,"2014-10-06",0,19,"2015-01-26",0]
["2014-10-13",null,null,"2015-02-02",null,null,null,"2014-10-13",null,null,"2015-02-02",null,null,null,"2014-10-13",null,null,"2015-02-02",null,null,null,5,"2014-10-13",null,null,"2015-02-02",null,null,null,null,5,"2014-10-13",0,20,"2015-02-02",0]
["2014-10-20",null,null,"2015-02-09",null,null,null,"2014-10-20",null,null,"2015-02-09",null,null,null,"2014-10-20",null,null,"2015-02-09",null,null,null,6,"2014-10-20",null,null,"2015-02-09",null,null,null,null,6,"2014-10-20",0,21,"2015-02-09",0]
["2014-10-27",null,null,"2015-02-16",null,null,null,"2014-10-27",null,null,"2015-02-16",null,null,null,"2014-10-27",null,null,"2015-02-16",null,null,null,7,"2014-10-27",null,null,"2015-02-16",null,null,null,null,7,"2014-10-27",0,22,"2015-02-16",0]
["2014-11-03",null,null,"2015-02-23",null,null,null,"2014-11-03",null,null,"2015-02-23",null,null,null,"2014-11-03",null,null,"2015-02-23",null,null,null,8,"2014-11-03",null,null,"2015-02-23",null,null,null,null,8,"2014-11-03",0,23,"2015-02-23",0]
["2014-11-10",null,null,"2015-03-02",null,null,null,"2014-11-10",null,null,"2015-03-02",null,null,null,"2014-11-10",null,null,"2015-03-02",null,null,null,9,"2014-11-10",null,null,"2015-03-02",null,null,null,null,9,"2014-11-10",0,24,"2015-03-02",0]
["2014-11-17",null,null,"2015-03-09",null,null,null,"2014-11-17",null,null,"2015-03-09",null,null,null,"2014-11-17",null,null,"2015-03-09",null,null,null,10,"2014-11-17",null,null,"2015-03-09",null,null,null,null,10,"2014-11-17",0,25,"2015-03-09",0]
["2014-11-24",null,null,"2015-03-16",null,null,null,"2014-11-24",null,null,"2015-03-16",null,null,null,"2014-11-24",null,null,"2015-03-16",null,null,null,11,"2014-11-24",null,null,"2015-03-16",null,null,null,null,11,"2014-11-24",0,26,"2015-03-16",0]
["2014-12-01",null,null,{"$f":"D384+7","v":"2015-03-23"},null,null,null,"2014-12-01",null,null,{"$f":"K384+7","v":"2015-03-23"},null,null,null,"2014-12-01",null,null,{"$f":"R384+7","v":"2015-03-23"},null,null,null,12,"2014-12-01",null,null,{"$f":"Z384+7","v":"2015-03-23"},null,null,null,null,12,"2014-12-01",0,27,"2015-03-23",0]
["2014-12-08",null,null,{"$f":"D385+7","v":"2015-03-30"},null,null,null,"2014-12-08",null,null,{"$f":"K385+7","v":"2015-03-30"},null,null,null,"2014-12-08",null,null,{"$f":"R385+7","v":"2015-03-30"},null,null,null,13,"2014-12-08",null,null,{"$f":"Z385+7","v":"2015-03-30"},null,null,null,null,13,"2014-12-08",0,28,"2015-03-30",0]
["2014-12-15",null,null,{"$f":"D386+7","v":"2015-04-06"},null,null,null,"2014-12-15",null,null,{"$f":"K386+7","v":"2015-04-06"},null,null,null,"2014-12-15",null,null,{"$f":"R386+7","v":"2015-04-06"},null,null,null,14,"2014-12-15",null,null,{"$f":"Z386+7","v":"2015-04-06"},null,null,null,null,14,"2014-12-15",0,29,"2015-04-06",0]
["2014-12-22",null,null,{"$f":"D387+7","v":"2015-04-13"},null,null,null,"2014-12-22",null,null,{"$f":"K387+7","v":"2015-04-13"},null,null,null,"2014-12-22",null,null,{"$f":"R387+7","v":"2015-04-13"},null,null,null,15,"2014-12-22",null,null,{"$f":"Z387+7","v":"2015-04-13"},null,null,null,null,15,"2014-12-22",0,30,"2015-04-13",0]
[]
[null,null,null,null,null,null,null,null,null,null,null,null,null,null,null,null,null,null,null,null,null,null,null,null,null,null,null,null,null,null,null,null,{"$f":"C374+C375+C376+C377+C378+C379+C380+C381+C382+C383+C384+C385+C386+C387+C388+F374+F375+F376+F377+F378+F379+F380+F381+F382+F383+F384+F385+F386+F387+F388","v":0},{"$f":"SUM(J374:J388)+SUM(M374:M388)","v":0},{"$f":"SUM(Q374:Q388)+SUM(T374:T388)","v":0},{"$f":"SUM(Y374:Y388)+SUM(AB374:AB388)","v":0}]
[null,null,null,null,null,null,null,null,null,null,null,null,null,null,null,null,null,null,null,null,null,null,null,null,null,null,null,null,null,null,null,null,{"$f":"IF(A390=\"USBC Paid in This League\",AG390-20,AG390)/10","v":0},{"$f":"IF(H390=\"USBC Paid in This League\",AH390-20,AH390)/10","v":0},{"$f":"IF(O390=\"USBC Paid in This League\",AI390-20,AI390)/10","v":0},{"$f":"IF(W390=\"USBC Paid in This League\",AJ390-20,AJ390)/10","v":0}]
[]
[]
[]
[null,null,null,null,null,null,null,null,null,null,null,null,null,null,null,null,null,null,null,null,null,null,null,null,null,null,null,null,18]
["Date","Ref","Amt","Date","Ref","Amt",null,"Date","Ref","Amt","Date","Ref","Amt",null,"Date","Ref","Amt","Date","Ref","Amt",null,"Wk","Date","Ref","Amt","Date","Ref","Amt",null,null,"Weekly Team Summary"]
["2014-09-15",null,null,{"$f":"A410+21","v":"2015-01-05"},null,null,null,"2014-09-15",null,null,{"$f":"H410+21","v":"2015-01-05"},null,null,null,"2014-09-15",null,null,{"$f":"O410+21","v":"2015-01-05"},null,null,null,1,"2014-09-15",null,null,{"$f":"W410+21","v":"2015-01-05"},null,null,null,null,1,{"$f":"A397","v":"2014-09-15"},{"$f":"C397+J397+Q397+Y397","v":0},{"$f":"AE411+1","v":16},{"$f":"D397","v":"2015-01-05"},{"$f":"F397+M397+T397+AB397","v":0}]
[{"$f":"A397+7","v":"2014-09-22"},null,null,{"$f":"D397+7","v":"2015-01-12"},null,null,null,{"$f":"H397+7","v":"2014-09-22"},null,null,{"$f":"K397+7","v":"2015-01-12"},null,null,null,{"$f":"O397+7","v":"2014-09-22"},null,null,{"$f":"R397+7","v":"2015-01-12"},null,null,null,2,{"$f":"W397+7","v":"2014-09-22"},null,null,{"$f":"Z397+7","v":"2015-01-12"},null,null,null,null,{"$f":"AE397+1","v":2},"2014-09-22",0,{"$f":"AH397+1","v":17},"2015-01-12",0]
["2014-09-29",null,null,"2015-01-19",null,null,null,"2014-09-29",null,null,"2015-01-19",null,null,null,"2014-09-29",null,null,"2015-01-19",null,null,null,3,"2014-09-29",null,null,"2015-01-19",null,null,null,null,{"$f":"AE398+1","v":3},"2014-09-29",0,{"$f":"AH398+1","v":18},"2015-01-19",0]
["2014-10-06",null,null,"2015-01-26",null,null,null,"2014-10-06",null,null,"2015-01-26",null,null,null,"2014-10-06",null,null,"2015-01-26",null,null,null,4,"2014-10-06",null,null,"2015-01-26",null,null,null,null,4,"2014-10-06",0,19,"2015-01-26",0]
["2014-10-13",null,null,"2015-02-02",null,null,null,"2014-10-13",null,null,"2015-02-02",null,null,null,"2014-10-13",null,null,"2015-02-02",null,null,null,5,"2014-10-13",null,null,"2015-02-02",null,null,null,null,5,"2014-10-13",0,20,"2015-02-02",0]
["2014-10-20",null,null,"2015-02-09",null,null,null,"2014-10-20",null,null,"2015-02-09",null,null,null,"2014-10-20",null,null,"2015-02-09",null,null,null,6,"2014-10-20",null,null,"2015-02-09",null,null,null,null,6,"2014-10-20",0,21,"2015-02-09",0]
["2014-10-27",null,null,"2015-02-16",null,null,null,"2014-10-27",null,null,"2015-02-16",null,null,null,"2014-10-27",null,null,"2015-02-16",null,null,null,7,"2014-10-27",null,null,"2015-02-16",null,null,null,null,7,"2014-10-27",0,22,"2015-02-16",0]
["2014-11-03",null,null,"2015-02-23",null,null,null,"2014-11-03",null,null,"2015-02-23",null,null,null,"2014-11-03",null,null,"2015-02-23",null,null,null,8,"2014-11-03",null,null,"2015-02-23",null,null,null,null,8,"2014-11-03",0,23,"2015-02-23",0]
["2014-11-10",null,null,"2015-03-02",null,null,null,"2014-11-10",null,null,"2015-03-02",null,null,null,"2014-11-10",null,null,"2015-03-02",null,null,null,9,"2014-11-10",null,null,"2015-03-02",null,null,null,null,9,"2014-11-10",0,24,"2015-03-02",0]
["2014-11-17",null,null,"2015-03-09",null,null,null,"2014-11-17",null,null,"2015-03-09",null,null,null,"2014-11-17",null,null,"2015-03-09",null,null,null,10,"2014-11-17",null,null,"2015-03-09",null,null,null,null,10,"2014-11-17",0,25,"2015-03-09",0]
["2014-11-24",null,null,"2015-03-16",null,null,null,"2014-11-24",null,null,"2015-03-16",null,null,null,"2014-11-24",null,null,"2015-03-16",null,null,null,11,"2014-11-24",null,null,"2015-03-16",null,null,null,null,11,"2014-11-24",0,26,"2015-03-16",0]
["2014-12-01",null,null,{"$f":"D407+7","v":"2015-03-23"},null,null,null,"2014-12-01",null,null,{"$f":"K407+7","v":"2015-03-23"},null,null,null,"2014-12-01",null,null,{"$f":"R407+7","v":"2015-03-23"},null,null,null,12,"2014-12-01",null,null,{"$f":"Z407+7","v":"2015-03-23"},null,null,null,null,12,"2014-12-01",0,27,"2015-03-23",0]
["2014-12-08",null,null,{"$f":"D408+7","v":"2015-03-30"},null,null,null,"2014-12-08",null,null,{"$f":"K408+7","v":"2015-03-30"},null,null,null,"2014-12-08",null,null,{"$f":"R408+7","v":"2015-03-30"},null,null,null,13,"2014-12-08",null,null,{"$f":"Z408+7","v":"2015-03-30"},null,null,null,null,13,"2014-12-08",0,28,"2015-03-30",0]
["2014-12-15",null,null,{"$f":"D409+7","v":"2015-04-06"},null,null,null,"2014-12-15",null,null,{"$f":"K409+7","v":"2015-04-06"},null,null,null,"2014-12-15",null,null,{"$f":"R409+7","v":"2015-04-06"},null,null,null,14,"2014-12-15",null,null,{"$f":"Z409+7","v":"2015-04-06"},null,null,null,null,14,"2014-12-15",0,29,"2015-04-06",0]
["2014-12-22",null,null,{"$f":"D410+7","v":"2015-04-13"},null,null,null,"2014-12-22",null,null,{"$f":"K410+7","v":"2015-04-13"},null,null,null,"2014-12-22",null,null,{"$f":"R410+7","v":"2015-04-13"},null,null,null,15,"2014-12-22",null,null,{"$f":"Z410+7","v":"2015-04-13"},null,null,null,null,15,"2014-12-22",0,30,"2015-04-13",0]
[]
[null,null,null,null,null,null,null,null,null,null,null,null,null,null,null,null,null,null,null,null,null,null,null,null,null,null,null,null,null,null,null,null,{"$f":"C397+C398+C399+C400+C401+C402+C403+C404+C405+C406+C407+C408+C409+C410+C411+F397+F398+F399+F400+F401+F402+F403+F404+F405+F406+F407+F408+F409+F410+F411","v":0},{"$f":"SUM(J397:J411)+SUM(M397:M411)","v":0},{"$f":"SUM(Q397:Q411)+SUM(T397:T411)","v":0},{"$f":"SUM(Y397:Y411)+SUM(AB397:AB411)","v":0}]
[null,null,null,null,null,null,null,null,null,null,null,null,null,null,null,null,null,null,null,null,null,null,null,null,null,null,null,null,null,null,null,null,{"$f":"IF(A413=\"USBC Paid in This League\",AG413-20,AG413)/10","v":0},{"$f":"IF(H413=\"USBC Paid in This League\",AH413-20,AH413)/10","v":0},{"$f":"IF(O413=\"USBC Paid in This League\",AI413-20,AI413)/10","v":0},{"$f":"IF(W413=\"USBC Paid in This League\",AJ413-20,AJ413)/10","v":0}]
[]
[]
[]
[null,null,null,null,null,null,null,null,null,null,null,null,null,null,null,null,null,null,null,null,null,null,null,null,null,null,null,null,19]
["Date","Ref","Amt","Date","Ref","Amt",null,"Date","Ref","Amt","Date","Ref","Amt",null,"Date","Ref","Amt","Date","Ref","Amt",null,"Wk","Date","Ref","Amt","Date","Ref","Amt",null,null,"Weekly Team Summary"]
["2014-09-15",null,null,{"$f":"A433+21","v":"2015-01-05"},null,null,null,"2014-09-15",null,null,{"$f":"H433+21","v":"2015-01-05"},null,null,null,"2014-09-15",null,null,{"$f":"O433+21","v":"2015-01-05"},null,null,null,1,"2014-09-15",null,null,{"$f":"W433+21","v":"2015-01-05"},null,null,null,null,1,{"$f":"A420","v":"2014-09-15"},{"$f":"C420+J420+Q420+Y420","v":0},{"$f":"AE434+1","v":16},{"$f":"D420","v":"2015-01-05"},{"$f":"F420+M420+T420+AB420","v":0}]
[{"$f":"A420+7","v":"2014-09-22"},null,null,{"$f":"D420+7","v":"2015-01-12"},null,null,null,{"$f":"H420+7","v":"2014-09-22"},null,null,{"$f":"K420+7","v":"2015-01-12"},null,null,null,{"$f":"O420+7","v":"2014-09-22"},null,null,{"$f":"R420+7","v":"2015-01-12"},null,null,null,2,{"$f":"W420+7","v":"2014-09-22"},null,null,{"$f":"Z420+7","v":"2015-01-12"},null,null,null,null,{"$f":"AE420+1","v":2},"2014-09-22",0,{"$f":"AH420+1","v":17},"2015-01-12",0]
["2014-09-29",null,null,"2015-01-19",null,null,null,"2014-09-29",null,null,"2015-01-19",null,null,null,"2014-09-29",null,null,"2015-01-19",null,null,null,3,"2014-09-29",null,null,"2015-01-19",null,null,null,null,{"$f":"AE421+1","v":3},"2014-09-29",0,{"$f":"AH421+1","v":18},"2015-01-19",0]
["2014-10-06",null,null,"2015-01-26",null,null,null,"2014-10-06",null,null,"2015-01-26",null,null,null,"2014-10-06",null,null,"2015-01-26",null,null,null,4,"2014-10-06",null,null,"2015-01-26",null,null,null,null,4,"2014-10-06",0,19,"2015-01-26",0]
["2014-10-13",null,null,"2015-02-02",null,null,null,"2014-10-13",null,null,"2015-02-02",null,null,null,"2014-10-13",null,null,"2015-02-02",null,null,null,5,"2014-10-13",null,null,"2015-02-02",null,null,null,null,5,"2014-10-13",0,20,"2015-02-02",0]
["2014-10-20",null,null,"2015-02-09",null,null,null,"2014-10-20",null,null,"2015-02-09",null,null,null,"2014-10-20",null,null,"2015-02-09",null,null,null,6,"2014-10-20",null,null,"2015-02-09",null,null,null,null,6,"2014-10-20",0,21,"2015-02-09",0]
["2014-10-27",null,null,"2015-02-16",null,null,null,"2014-10-27",null,null,"2015-02-16",null,null,null,"2014-10-27",null,null,"2015-02-16",null,null,null,7,"2014-10-27",null,null,"2015-02-16",null,null,null,null,7,"2014-10-27",0,22,"2015-02-16",0]
["2014-11-03",null,null,"2015-02-23",null,null,null,"2014-11-03",null,null,"2015-02-23",null,null,null,"2014-11-03",null,null,"2015-02-23",null,null,null,8,"2014-11-03",null,null,"2015-02-23",null,null,null,null,8,"2014-11-03",0,23,"2015-02-23",0]
["2014-11-10",null,null,"2015-03-02",null,null,null,"2014-11-10",null,null,"2015-03-02",null,null,null,"2014-11-10",null,null,"2015-03-02",null,null,null,9,"2014-11-10",null,null,"2015-03-02",null,null,null,null,9,"2014-11-10",0,24,"2015-03-02",0]
["2014-11-17",null,null,"2015-03-09",null,null,null,"2014-11-17",null,null,"2015-03-09",null,null,null,"2014-11-17",null,null,"2015-03-09",null,null,null,10,"2014-11-17",null,null,"2015-03-09",null,null,null,null,10,"2014-11-17",0,25,"2015-03-09",0]
["2014-11-24",null,null,"2015-03-16",null,null,null,"2014-11-24",null,null,"2015-03-16",null,null,null,"2014-11-24",null,null,"2015-03-16",null,null,null,11,"2014-11-24",null,null,"2015-03-16",null,null,null,null,11,"2014-11-24",0,26,"2015-03-16",0]
["2014-12-01",null,null,{"$f":"D430+7","v":"2015-03-23"},null,null,null,"2014-12-01",null,null,{"$f":"K430+7","v":"2015-03-23"},null,null,null,"2014-12-01",null,null,{"$f":"R430+7","v":"2015-03-23"},null,null,null,12,"2014-12-01",null,null,{"$f":"Z430+7","v":"2015-03-23"},null,null,null,null,12,"2014-12-01",0,27,"2015-03-23",0]
["2014-12-08",null,null,{"$f":"D431+7","v":"2015-03-30"},null,null,null,"2014-12-08",null,null,{"$f":"K431+7","v":"2015-03-30"},null,null,null,"2014-12-08",null,null,{"$f":"R431+7","v":"2015-03-30"},null,null,null,13,"2014-12-08",null,null,{"$f":"Z431+7","v":"2015-03-30"},null,null,null,null,13,"2014-12-08",0,28,"2015-03-30",0]
["2014-12-15",null,null,{"$f":"D432+7","v":"2015-04-06"},null,null,null,"2014-12-15",null,null,{"$f":"K432+7","v":"2015-04-06"},null,null,null,"2014-12-15",null,null,{"$f":"R432+7","v":"2015-04-06"},null,null,null,14,"2014-12-15",null,null,{"$f":"Z432+7","v":"2015-04-06"},null,null,null,null,14,"2014-12-15",0,29,"2015-04-06",0]
["2014-12-22",null,null,{"$f":"D433+7","v":"2015-04-13"},null,null,null,"2014-12-22",null,null,{"$f":"K433+7","v":"2015-04-13"},null,null,null,"2014-12-22",null,null,{"$f":"R433+7","v":"2015-04-13"},null,null,null,15,"2014-12-22",null,null,{"$f":"Z433+7","v":"2015-04-13"},null,null,null,null,15,"2014-12-22",0,30,"2015-04-13",0]
[]
[null,null,null,null,null,null,null,null,null,null,null,null,null,null,null,null,null,null,null,null,null,null,null,null,null,null,null,null,null,null,null,null,{"$f":"C420+C421+C422+C423+C424+C425+C426+C427+C428+C429+C430+C431+C432+C433+C434+F420+F421+F422+F423+F424+F425+F426+F427+F428+F429+F430+F431+F432+F433+F434","v":0},{"$f":"SUM(J420:J434)+SUM(M420:M434)","v":0},{"$f":"SUM(Q420:Q434)+SUM(T420:T434)","v":0},{"$f":"SUM(Y420:Y434)+SUM(AB420:AB434)","v":0}]
[null,null,null,null,null,null,null,null,null,null,null,null,null,null,null,null,null,null,null,null,null,null,null,null,null,null,null,null,null,null,null,null,{"$f":"IF(A436=\"USBC Paid in This League\",AG436-20,AG436)/10","v":0},{"$f":"IF(H436=\"USBC Paid in This League\",AH436-20,AH436)/10","v":0},{"$f":"IF(O436=\"USBC Paid in This League\",AI436-20,AI436)/10","v":0},{"$f":"IF(W436=\"USBC Paid in This League\",AJ436-20,AJ436)/10","v":0}]
[]
[]
[]
[null,null,null,null,null,null,null,null,null,null,null,null,null,null,null,null,null,null,null,null,null,null,null,null,null,null,null,null,20]
[null,null,null,null,null,null,null,null,null,null,null,null,null,null,null,null,null,null,null,null,null,null,null,null,null,null,null,null,null,null,"Weekly Team Summary"]
["2014-09-15",null,null,{"$f":"A456+21","v":"2015-01-05"},null,null,null,"2014-09-15",null,null,{"$f":"H456+21","v":"2015-01-05"},null,null,null,"2014-09-15",null,null,{"$f":"O456+21","v":"2015-01-05"},null,null,null,1,"2014-09-15",null,null,{"$f":"W456+21","v":"2015-01-05"},null,null,null,null,1,{"$f":"A443","v":"2014-09-15"},{"$f":"C443+J443+Q443+Y443","v":0},{"$f":"AE457+1","v":16},{"$f":"K443","v":"2015-01-05"},{"$f":"F443+M443+T443+AB443","v":0}]
[{"$f":"A443+7","v":"2014-09-22"},null,null,{"$f":"D443+7","v":"2015-01-12"},null,null,null,{"$f":"H443+7","v":"2014-09-22"},null,null,{"$f":"K443+7","v":"2015-01-12"},null,null,null,{"$f":"O443+7","v":"2014-09-22"},null,null,{"$f":"R443+7","v":"2015-01-12"},null,null,null,2,{"$f":"W443+7","v":"2014-09-22"},null,null,{"$f":"Z443+7","v":"2015-01-12"},null,null,null,null,{"$f":"AE443+1","v":2},"2014-09-22",0,{"$f":"AH443+1","v":17},{"$f":"K444","v":"2015-01-12"},0]
["2014-09-29",null,null,"2015-01-19",null,null,null,"2014-09-29",null,null,"2015-01-19",null,null,null,"2014-09-29",null,null,"2015-01-19",null,null,null,3,"2014-09-29",null,null,"2015-01-19",null,null,null,null,{"$f":"AE444+1","v":3},"2014-09-29",0,{"$f":"AH444+1","v":18},{"$f":"K445","v":"2015-01-19"},0]
["2014-10-06",null,null,"2015-01-26",null,null,null,"2014-10-06",null,null,"2015-01-26",null,null,null,"2014-10-06",null,null,"2015-01-26",null,null,null,4,"2014-10-06",null,null,"2015-01-26",null,null,null,null,4,"2014-10-06",0,19,{"$f":"K446","v":"2015-01-26"},0]
["2014-10-13",null,null,"2015-02-02",null,null,null,"2014-10-13",null,null,"2015-02-02",null,null,null,"2014-10-13",null,null,"2015-02-02",null,null,null,5,"2014-10-13",null,null,"2015-02-02",null,null,null,null,5,"2014-10-13",0,20,{"$f":"D447","v":"2015-02-02"},0]
["2014-10-20",null,null,"2015-02-09",null,null,null,"2014-10-20",null,null,"2015-02-09",null,null,null,"2014-10-20",null,null,"2015-02-09",null,null,null,6,"2014-10-20",null,null,"2015-02-09",null,null,null,null,6,"2014-10-20",0,21,"2015-02-09",0]
["2014-10-27",null,null,"2015-02-16",null,null,null,"2014-10-27",null,null,"2015-02-16",null,null,null,"2014-10-27",null,null,"2015-02-16",null,null,null,7,"2014-10-27",null,null,"2015-02-16",null,null,null,null,7,"2014-10-27",0,22,"2015-02-16",0]
["2014-11-03",null,null,"2015-02-23",null,null,null,"2014-11-03",null,null,"2015-02-23",null,null,null,"2014-11-03",null,null,"2015-02-23",null,null,null,8,"2014-11-03",null,null,"2015-02-23",null,null,null,null,8,"2014-11-03",0,23,"2015-02-23",0]
["2014-11-10",null,null,"2015-03-02",null,null,null,"2014-11-10",null,null,"2015-03-02",null,null,null,"2014-11-10",null,null,"2015-03-02",null,null,null,9,"2014-11-10",null,null,"2015-03-02",null,null,null,null,9,"2014-11-10",0,24,"2015-03-02",0]
["2014-11-17",null,null,"2015-03-09",null,null,null,"2014-11-17",null,null,"2015-03-09",null,null,null,"2014-11-17",null,null,"2015-03-09",null,null,null,10,"2014-11-17",null,null,"2015-03-09",null,null,null,null,10,"2014-11-17",0,25,"2015-03-09",0]
["2014-11-24",null,null,"2015-03-16",null,null,null,"2014-11-24",null,null,"2015-03-16",null,null,null,"2014-11-24",null,null,"2015-03-16",null,null,null,11,"2014-11-24",null,null,"2015-03-16",null,null,null,null,11,"2014-11-24",0,26,"2015-03-16",0]
["2014-12-01",null,null,{"$f":"D453+7","v":"2015-03-23"},null,null,null,"2014-12-01",null,null,{"$f":"K453+7","v":"2015-03-23"},null,null,null,"2014-12-01",null,null,{"$f":"R453+7","v":"2015-03-23"},null,null,null,12,"2014-12-01",null,null,{"$f":"Z453+7","v":"2015-03-23"},null,null,null,null,12,"2014-12-01",0,27,"2015-03-23",0]
["2014-12-08",null,null,{"$f":"D454+7","v":"2015-03-30"},null,null,null,"2014-12-08",null,null,{"$f":"K454+7","v":"2015-03-30"},null,null,null,"2014-12-08",null,null,{"$f":"R454+7","v":"2015-03-30"},null,null,null,13,"2014-12-08",null,null,{"$f":"Z454+7","v":"2015-03-30"},null,null,null,null,13,"2014-12-08",0,28,"2015-03-30",0]
["2014-12-15",null,null,{"$f":"D455+7","v":"2015-04-06"},null,null,null,"2014-12-15",null,null,{"$f":"K455+7","v":"2015-04-06"},null,null,null,"2014-12-15",null,null,{"$f":"R455+7","v":"2015-04-06"},null,null,null,14,"2014-12-15",null,null,{"$f":"Z455+7","v":"2015-04-06"},null,null,null,null,14,"2014-12-15",0,29,"2015-04-06",0]
["2014-12-22",null,null,{"$f":"D456+7","v":"2015-04-13"},null,null,null,"2014-12-22",null,null,{"$f":"K456+7","v":"2015-04-13"},null,null,null,"2014-12-22",null,null,{"$f":"R456+7","v":"2015-04-13"},null,null,null,15,"2014-12-22",null,null,{"$f":"Z456+7","v":"2015-04-13"},null,null,null,null,15,"2014-12-22",0,30,"2015-04-13",0]
[]
[null,null,null,null,null,null,null,null,null,null,null,null,null,null,null,null,null,null,null,null,null,null,null,null,null,null,null,null,null,null,null,null,{"$f":"C443+C444+C445+C446+C447+C448+C449+C450+C451+C452+C453+C454+C455+C456+C457+F443+F444+F445+F446+F447+F448+F449+F450+F451+F452+F453+F454+F455+F456+F457","v":0},{"$f":"SUM(J443:J457)+SUM(M443:M457)","v":0},{"$f":"SUM(Q443:Q457)+SUM(T443:T457)","v":0},{"$f":"SUM(Y443:Y457)+SUM(AB443:AB457)","v":0}]
[null,null,null,null,null,null,null,null,null,null,null,null,null,null,null,null,null,null,null,null,null,null,null,null,null,null,null,null,null,null,null,null,{"$f":"IF(A459=\"USBC Paid in This League\",AG459-20,AG459)/10","v":0},{"$f":"IF(H459=\"USBC Paid in This League\",AH459-20,AH459)/10","v":0},{"$f":"IF(O459=\"USBC Paid in This League\",AI459-20,AI459)/10","v":0},{"$f":"IF(W459=\"USBC Paid in This League\",AJ459-20,AJ459)/10","v":0}]
[]
[]
[]
[null,null,null,null,null,null,null,null,null,null,null,null,null,null,null,null,null,null,null,null,null,null,null,null,null,null,null,null,21]
["Date","Ref","Amt","Date","Ref","Amt",null,"Date","Ref","Amt","Date","Ref","Amt",null,"Date","Ref","Amt","Date","Ref","Amt",null,"Wk","Date","Ref","Amt","Date","Ref","Amt",null,null,"Weekly Team Summary"]
["2014-09-15",null,null,{"$f":"A479+21","v":"2015-01-05"},null,null,null,"2014-09-15",null,null,{"$f":"H479+21","v":"2015-01-05"},null,null,null,"2014-09-15",null,null,{"$f":"O479+21","v":"2015-01-05"},null,null,null,1,"2014-09-15",null,null,{"$f":"W479+21","v":"2015-01-05"},null,null,null,null,1,{"$f":"A466","v":"2014-09-15"},{"$f":"C466+J466+Q466+Y466","v":0},{"$f":"AE480+1","v":16},{"$f":"D466","v":"2015-01-05"},{"$f":"F466+M466+T466+AB466","v":0}]
[{"$f":"A466+7","v":"2014-09-22"},null,null,{"$f":"D466+7","v":"2015-01-12"},null,null,null,{"$f":"H466+7","v":"2014-09-22"},null,null,{"$f":"K466+7","v":"2015-01-12"},null,null,null,{"$f":"O466+7","v":"2014-09-22"},null,null,{"$f":"R466+7","v":"2015-01-12"},null,null,null,2,{"$f":"W466+7","v":"2014-09-22"},null,null,{"$f":"Z466+7","v":"2015-01-12"},null,null,null,null,{"$f":"AE466+1","v":2},"2014-09-22",0,{"$f":"AH466+1","v":17},"2015-01-12",0]
["2014-09-29",null,null,"2015-01-19",null,null,null,"2014-09-29",null,null,"2015-01-19",null,null,null,"2014-09-29",null,null,"2015-01-19",null,null,null,3,"2014-09-29",null,null,"2015-01-19",null,null,null,null,{"$f":"AE467+1","v":3},"2014-09-29",0,{"$f":"AH467+1","v":18},"2015-01-19",0]
["2014-10-06",null,null,"2015-01-26",null,null,null,"2014-10-06",null,null,"2015-01-26",null,null,null,"2014-10-06",null,null,"2015-01-26",null,null,null,4,"2014-10-06",null,null,"2015-01-26",null,null,null,null,4,"2014-10-06",0,19,"2015-01-26",0]
["2014-10-13",null,null,"2015-02-02",null,null,null,"2014-10-13",null,null,"2015-02-02",null,null,null,"2014-10-13",null,null,"2015-02-02",null,null,null,5,"2014-10-13",null,null,"2015-02-02",null,null,null,null,5,"2014-10-13",0,20,"2015-02-02",0]
["2014-10-20",null,null,"2015-02-09",null,null,null,"2014-10-20",null,null,"2015-02-09",null,null,null,"2014-10-20",null,null,"2015-02-09",null,null,null,6,"2014-10-20",null,null,"2015-02-09",null,null,null,null,6,"2014-10-20",0,21,"2015-02-09",0]
["2014-10-27",null,null,"2015-02-16",null,null,null,"2014-10-27",null,null,"2015-02-16",null,null,null,"2014-10-27",null,null,"2015-02-16",null,null,null,7,"2014-10-27",null,null,"2015-02-16",null,null,null,null,7,"2014-10-27",0,22,"2015-02-16",0]
["2014-11-03",null,null,"2015-02-23",null,null,null,"2014-11-03",null,null,"2015-02-23",null,null,null,"2014-11-03",null,null,"2015-02-23",null,null,null,8,"2014-11-03",null,null,"2015-02-23",null,null,null,null,8,"2014-11-03",0,23,"2015-02-23",0]
["2014-11-10",null,null,"2015-03-02",null,null,null,"2014-11-10",null,null,"2015-03-02",null,null,null,"2014-11-10",null,null,"2015-03-02",null,null,null,9,"2014-11-10",null,null,"2015-03-02",null,null,null,null,9,"2014-11-10",0,24,"2015-03-02",0]
["2014-11-17",null,null,"2015-03-09",null,null,null,"2014-11-17",null,null,"2015-03-09",null,null,null,"2014-11-17",null,null,"2015-03-09",null,null,null,10,"2014-11-17",null,null,"2015-03-09",null,null,null,null,10,"2014-11-17",0,25,"2015-03-09",0]
["2014-11-24",null,null,"2015-03-16",null,null,null,"2014-11-24",null,null,"2015-03-16",null,null,null,"2014-11-24",null,null,"2015-03-16",null,null,null,11,"2014-11-24",null,null,"2015-03-16",null,null,null,null,11,"2014-11-24",0,26,"2015-03-16",0]
["2014-12-01",null,null,{"$f":"D476+7","v":"2015-03-23"},null,null,null,"2014-12-01",null,null,{"$f":"K476+7","v":"2015-03-23"},null,null,null,"2014-12-01",null,null,{"$f":"R476+7","v":"2015-03-23"},null,null,null,12,"2014-12-01",null,null,{"$f":"Z476+7","v":"2015-03-23"},null,null,null,null,12,"2014-12-01",0,27,"2015-03-23",0]
["2014-12-08",null,null,{"$f":"D477+7","v":"2015-03-30"},null,null,null,"2014-12-08",null,null,{"$f":"K477+7","v":"2015-03-30"},null,null,null,"2014-12-08",null,null,{"$f":"R477+7","v":"2015-03-30"},null,null,null,13,"2014-12-08",null,null,{"$f":"Z477+7","v":"2015-03-30"},null,null,null,null,13,"2014-12-08",0,28,"2015-03-30",0]
["2014-12-15",null,null,{"$f":"D478+7","v":"2015-04-06"},null,null,null,"2014-12-15",null,null,{"$f":"K478+7","v":"2015-04-06"},null,null,null,"2014-12-15",null,null,{"$f":"R478+7","v":"2015-04-06"},null,null,null,14,"2014-12-15",null,null,{"$f":"Z478+7","v":"2015-04-06"},null,null,null,null,14,"2014-12-15",0,29,"2015-04-06",0]
["2014-12-22",null,null,{"$f":"D479+7","v":"2015-04-13"},null,null,null,"2014-12-22",null,null,{"$f":"K479+7","v":"2015-04-13"},null,null,null,"2014-12-22",null,null,{"$f":"R479+7","v":"2015-04-13"},null,null,null,15,"2014-12-22",null,null,{"$f":"Z479+7","v":"2015-04-13"},null,null,null,null,15,"2014-12-22",0,30,"2015-04-13",0]
[]
[null,null,null,null,null,null,null,null,null,null,null,null,null,null,null,null,null,null,null,null,null,null,null,null,null,null,null,null,null,null,null,null,{"$f":"C466+C467+C468+C469+C470+C471+C472+C473+C474+C475+C476+C477+C478+C479+C480+F466+F467+F468+F469+F470+F471+F472+F473+F474+F475+F476+F477+F478+F479+F480","v":0},{"$f":"SUM(J466:J480)+SUM(M466:M480)","v":0},{"$f":"SUM(Q466:Q480)+SUM(T466:T480)","v":0},{"$f":"SUM(Y466:Y480)+SUM(AB466:AB480)","v":0}]
[null,null,null,null,null,null,null,null,null,null,null,null,null,null,null,null,null,null,null,null,null,null,null,null,null,null,null,null,null,null,null,null,{"$f":"IF(A482=\"USBC Paid in This League\",AG482-20,AG482)/10","v":0},{"$f":"IF(H482=\"USBC Paid in This League\",AH482-20,AH482)/10","v":0},{"$f":"IF(O482=\"USBC Paid in This League\",AI482-20,AI482)/10","v":0},{"$f":"IF(W482=\"USBC Paid in This League\",AJ482-20,AJ482)/10","v":0}]
[]
[]
[]
[null,null,null,null,null,null,null,null,null,null,null,null,null,null,null,null,null,null,null,null,null,null,null,null,null,null,null,null,22]
["Date","Ref","Amt","Date","Ref","Amt",null,"Date","Ref","Amt","Date","Ref","Amt",null,"Date","Ref","Amt","Date","Ref","Amt",null,"Wk","Date","Ref","Amt","Date","Ref","Amt",null,null,"Weekly Team Summary"]
["2014-09-15",null,null,{"$f":"A502+21","v":"2015-01-05"},null,null,null,"2014-09-15",null,null,{"$f":"H502+21","v":"2015-01-05"},null,null,null,"2014-09-15",null,null,{"$f":"O502+21","v":"2015-01-05"},null,null,null,1,"2014-09-15",null,null,{"$f":"W502+21","v":"2015-01-05"},null,null,null,null,1,{"$f":"A489","v":"2014-09-15"},{"$f":"C489+J489+Q489+Y489","v":0},{"$f":"AE503+1","v":16},{"$f":"D489","v":"2015-01-05"},{"$f":"F489+M489+T489+AB489","v":0}]
[{"$f":"A489+7","v":"2014-09-22"},null,null,{"$f":"D489+7","v":"2015-01-12"},null,null,null,{"$f":"H489+7","v":"2014-09-22"},null,null,{"$f":"K489+7","v":"2015-01-12"},null,null,null,{"$f":"O489+7","v":"2014-09-22"},null,null,{"$f":"R489+7","v":"2015-01-12"},null,null,null,2,{"$f":"W489+7","v":"2014-09-22"},null,null,{"$f":"Z489+7","v":"2015-01-12"},null,null,null,null,{"$f":"AE489+1","v":2},"2014-09-22",0,{"$f":"AH489+1","v":17},"2015-01-12",0]
["2014-09-29",null,null,"2015-01-19",null,null,null,"2014-09-29",null,null,"2015-01-19",null,null,null,"2014-09-29",null,null,"2015-01-19",null,null,null,3,"2014-09-29",null,null,"2015-01-19",null,null,null,null,{"$f":"AE490+1","v":3},"2014-09-29",0,{"$f":"AH490+1","v":18},"2015-01-19",0]
["2014-10-06",null,null,"2015-01-26",null,null,null,"2014-10-06",null,null,"2015-01-26",null,null,null,"2014-10-06",null,null,"2015-01-26",null,null,null,4,"2014-10-06",null,null,"2015-01-26",null,null,null,null,4,"2014-10-06",0,19,"2015-01-26",0]
["2014-10-13",null,null,"2015-02-02",null,null,null,"2014-10-13",null,null,"2015-02-02",null,null,null,"2014-10-13",null,null,"2015-02-02",null,null,null,5,"2014-10-13",null,null,"2015-02-02",null,null,null,null,5,"2014-10-13",0,20,"2015-02-02",0]
["2014-10-20",null,null,"2015-02-09",null,null,null,"2014-10-20",null,null,"2015-02-09",null,null,null,"2014-10-20",null,null,"2015-02-09",null,null,null,6,"2014-10-20",null,null,"2015-02-09",null,null,null,null,6,"2014-10-20",0,21,"2015-02-09",0]
["2014-10-27",null,null,"2015-02-16",null,null,null,"2014-10-27",null,null,"2015-02-16",null,null,null,"2014-10-27",null,null,"2015-02-16",null,null,null,7,"2014-10-27",null,null,"2015-02-16",null,null,null,null,7,"2014-10-27",0,22,"2015-02-16",0]
["2014-11-03",null,null,"2015-02-23",null,null,null,"2014-11-03",null,null,"2015-02-23",null,null,null,"2014-11-03",null,null,"2015-02-23",null,null,null,8,"2014-11-03",null,null,"2015-02-23",null,null,null,null,8,"2014-11-03",0,23,"2015-02-23",0]
["2014-11-10",null,null,"2015-03-02",null,null,null,"2014-11-10",null,null,"2015-03-02",null,null,null,"2014-11-10",null,null,"2015-03-02",null,null,null,9,"2014-11-10",null,null,"2015-03-02",null,null,null,null,9,"2014-11-10",0,24,"2015-03-02",0]
["2014-11-17",null,null,"2015-03-09",null,null,null,"2014-11-17",null,null,"2015-03-09",null,null,null,"2014-11-17",null,null,"2015-03-09",null,null,null,10,"2014-11-17",null,null,"2015-03-09",null,null,null,null,10,"2014-11-17",0,25,"2015-03-09",0]
["2014-11-24",null,null,"2015-03-16",null,null,null,"2014-11-24",null,null,"2015-03-16",null,null,null,"2014-11-24",null,null,"2015-03-16",null,null,null,11,"2014-11-24",null,null,"2015-03-16",null,null,null,null,11,"2014-11-24",0,26,"2015-03-16",0]
["2014-12-01",null,null,{"$f":"D499+7","v":"2015-03-23"},null,null,null,"2014-12-01",null,null,{"$f":"K499+7","v":"2015-03-23"},null,null,null,"2014-12-01",null,null,{"$f":"R499+7","v":"2015-03-23"},null,null,null,12,"2014-12-01",null,null,{"$f":"Z499+7","v":"2015-03-23"},null,null,null,null,12,"2014-12-01",0,27,"2015-03-23",0]
["2014-12-08",null,null,{"$f":"D500+7","v":"2015-03-30"},null,null,null,"2014-12-08",null,null,{"$f":"K500+7","v":"2015-03-30"},null,null,null,"2014-12-08",null,null,{"$f":"R500+7","v":"2015-03-30"},null,null,null,13,"2014-12-08",null,null,{"$f":"Z500+7","v":"2015-03-30"},null,null,null,null,13,"2014-12-08",0,28,"2015-03-30",0]
["2014-12-15",null,null,{"$f":"D501+7","v":"2015-04-06"},null,null,null,"2014-12-15",null,null,{"$f":"K501+7","v":"2015-04-06"},null,null,null,"2014-12-15",null,null,{"$f":"R501+7","v":"2015-04-06"},null,null,null,14,"2014-12-15",null,null,{"$f":"Z501+7","v":"2015-04-06"},null,null,null,null,14,"2014-12-15",0,29,"2015-04-06",0]
["2014-12-22",null,null,{"$f":"D502+7","v":"2015-04-13"},null,null,null,"2014-12-22",null,null,{"$f":"K502+7","v":"2015-04-13"},null,null,null,"2014-12-22",null,null,{"$f":"R502+7","v":"2015-04-13"},null,null,null,15,"2014-12-22",null,null,{"$f":"Z502+7","v":"2015-04-13"},null,null,null,null,15,"2014-12-22",0,30,"2015-04-13",0]
[]
[null,null,null,null,null,null,null,null,null,null,null,null,null,null,null,null,null,null,null,null,null,null,null,null,null,null,null,null,null,null,null,null,{"$f":"C489+C490+C491+C492+C493+C494+C495+C496+C497+C498+C499+C500+C501+C502+C503+F489+F490+F491+F492+F493+F494+F495+F496+F497+F498+F499+F500+F501+F502+F503","v":0},{"$f":"SUM(J489:J503)+SUM(M489:M503)","v":0},{"$f":"SUM(Q489:Q503)+SUM(T489:T503)","v":0},{"$f":"SUM(Y489:Y503)+SUM(AB489:AB503)","v":0}]
[null,null,null,null,null,null,null,null,null,null,null,null,null,null,null,null,null,null,null,null,null,null,null,null,null,null,null,null,null,null,null,null,{"$f":"IF(A505=\"USBC Paid in This League\",AG505-20,AG505)/10","v":0},{"$f":"IF(H505=\"USBC Paid in This League\",AH505-20,AH505)/10","v":0},{"$f":"IF(O505=\"USBC Paid in This League\",AI505-20,AI505)/10","v":0},{"$f":"IF(W505=\"USBC Paid in This League\",AJ505-20,AJ505)/10","v":0}]
[]
[]
[]
[null,null,null,null,null,null,null,null,null,null,null,null,null,null,null,null,null,null,null,null,null,null,null,null,null,null,null,null,23]
["Date","Ref","Amt","Date","Ref","Amt",null,"Date","Ref","Amt","Date","Ref","Amt",null,"Date","Ref","Amt","Date","Ref","Amt",null,"Wk","Date","Ref","Amt","Date","Ref","Amt",null,null,"Weekly Team Summary"]
["2014-09-15",null,null,{"$f":"A525+21","v":"2015-01-05"},null,null,null,"2014-09-15",null,null,{"$f":"H525+21","v":"2015-01-05"},null,null,null,"2014-09-15",null,null,{"$f":"O525+21","v":"2015-01-05"},null,null,null,1,"2014-09-15",null,null,{"$f":"W525+21","v":"2015-01-05"},null,null,null,null,1,{"$f":"A512","v":"2014-09-15"},{"$f":"C512+J512+Q512+Y512","v":0},{"$f":"AE526+1","v":16},{"$f":"D512","v":"2015-01-05"},{"$f":"F512+M512+T512+AB512","v":0}]
[{"$f":"A512+7","v":"2014-09-22"},null,null,{"$f":"D512+7","v":"2015-01-12"},null,null,null,{"$f":"H512+7","v":"2014-09-22"},null,null,{"$f":"K512+7","v":"2015-01-12"},null,null,null,{"$f":"O512+7","v":"2014-09-22"},null,null,{"$f":"R512+7","v":"2015-01-12"},null,null,null,2,{"$f":"W512+7","v":"2014-09-22"},null,null,{"$f":"Z512+7","v":"2015-01-12"},null,null,null,null,{"$f":"AE512+1","v":2},"2014-09-22",0,{"$f":"AH512+1","v":17},"2015-01-12",0]
["2014-09-29",null,null,"2015-01-19",null,null,null,"2014-09-29",null,null,"2015-01-19",null,null,null,"2014-09-29",null,null,"2015-01-19",null,null,null,3,"2014-09-29",null,null,"2015-01-19",null,null,null,null,{"$f":"AE513+1","v":3},"2014-09-29",0,{"$f":"AH513+1","v":18},"2015-01-19",0]
["2014-10-06",null,null,"2015-01-26",null,null,null,"2014-10-06",null,null,"2015-01-26",null,null,null,"2014-10-06",null,null,"2015-01-26",null,null,null,4,"2014-10-06",null,null,"2015-01-26",null,null,null,null,4,"2014-10-06",0,19,"2015-01-26",0]
["2014-10-13",null,null,"2015-02-02",null,null,null,"2014-10-13",null,null,"2015-02-02",null,null,null,"2014-10-13",null,null,"2015-02-02",null,null,null,5,"2014-10-13",null,null,"2015-02-02",null,null,null,null,5,"2014-10-13",0,20,"2015-02-02",0]
["2014-10-20",null,null,"2015-02-09",null,null,null,"2014-10-20",null,null,"2015-02-09",null,null,null,"2014-10-20",null,null,"2015-02-09",null,null,null,6,"2014-10-20",null,null,"2015-02-09",null,null,null,null,6,"2014-10-20",0,21,"2015-02-09",0]
["2014-10-27",null,null,"2015-02-16",null,null,null,"2014-10-27",null,null,"2015-02-16",null,null,null,"2014-10-27",null,null,"2015-02-16",null,null,null,7,"2014-10-27",null,null,"2015-02-16",null,null,null,null,7,"2014-10-27",0,22,"2015-02-16",0]
["2014-11-03",null,null,"2015-02-23",null,null,null,"2014-11-03",null,null,"2015-02-23",null,null,null,"2014-11-03",null,null,"2015-02-23",null,null,null,8,"2014-11-03",null,null,"2015-02-23",null,null,null,null,8,"2014-11-03",0,23,"2015-02-23",0]
["2014-11-10",null,null,"2015-03-02",null,null,null,"2014-11-10",null,null,"2015-03-02",null,null,null,"2014-11-10",null,null,"2015-03-02",null,null,null,9,"2014-11-10",null,null,"2015-03-02",null,null,null,null,9,"2014-11-10",0,24,"2015-03-02",0]
["2014-11-17",null,null,"2015-03-09",null,null,null,"2014-11-17",null,null,"2015-03-09",null,null,null,"2014-11-17",null,null,"2015-03-09",null,null,null,10,"2014-11-17",null,null,"2015-03-09",null,null,null,null,10,"2014-11-17",0,25,"2015-03-09",0]
["2014-11-24",null,null,"2015-03-16",null,null,null,"2014-11-24",null,null,"2015-03-16",null,null,null,"2014-11-24",null,null,"2015-03-16",null,null,null,11,"2014-11-24",null,null,"2015-03-16",null,null,null,null,11,"2014-11-24",0,26,"2015-03-16",0]
["2014-12-01",null,null,{"$f":"D522+7","v":"2015-03-23"},null,null,null,"2014-12-01",null,null,{"$f":"K522+7","v":"2015-03-23"},null,null,null,"2014-12-01",null,null,{"$f":"R522+7","v":"2015-03-23"},null,null,null,12,"2014-12-01",null,null,{"$f":"Z522+7","v":"2015-03-23"},null,null,null,null,12,"2014-12-01",0,27,"2015-03-23",0]
["2014-12-08",null,null,{"$f":"D523+7","v":"2015-03-30"},null,null,null,"2014-12-08",null,null,{"$f":"K523+7","v":"2015-03-30"},null,null,null,"2014-12-08",null,null,{"$f":"R523+7","v":"2015-03-30"},null,null,null,13,"2014-12-08",null,null,{"$f":"Z523+7","v":"2015-03-30"},null,null,null,null,13,"2014-12-08",0,28,"2015-03-30",0]
["2014-12-15",null,null,{"$f":"D524+7","v":"2015-04-06"},null,null,null,"2014-12-15",null,null,{"$f":"K524+7","v":"2015-04-06"},null,null,null,"2014-12-15",null,null,{"$f":"R524+7","v":"2015-04-06"},null,null,null,14,"2014-12-15",null,null,{"$f":"Z524+7","v":"2015-04-06"},null,null,null,null,14,"2014-12-15",0,29,"2015-04-06",0]
["2014-12-22",null,null,{"$f":"D525+7","v":"2015-04-13"},null,null,null,"2014-12-22",null,null,{"$f":"K525+7","v":"2015-04-13"},null,null,null,"2014-12-22",null,null,{"$f":"R525+7","v":"2015-04-13"},null,null,null,15,"2014-12-22",null,null,{"$f":"Z525+7","v":"2015-04-13"},null,null,null,null,15,"2014-12-22",0,30,"2015-04-13",0]
[]
[null,null,null,null,null,null,null,null,null,null,null,null,null,null,null,null,null,null,null,null,null,null,null,null,null,null,null,null,null,null,null,null,{"$f":"C512+C513+C514+C515+C516+C517+C518+C519+C520+C521+C522+C523+C524+C525+C526+F512+F513+F514+F515+F516+F517+F518+F519+F520+F521+F522+F523+F524+F525+F526","v":0},{"$f":"SUM(J512:J526)+SUM(M512:M526)","v":0},{"$f":"SUM(Q512:Q526)+SUM(T512:T526)","v":0},{"$f":"SUM(Y512:Y526)+SUM(AB512:AB526)","v":0}]
[null,null,null,null,null,null,null,null,null,null,null,null,null,null,null,null,null,null,null,null,null,null,null,null,null,null,null,null,null,null,null,null,{"$f":"IF(A528=\"USBC Paid in This League\",AG528-20,AG528)/10","v":0},{"$f":"IF(H528=\"USBC Paid in This League\",AH528-20,AH528)/10","v":0},{"$f":"IF(O528=\"USBC Paid in This League\",AI528-20,AI528)/10","v":0},{"$f":"IF(W528=\"USBC Paid in This League\",AJ528-20,AJ528)/10","v":0}]
[]
[]
[]
[null,null,null,null,null,null,null,null,null,null,null,null,null,null,null,null,null,null,null,null,null,null,null,null,null,null,null,null,24]
["Date","Ref","Amt","Date","Ref","Amt",null,"Date","Ref","Amt","Date","Ref","Amt",null,"Date","Ref","Amt","Date","Ref","Amt",null,"Wk","Date","Ref","Amt","Date","Ref","Amt",null,null,"Weekly Team Summary"]
["2014-09-15",null,null,{"$f":"A548+21","v":"2015-01-05"},null,null,null,"2014-09-15",null,null,{"$f":"H548+21","v":"2015-01-05"},null,null,null,"2014-09-15",null,null,{"$f":"O548+21","v":"2015-01-05"},null,null,null,1,"2014-09-15",null,null,{"$f":"W548+21","v":"2015-01-05"},null,null,null,null,1,{"$f":"A535","v":"2014-09-15"},{"$f":"C535+J535+Q535+Y535","v":0},{"$f":"AE549+1","v":16},{"$f":"D535","v":"2015-01-05"},{"$f":"F535+M535+T535+AB535","v":0}]
[{"$f":"A535+7","v":"2014-09-22"},null,null,{"$f":"D535+7","v":"2015-01-12"},null,null,null,{"$f":"H535+7","v":"2014-09-22"},null,null,{"$f":"K535+7","v":"2015-01-12"},null,null,null,{"$f":"O535+7","v":"2014-09-22"},null,null,{"$f":"R535+7","v":"2015-01-12"},null,null,null,2,{"$f":"W535+7","v":"2014-09-22"},null,null,{"$f":"Z535+7","v":"2015-01-12"},null,null,null,null,{"$f":"AE535+1","v":2},"2014-09-22",0,{"$f":"AH535+1","v":17},"2015-01-12",0]
["2014-09-29",null,null,"2015-01-19",null,null,null,"2014-09-29",null,null,"2015-01-19",null,null,null,"2014-09-29",null,null,"2015-01-19",null,null,null,3,"2014-09-29",null,null,"2015-01-19",null,null,null,null,{"$f":"AE536+1","v":3},"2014-09-29",0,{"$f":"AH536+1","v":18},"2015-01-19",0]
["2014-10-06",null,null,"2015-01-26",null,null,null,"2014-10-06",null,null,"2015-01-26",null,null,null,"2014-10-06",null,null,"2015-01-26",null,null,null,4,"2014-10-06",null,null,"2015-01-26",null,null,null,null,4,"2014-10-06",0,19,"2015-01-26",0]
["2014-10-13",null,null,"2015-02-02",null,null,null,"2014-10-13",null,null,"2015-02-02",null,null,null,"2014-10-13",null,null,"2015-02-02",null,null,null,5,"2014-10-13",null,null,"2015-02-02",null,null,null,null,5,"2014-10-13",0,20,"2015-02-02",0]
["2014-10-20",null,null,"2015-02-09",null,null,null,"2014-10-20",null,null,"2015-02-09",null,null,null,"2014-10-20",null,null,"2015-02-09",null,null,null,6,"2014-10-20",null,null,"2015-02-09",null,null,null,null,6,"2014-10-20",0,21,"2015-02-09",0]
["2014-10-27",null,null,"2015-02-16",null,null,null,"2014-10-27",null,null,"2015-02-16",null,null,null,"2014-10-27",null,null,"2015-02-16",null,null,null,7,"2014-10-27",null,null,"2015-02-16",null,null,null,null,7,"2014-10-27",0,22,"2015-02-16",0]
["2014-11-03",null,null,"2015-02-23",null,null,null,"2014-11-03",null,null,"2015-02-23",null,null,null,"2014-11-03",null,null,"2015-02-23",null,null,null,8,"2014-11-03",null,null,"2015-02-23",null,null,null,null,8,"2014-11-03",0,23,"2015-02-23",0]
["2014-11-10",null,null,"2015-03-02",null,null,null,"2014-11-10",null,null,"2015-03-02",null,null,null,"2014-11-10",null,null,"2015-03-02",null,null,null,9,"2014-11-10",null,null,"2015-03-02",null,null,null,null,9,"2014-11-10",0,24,"2015-03-02",0]
["2014-11-17",null,null,"2015-03-09",null,null,null,"2014-11-17",null,null,"2015-03-09",null,null,null,"2014-11-17",null,null,"2015-03-09",null,null,null,10,"2014-11-17",null,null,"2015-03-09",null,null,null,null,10,"2014-11-17",0,25,"2015-03-09",0]
["2014-11-24",null,null,"2015-03-16",null,null,null,"2014-11-24",null,null,"2015-03-16",null,null,null,"2014-11-24",null,null,"2015-03-16",null,null,null,11,"2014-11-24",null,null,"2015-03-16",null,null,null,null,11,"2014-11-24",0,26,"2015-03-16",0]
["2014-12-01",null,null,{"$f":"D545+7","v":"2015-03-23"},null,null,null,"2014-12-01",null,null,{"$f":"K545+7","v":"2015-03-23"},null,null,null,"2014-12-01",null,null,{"$f":"R545+7","v":"2015-03-23"},null,null,null,12,"2014-12-01",null,null,{"$f":"Z545+7","v":"2015-03-23"},null,null,null,null,12,"2014-12-01",0,27,"2015-03-23",0]
["2014-12-08",null,null,{"$f":"D546+7","v":"2015-03-30"},null,null,null,"2014-12-08",null,null,{"$f":"K546+7","v":"2015-03-30"},null,null,null,"2014-12-08",null,null,{"$f":"R546+7","v":"2015-03-30"},null,null,null,13,"2014-12-08",null,null,{"$f":"Z546+7","v":"2015-03-30"},null,null,null,null,13,"2014-12-08",0,28,"2015-03-30",0]
["2014-12-15",null,null,{"$f":"D547+7","v":"2015-04-06"},null,null,null,"2014-12-15",null,null,{"$f":"K547+7","v":"2015-04-06"},null,null,null,"2014-12-15",null,null,{"$f":"R547+7","v":"2015-04-06"},null,null,null,14,"2014-12-15",null,null,{"$f":"Z547+7","v":"2015-04-06"},null,null,null,null,14,"2014-12-15",0,29,"2015-04-06",0]
["2014-12-22",null,null,{"$f":"D548+7","v":"2015-04-13"},null,null,null,"2014-12-22",null,null,{"$f":"K548+7","v":"2015-04-13"},null,null,null,"2014-12-22",null,null,{"$f":"R548+7","v":"2015-04-13"},null,null,null,15,"2014-12-22",null,null,{"$f":"Z548+7","v":"2015-04-13"},null,null,null,null,15,"2014-12-22",0,30,"2015-04-13",0]
[]
[null,null,null,null,null,null,null,null,null,null,null,null,null,null,null,null,null,null,null,null,null,null,null,null,null,null,null,null,null,null,null,null,{"$f":"C535+C536+C537+C538+C539+C540+C541+C542+C543+C544+C545+C546+C547+C548+C549+F535+F536+F537+F538+F539+F540+F541+F542+F543+F544+F545+F546+F547+F548+F549","v":0},{"$f":"SUM(J535:J549)+SUM(M535:M549)","v":0},{"$f":"SUM(Q535:Q549)+SUM(T535:T549)","v":0},{"$f":"SUM(Y535:Y549)+SUM(AB535:AB549)","v":0}]
[null,null,null,null,null,null,null,null,null,null,null,null,null,null,null,null,null,null,null,null,null,null,null,null,null,null,null,null,null,null,null,null,{"$f":"IF(A551=\"USBC Paid in This League\",AG551-20,AG551)/10","v":0},{"$f":"IF(H551=\"USBC Paid in This League\",AH551-20,AH551)/10","v":0},{"$f":"IF(O551=\"USBC Paid in This League\",AI551-20,AI551)/10","v":0},{"$f":"IF(W551=\"USBC Paid in This League\",AJ551-20,AJ551)/10","v":0}]
[]
[]
[]
[null,null,null,null,null,null,null,null,null,null,null,null,null,null,null,null,null,null,null,null,null,null,null,null,null,null,null,null,25]
["Date","Ref","Amt","Date","Ref","Amt",null,"Date","Ref","Amt","Date","Ref","Amt",null,"Date","Ref","Amt","Date","Ref","Amt",null,"Wk","Date","Ref","Amt","Date","Ref","Amt",null,null,"Weekly Team Summary"]
["2014-09-15",null,null,{"$f":"A571+21","v":"2015-01-05"},null,null,null,"2014-09-15",null,null,{"$f":"H571+21","v":"2015-01-05"},null,null,null,"2014-09-15",null,null,{"$f":"O571+21","v":"2015-01-05"},null,null,null,1,"2014-09-15",null,null,{"$f":"W571+21","v":"2015-01-05"},null,null,null,null,1,{"$f":"A558","v":"2014-09-15"},{"$f":"C558+J558+Q558+Y558","v":0},{"$f":"AE572+1","v":16},{"$f":"D558","v":"2015-01-05"},{"$f":"F558+M558+T558+AB558","v":0}]
[{"$f":"A558+7","v":"2014-09-22"},null,null,{"$f":"D558+7","v":"2015-01-12"},null,null,null,{"$f":"H558+7","v":"2014-09-22"},null,null,{"$f":"K558+7","v":"2015-01-12"},null,null,null,{"$f":"O558+7","v":"2014-09-22"},null,null,{"$f":"R558+7","v":"2015-01-12"},null,null,null,2,{"$f":"W558+7","v":"2014-09-22"},null,null,{"$f":"Z558+7","v":"2015-01-12"},null,null,null,null,{"$f":"AE558+1","v":2},"2014-09-22",0,{"$f":"AH558+1","v":17},"2015-01-12",0]
["2014-09-29",null,null,"2015-01-19",null,null,null,"2014-09-29",null,null,"2015-01-19",null,null,null,"2014-09-29",null,null,"2015-01-19",null,null,null,3,"2014-09-29",null,null,"2015-01-19",null,null,null,null,{"$f":"AE559+1","v":3},"2014-09-29",0,{"$f":"AH559+1","v":18},"2015-01-19",0]
["2014-10-06",null,null,"2015-01-26",null,null,null,"2014-10-06",null,null,"2015-01-26",null,null,null,"2014-10-06",null,null,"2015-01-26",null,null,null,4,"2014-10-06",null,null,"2015-01-26",null,null,null,null,4,"2014-10-06",0,19,"2015-01-26",0]
["2014-10-13",null,null,"2015-02-02",null,null,null,"2014-10-13",null,null,"2015-02-02",null,null,null,"2014-10-13",null,null,"2015-02-02",null,null,null,5,"2014-10-13",null,null,"2015-02-02",null,null,null,null,5,"2014-10-13",0,20,"2015-02-02",0]
["2014-10-20",null,null,"2015-02-09",null,null,null,"2014-10-20",null,null,"2015-02-09",null,null,null,"2014-10-20",null,null,"2015-02-09",null,null,null,6,"2014-10-20",null,null,"2015-02-09",null,null,null,null,6,"2014-10-20",0,21,"2015-02-09",0]
["2014-10-27",null,null,"2015-02-16",null,null,null,"2014-10-27",null,null,"2015-02-16",null,null,null,"2014-10-27",null,null,"2015-02-16",null,null,null,7,"2014-10-27",null,null,"2015-02-16",null,null,null,null,7,"2014-10-27",0,22,"2015-02-16",0]
["2014-11-03",null,null,"2015-02-23",null,null,null,"2014-11-03",null,null,"2015-02-23",null,null,null,"2014-11-03",null,null,"2015-02-23",null,null,null,8,"2014-11-03",null,null,"2015-02-23",null,null,null,null,8,"2014-11-03",0,23,"2015-02-23",0]
["2014-11-10",null,null,"2015-03-02",null,null,null,"2014-11-10",null,null,"2015-03-02",null,null,null,"2014-11-10",null,null,"2015-03-02",null,null,null,9,"2014-11-10",null,null,"2015-03-02",null,null,null,null,9,"2014-11-10",0,24,"2015-03-02",0]
["2014-11-17",null,null,"2015-03-09",null,null,null,"2014-11-17",null,null,"2015-03-09",null,null,null,"2014-11-17",null,null,"2015-03-09",null,null,null,10,"2014-11-17",null,null,"2015-03-09",null,null,null,null,10,"2014-11-17",0,25,"2015-03-09",0]
["2014-11-24",null,null,"2015-03-16",null,null,null,"2014-11-24",null,null,"2015-03-16",null,null,null,"2014-11-24",null,null,"2015-03-16",null,null,null,11,"2014-11-24",null,null,"2015-03-16",null,null,null,null,11,"2014-11-24",0,26,"2015-03-16",0]
["2014-12-01",null,null,{"$f":"D568+7","v":"2015-03-23"},null,null,null,"2014-12-01",null,null,{"$f":"K568+7","v":"2015-03-23"},null,null,null,"2014-12-01",null,null,{"$f":"R568+7","v":"2015-03-23"},null,null,null,12,"2014-12-01",null,null,{"$f":"Z568+7","v":"2015-03-23"},null,null,null,null,12,"2014-12-01",0,27,"2015-03-23",0]
["2014-12-08",null,null,{"$f":"D569+7","v":"2015-03-30"},null,null,null,"2014-12-08",null,null,{"$f":"K569+7","v":"2015-03-30"},null,null,null,"2014-12-08",null,null,{"$f":"R569+7","v":"2015-03-30"},null,null,null,13,"2014-12-08",null,null,{"$f":"Z569+7","v":"2015-03-30"},null,null,null,null,13,"2014-12-08",0,28,"2015-03-30",0]
["2014-12-15",null,null,{"$f":"D570+7","v":"2015-04-06"},null,null,null,"2014-12-15",null,null,{"$f":"K570+7","v":"2015-04-06"},null,null,null,"2014-12-15",null,null,{"$f":"R570+7","v":"2015-04-06"},null,null,null,14,"2014-12-15",null,null,{"$f":"Z570+7","v":"2015-04-06"},null,null,null,null,14,"2014-12-15",0,29,"2015-04-06",0]
["2014-12-22",null,null,{"$f":"D571+7","v":"2015-04-13"},null,null,null,"2014-12-22",null,null,{"$f":"K571+7","v":"2015-04-13"},null,null,null,"2014-12-22",null,null,{"$f":"R571+7","v":"2015-04-13"},null,null,null,15,"2014-12-22",null,null,{"$f":"Z571+7","v":"2015-04-13"},null,null,null,null,15,"2014-12-22",0,30,"2015-04-13",0]
[]
[null,null,null,null,null,null,null,null,null,null,null,null,null,null,null,null,null,null,null,null,null,null,null,null,null,null,null,null,null,null,null,null,{"$f":"C558+C559+C560+C561+C562+C563+C564+C565+C566+C567+C568+C569+C570+C571+C572+F558+F559+F560+F561+F562+F563+F564+F565+F566+F567+F568+F569+F570+F571+F572","v":0},{"$f":"SUM(J558:J572)+SUM(M558:M572)","v":0},{"$f":"SUM(Q558:Q572)+SUM(T558:T572)","v":0},{"$f":"SUM(Y558:Y572)+SUM(AB558:AB572)","v":0}]
[null,null,null,null,null,null,null,null,null,null,null,null,null,null,null,null,null,null,null,null,null,null,null,null,null,null,null,null,null,null,null,null,{"$f":"IF(A574=\"USBC Paid in This League\",AG574-20,AG574)/10","v":0},{"$f":"IF(H574=\"USBC Paid in This League\",AH574-20,AH574)/10","v":0},{"$f":"IF(O574=\"USBC Paid in This League\",AI574-20,AI574)/10","v":0},{"$f":"IF(W574=\"USBC Paid in This League\",AJ574-20,AJ574)/10","v":0}]
[]
[]
[]
[null,null,null,null,null,null,null,null,null,null,null,null,null,null,null,null,null,null,null,null,null,null,null,null,null,null,null,null,26]
["Date","Ref","Amt","Date","Ref","Amt",null,"Date","Ref","Amt","Date","Ref","Amt",null,"Date","Ref","Amt","Date","Ref","Amt",null,"Wk","Date","Ref","Amt","Date","Ref","Amt",null,null,"Weekly Team Summary"]
["2014-09-15",null,null,{"$f":"A594+21","v":"2015-01-05"},null,null,null,"2014-09-15",null,null,{"$f":"H594+21","v":"2015-01-05"},null,null,null,"2014-09-15",null,null,{"$f":"O594+21","v":"2015-01-05"},null,null,null,1,"2014-09-15",null,null,{"$f":"W594+21","v":"2015-01-05"},null,null,null,null,1,{"$f":"A581","v":"2014-09-15"},{"$f":"C581+J581+Q581+Y581","v":0},{"$f":"AE595+1","v":16},{"$f":"D581","v":"2015-01-05"},{"$f":"F581+M581+T581+AB581","v":0}]
[{"$f":"A581+7","v":"2014-09-22"},null,null,{"$f":"D581+7","v":"2015-01-12"},null,null,null,{"$f":"H581+7","v":"2014-09-22"},null,null,{"$f":"K581+7","v":"2015-01-12"},null,null,null,{"$f":"O581+7","v":"2014-09-22"},null,null,{"$f":"R581+7","v":"2015-01-12"},null,null,null,2,{"$f":"W581+7","v":"2014-09-22"},null,null,{"$f":"Z581+7","v":"2015-01-12"},null,null,null,null,{"$f":"AE581+1","v":2},"2014-09-22",0,{"$f":"AH581+1","v":17},"2015-01-12",0]
["2014-09-29",null,null,"2015-01-19",null,null,null,"2014-09-29",null,null,"2015-01-19",null,null,null,"2014-09-29",null,null,"2015-01-19",null,null,null,3,"2014-09-29",null,null,"2015-01-19",null,null,null,null,{"$f":"AE582+1","v":3},"2014-09-29",0,{"$f":"AH582+1","v":18},"2015-01-19",0]
["2014-10-06",null,null,"2015-01-26",null,null,null,"2014-10-06",null,null,"2015-01-26",null,null,null,"2014-10-06",null,null,"2015-01-26",null,null,null,4,"2014-10-06",null,null,"2015-01-26",null,null,null,null,4,"2014-10-06",0,19,"2015-01-26",0]
["2014-10-13",null,null,"2015-02-02",null,null,null,"2014-10-13",null,null,"2015-02-02",null,null,null,"2014-10-13",null,null,"2015-02-02",null,null,null,5,"2014-10-13",null,null,"2015-02-02",null,null,null,null,5,"2014-10-13",0,20,"2015-02-02",0]
["2014-10-20",null,null,"2015-02-09",null,null,null,"2014-10-20",null,null,"2015-02-09",null,null,null,"2014-10-20",null,null,"2015-02-09",null,null,null,6,"2014-10-20",null,null,"2015-02-09",null,null,null,null,6,"2014-10-20",0,21,"2015-02-09",0]
["2014-10-27",null,null,"2015-02-16",null,null,null,"2014-10-27",null,null,"2015-02-16",null,null,null,"2014-10-27",null,null,"2015-02-16",null,null,null,7,"2014-10-27",null,null,"2015-02-16",null,null,null,null,7,"2014-10-27",0,22,"2015-02-16",0]
["2014-11-03",null,null,"2015-02-23",null,null,null,"2014-11-03",null,null,"2015-02-23",null,null,null,"2014-11-03",null,null,"2015-02-23",null,null,null,8,"2014-11-03",null,null,"2015-02-23",null,null,null,null,8,"2014-11-03",0,23,"2015-02-23",0]
["2014-11-10",null,null,"2015-03-02",null,null,null,"2014-11-10",null,null,"2015-03-02",null,null,null,"2014-11-10",null,null,"2015-03-02",null,null,null,9,"2014-11-10",null,null,"2015-03-02",null,null,null,null,9,"2014-11-10",0,24,"2015-03-02",0]
["2014-11-17",null,null,"2015-03-09",null,null,null,"2014-11-17",null,null,"2015-03-09",null,null,null,"2014-11-17",null,null,"2015-03-09",null,null,null,10,"2014-11-17",null,null,"2015-03-09",null,null,null,null,10,"2014-11-17",0,25,"2015-03-09",0]
["2014-11-24",null,null,"2015-03-16",null,null,null,"2014-11-24",null,null,"2015-03-16",null,null,null,"2014-11-24",null,null,"2015-03-16",null,null,null,11,"2014-11-24",null,null,"2015-03-16",null,null,null,null,11,"2014-11-24",0,26,"2015-03-16",0]
["2014-12-01",null,null,{"$f":"D591+7","v":"2015-03-23"},null,null,null,"2014-12-01",null,null,{"$f":"K591+7","v":"2015-03-23"},null,null,null,"2014-12-01",null,null,{"$f":"R591+7","v":"2015-03-23"},null,null,null,12,"2014-12-01",null,null,{"$f":"Z591+7","v":"2015-03-23"},null,null,null,null,12,"2014-12-01",0,27,"2015-03-23",0]
["2014-12-08",null,null,{"$f":"D592+7","v":"2015-03-30"},null,null,null,"2014-12-08",null,null,{"$f":"K592+7","v":"2015-03-30"},null,null,null,"2014-12-08",null,null,{"$f":"R592+7","v":"2015-03-30"},null,null,null,13,"2014-12-08",null,null,{"$f":"Z592+7","v":"2015-03-30"},null,null,null,null,13,"2014-12-08",0,28,"2015-03-30",0]
["2014-12-15",null,null,{"$f":"D593+7","v":"2015-04-06"},null,null,null,"2014-12-15",null,null,{"$f":"K593+7","v":"2015-04-06"},null,null,null,"2014-12-15",null,null,{"$f":"R593+7","v":"2015-04-06"},null,null,null,14,"2014-12-15",null,null,{"$f":"Z593+7","v":"2015-04-06"},null,null,null,null,14,"2014-12-15",0,29,"2015-04-06",0]
["2014-12-22",null,null,{"$f":"D594+7","v":"2015-04-13"},null,null,null,"2014-12-22",null,null,{"$f":"K594+7","v":"2015-04-13"},null,null,null,"2014-12-22",null,null,{"$f":"R594+7","v":"2015-04-13"},null,null,null,15,"2014-12-22",null,null,{"$f":"Z594+7","v":"2015-04-13"},null,null,null,null,15,"2014-12-22",0,30,"2015-04-13",0]
[]
[null,null,null,null,null,null,null,null,null,null,null,null,null,null,null,null,null,null,null,null,null,null,null,null,null,null,null,null,null,null,null,null,{"$f":"C581+C582+C583+C584+C585+C586+C587+C588+C589+C590+C591+C592+C593+C594+C595+F581+F582+F583+F584+F585+F586+F587+F588+F589+F590+F591+F592+F593+F594+F595","v":0},{"$f":"SUM(J581:J595)+SUM(M581:M595)","v":0},{"$f":"SUM(Q581:Q595)+SUM(T581:T595)","v":0},{"$f":"SUM(Y581:Y595)+SUM(AB581:AB595)","v":0}]
[null,null,null,null,null,null,null,null,null,null,null,null,null,null,null,null,null,null,null,null,null,null,null,null,null,null,null,null,null,null,null,null,{"$f":"IF(A597=\"USBC Paid in This League\",AG597-20,AG597)/10","v":0},{"$f":"IF(H597=\"USBC Paid in This League\",AH597-20,AH597)/10","v":0},{"$f":"IF(O597=\"USBC Paid in This League\",AI597-20,AI597)/10","v":0},{"$f":"IF(W597=\"USBC Paid in This League\",AJ597-20,AJ597)/10","v":0}]
[]
[]
[]
[null,null,null,null,null,null,null,null,null,null,null,null,null,null,null,null,null,null,null,null,null,null,null,null,null,null,null,null,27]
["Date","Ref","Amt","Date","Ref","Amt",null,"Date","Ref","Amt","Date","Ref","Amt",null,"Date","Ref","Amt","Date","Ref","Amt",null,"Wk","Date","Ref","Amt","Date","Ref","Amt",null,null,"Weekly Team Summary"]
["2014-09-15",null,null,{"$f":"A617+21","v":"2015-01-05"},null,null,null,"2014-09-15",null,null,{"$f":"H617+21","v":"2015-01-05"},null,null,null,"2014-09-15",null,null,{"$f":"O617+21","v":"2015-01-05"},null,null,null,1,"2014-09-15",null,null,{"$f":"W617+21","v":"2015-01-05"},null,null,null,null,1,{"$f":"A604","v":"2014-09-15"},{"$f":"C604+J604+Q604+Y604","v":0},{"$f":"AE618+1","v":16},{"$f":"D604","v":"2015-01-05"},{"$f":"F604+M604+T604+AB604","v":0}]
[{"$f":"A604+7","v":"2014-09-22"},null,null,{"$f":"D604+7","v":"2015-01-12"},null,null,null,{"$f":"H604+7","v":"2014-09-22"},null,null,{"$f":"K604+7","v":"2015-01-12"},null,null,null,{"$f":"O604+7","v":"2014-09-22"},null,null,{"$f":"R604+7","v":"2015-01-12"},null,null,null,2,{"$f":"W604+7","v":"2014-09-22"},null,null,{"$f":"Z604+7","v":"2015-01-12"},null,null,null,null,{"$f":"AE604+1","v":2},"2014-09-22",0,{"$f":"AH604+1","v":17},"2015-01-12",0]
["2014-09-29",null,null,"2015-01-19",null,null,null,"2014-09-29",null,null,"2015-01-19",null,null,null,"2014-09-29",null,null,"2015-01-19",null,null,null,3,"2014-09-29",null,null,"2015-01-19",null,null,null,null,{"$f":"AE605+1","v":3},"2014-09-29",0,{"$f":"AH605+1","v":18},"2015-01-19",0]
["2014-10-06",null,null,"2015-01-26",null,null,null,"2014-10-06",null,null,"2015-01-26",null,null,null,"2014-10-06",null,null,"2015-01-26",null,null,null,4,"2014-10-06",null,null,"2015-01-26",null,null,null,null,4,"2014-10-06",0,19,"2015-01-26",0]
["2014-10-13",null,null,"2015-02-02",null,null,null,"2014-10-13",null,null,"2015-02-02",null,null,null,"2014-10-13",null,null,"2015-02-02",null,null,null,5,"2014-10-13",null,null,"2015-02-02",null,null,null,null,5,"2014-10-13",0,20,"2015-02-02",0]
["2014-10-20",null,null,"2015-02-09",null,null,null,"2014-10-20",null,null,"2015-02-09",null,null,null,"2014-10-20",null,null,"2015-02-09",null,null,null,6,"2014-10-20",null,null,"2015-02-09",null,null,null,null,6,"2014-10-20",0,21,"2015-02-09",0]
["2014-10-27",null,null,"2015-02-16",null,null,null,"2014-10-27",null,null,"2015-02-16",null,null,null,"2014-10-27",null,null,"2015-02-16",null,null,null,7,"2014-10-27",null,null,"2015-02-16",null,null,null,null,7,"2014-10-27",0,22,"2015-02-16",0]
["2014-11-03",null,null,"2015-02-23",null,null,null,"2014-11-03",null,null,"2015-02-23",null,null,null,"2014-11-03",null,null,"2015-02-23",null,null,null,8,"2014-11-03",null,null,"2015-02-23",null,null,null,null,8,"2014-11-03",0,23,"2015-02-23",0]
["2014-11-10",null,null,"2015-03-02",null,null,null,"2014-11-10",null,null,"2015-03-02",null,null,null,"2014-11-10",null,null,"2015-03-02",null,null,null,9,"2014-11-10",null,null,"2015-03-02",null,null,null,null,9,"2014-11-10",0,24,"2015-03-02",0]
["2014-11-17",null,null,"2015-03-09",null,null,null,"2014-11-17",null,null,"2015-03-09",null,null,null,"2014-11-17",null,null,"2015-03-09",null,null,null,10,"2014-11-17",null,null,"2015-03-09",null,null,null,null,10,"2014-11-17",0,25,"2015-03-09",0]
["2014-11-24",null,null,"2015-03-16",null,null,null,"2014-11-24",null,null,"2015-03-16",null,null,null,"2014-11-24",null,null,"2015-03-16",null,null,null,11,"2014-11-24",null,null,"2015-03-16",null,null,null,null,11,"2014-11-24",0,26,"2015-03-16",0]
["2014-12-01",null,null,{"$f":"D614+7","v":"2015-03-23"},null,null,null,"2014-12-01",null,null,{"$f":"K614+7","v":"2015-03-23"},null,null,null,"2014-12-01",null,null,{"$f":"R614+7","v":"2015-03-23"},null,null,null,12,"2014-12-01",null,null,{"$f":"Z614+7","v":"2015-03-23"},null,null,null,null,12,"2014-12-01",0,27,"2015-03-23",0]
["2014-12-08",null,null,{"$f":"D615+7","v":"2015-03-30"},null,null,null,"2014-12-08",null,null,{"$f":"K615+7","v":"2015-03-30"},null,null,null,"2014-12-08",null,null,{"$f":"R615+7","v":"2015-03-30"},null,null,null,13,"2014-12-08",null,null,{"$f":"Z615+7","v":"2015-03-30"},null,null,null,null,13,"2014-12-08",0,28,"2015-03-30",0]
["2014-12-15",null,null,{"$f":"D616+7","v":"2015-04-06"},null,null,null,"2014-12-15",null,null,{"$f":"K616+7","v":"2015-04-06"},null,null,null,"2014-12-15",null,null,{"$f":"R616+7","v":"2015-04-06"},null,null,null,14,"2014-12-15",null,null,{"$f":"Z616+7","v":"2015-04-06"},null,null,null,null,14,"2014-12-15",0,29,"2015-04-06",0]
["2014-12-22",null,null,{"$f":"D617+7","v":"2015-04-13"},null,null,null,"2014-12-22",null,null,{"$f":"K617+7","v":"2015-04-13"},null,null,null,"2014-12-22",null,null,{"$f":"R617+7","v":"2015-04-13"},null,null,null,15,"2014-12-22",null,null,{"$f":"Z617+7","v":"2015-04-13"},null,null,null,null,15,"2014-12-22",0,30,"2015-04-13",0]
[]
[null,null,null,null,null,null,null,null,null,null,null,null,null,null,null,null,null,null,null,null,null,null,null,null,null,null,null,null,null,null,null,null,{"$f":"C604+C605+C606+C607+C608+C609+C610+C611+C612+C613+C614+C615+C616+C617+C618+F604+F605+F606+F607+F608+F609+F610+F611+F612+F613+F614+F615+F616+F617+F618","v":0},{"$f":"SUM(J604:J618)+SUM(M604:M618)","v":0},{"$f":"SUM(Q604:Q618)+SUM(T604:T618)","v":0},{"$f":"SUM(Y604:Y618)+SUM(AB604:AB618)","v":0}]
[null,null,null,null,null,null,null,null,null,null,null,null,null,null,null,null,null,null,null,null,null,null,null,null,null,null,null,null,null,null,null,null,{"$f":"IF(A620=\"USBC Paid in This League\",AG620-20,AG620)/10","v":0},{"$f":"IF(H620=\"USBC Paid in This League\",AH620-20,AH620)/10","v":0},{"$f":"IF(O620=\"USBC Paid in This League\",AI620-20,AI620)/10","v":0},{"$f":"IF(W620=\"USBC Paid in This League\",AJ620-20,AJ620)/10","v":0}]
[]
[]
[]
[null,null,null,null,null,null,null,null,null,null,null,null,null,null,null,null,null,null,null,null,null,null,null,null,null,null,null,null,28]
["Date","Ref","Amt","Date","Ref","Amt",null,"Date","Ref","Amt","Date","Ref","Amt",null,"Date","Ref","Amt","Date","Ref","Amt",null,"Wk","Date","Ref","Amt","Date","Ref","Amt",null,null,"Weekly Team Summary"]
["2014-09-15",null,null,{"$f":"A640+21","v":"2015-01-05"},null,null,null,"2014-09-15",null,null,{"$f":"H640+21","v":"2015-01-05"},null,null,null,"2014-09-15",null,null,{"$f":"O640+21","v":"2015-01-05"},null,null,null,1,"2014-09-15",null,null,{"$f":"W640+21","v":"2015-01-05"},null,null,null,null,1,{"$f":"A627","v":"2014-09-15"},{"$f":"C627+J627+Q627+Y627","v":0},{"$f":"AE641+1","v":16},{"$f":"D627","v":"2015-01-05"},{"$f":"F627+M627+T627+AB627","v":0}]
[{"$f":"A627+7","v":"2014-09-22"},null,null,{"$f":"D627+7","v":"2015-01-12"},null,null,null,{"$f":"H627+7","v":"2014-09-22"},null,null,{"$f":"K627+7","v":"2015-01-12"},null,null,null,{"$f":"O627+7","v":"2014-09-22"},null,null,{"$f":"R627+7","v":"2015-01-12"},null,null,null,2,{"$f":"W627+7","v":"2014-09-22"},null,null,{"$f":"Z627+7","v":"2015-01-12"},null,null,null,null,{"$f":"AE627+1","v":2},"2014-09-22",0,{"$f":"AH627+1","v":17},"2015-01-12",0]
["2014-09-29",null,null,"2015-01-19",null,null,null,"2014-09-29",null,null,"2015-01-19",null,null,null,"2014-09-29",null,null,"2015-01-19",null,null,null,3,"2014-09-29",null,null,"2015-01-19",null,null,null,null,{"$f":"AE628+1","v":3},"2014-09-29",0,{"$f":"AH628+1","v":18},"2015-01-19",0]
["2014-10-06",null,null,"2015-01-26",null,null,null,"2014-10-06",null,null,"2015-01-26",null,null,null,"2014-10-06",null,null,"2015-01-26",null,null,null,4,"2014-10-06",null,null,"2015-01-26",null,null,null,null,4,"2014-10-06",0,19,"2015-01-26",0]
["2014-10-13",null,null,"2015-02-02",null,null,null,"2014-10-13",null,null,"2015-02-02",null,null,null,"2014-10-13",null,null,"2015-02-02",null,null,null,5,"2014-10-13",null,null,"2015-02-02",null,null,null,null,5,"2014-10-13",0,20,"2015-02-02",0]
["2014-10-20",null,null,"2015-02-09",null,null,null,"2014-10-20",null,null,"2015-02-09",null,null,null,"2014-10-20",null,null,"2015-02-09",null,null,null,6,"2014-10-20",null,null,"2015-02-09",null,null,null,null,6,"2014-10-20",0,21,"2015-02-09",0]
["2014-10-27",null,null,"2015-02-16",null,null,null,"2014-10-27",null,null,"2015-02-16",null,null,null,"2014-10-27",null,null,"2015-02-16",null,null,null,7,"2014-10-27",null,null,"2015-02-16",null,null,null,null,7,"2014-10-27",0,22,"2015-02-16",0]
["2014-11-03",null,null,"2015-02-23",null,null,null,"2014-11-03",null,null,"2015-02-23",null,null,null,"2014-11-03",null,null,"2015-02-23",null,null,null,8,"2014-11-03",null,null,"2015-02-23",null,null,null,null,8,"2014-11-03",0,23,"2015-02-23",0]
["2014-11-10",null,null,"2015-03-02",null,null,null,"2014-11-10",null,null,"2015-03-02",null,null,null,"2014-11-10",null,null,"2015-03-02",null,null,null,9,"2014-11-10",null,null,"2015-03-02",null,null,null,null,9,"2014-11-10",0,24,"2015-03-02",0]
["2014-11-17",null,null,"2015-03-09",null,null,null,"2014-11-17",null,null,"2015-03-09",null,null,null,"2014-11-17",null,null,"2015-03-09",null,null,null,10,"2014-11-17",null,null,"2015-03-09",null,null,null,null,10,"2014-11-17",0,25,"2015-03-09",0]
["2014-11-24",null,null,"2015-03-16",null,null,null,"2014-11-24",null,null,"2015-03-16",null,null,null,"2014-11-24",null,null,"2015-03-16",null,null,null,11,"2014-11-24",null,null,"2015-03-16",null,null,null,null,11,"2014-11-24",0,26,"2015-03-16",0]
["2014-12-01",null,null,{"$f":"D637+7","v":"2015-03-23"},null,null,null,"2014-12-01",null,null,{"$f":"K637+7","v":"2015-03-23"},null,null,null,"2014-12-01",null,null,{"$f":"R637+7","v":"2015-03-23"},null,null,null,12,"2014-12-01",null,null,{"$f":"Z637+7","v":"2015-03-23"},null,null,null,null,12,"2014-12-01",0,27,"2015-03-23",0]
["2014-12-08",null,null,{"$f":"D638+7","v":"2015-03-30"},null,null,null,"2014-12-08",null,null,{"$f":"K638+7","v":"2015-03-30"},null,null,null,"2014-12-08",null,null,{"$f":"R638+7","v":"2015-03-30"},null,null,null,13,"2014-12-08",null,null,{"$f":"Z638+7","v":"2015-03-30"},null,null,null,null,13,"2014-12-08",0,28,"2015-03-30",0]
["2014-12-15",null,null,{"$f":"D639+7","v":"2015-04-06"},null,null,null,"2014-12-15",null,null,{"$f":"K639+7","v":"2015-04-06"},null,null,null,"2014-12-15",null,null,{"$f":"R639+7","v":"2015-04-06"},null,null,null,14,"2014-12-15",null,null,{"$f":"Z639+7","v":"2015-04-06"},null,null,null,null,14,"2014-12-15",0,29,"2015-04-06",0]
["2014-12-22",null,null,{"$f":"D640+7","v":"2015-04-13"},null,null,null,"2014-12-22",null,null,{"$f":"K640+7","v":"2015-04-13"},null,null,null,"2014-12-22",null,null,{"$f":"R640+7","v":"2015-04-13"},null,null,null,15,"2014-12-22",null,null,{"$f":"Z640+7","v":"2015-04-13"},null,null,null,null,15,"2014-12-22",0,30,"2015-04-13",0]
[]
[null,null,null,null,null,null,null,null,null,null,null,null,null,null,null,null,null,null,null,null,null,null,null,null,null,null,null,null,null,null,null,null,{"$f":"C627+C628+C629+C630+C631+C632+C633+C634+C635+C636+C637+C638+C639+C640+C641+F627+F628+F629+F630+F631+F632+F633+F634+F635+F636+F637+F638+F639+F640+F641","v":0},{"$f":"SUM(J627:J641)+SUM(M627:M641)","v":0},{"$f":"SUM(Q627:Q641)+SUM(T627:T641)","v":0},{"$f":"SUM(Y627:Y641)+SUM(AB627:AB641)","v":0}]
[null,null,null,null,null,null,null,null,null,null,null,null,null,null,null,null,null,null,null,null,null,null,null,null,null,null,null,null,null,null,null,null,{"$f":"IF(A643=\"USBC Paid in This League\",AG643-20,AG643)/10","v":0},{"$f":"IF(H643=\"USBC Paid in This League\",AH643-20,AH643)/10","v":0},{"$f":"IF(O643=\"USBC Paid in This League\",AI643-20,AI643)/10","v":0},{"$f":"IF(W643=\"USBC Paid in This League\",AJ643-20,AJ643)/10","v":0}]
[]
[]
[]
[null,null,null,null,null,null,null,null,null,null,null,null,null,null,null,null,null,null,null,null,null,null,null,null,null,null,null,null,29]
[null,null,null,null,null,null,null,null,null,null,null,null,null,null,null,null,null,null,null,null,null,null,null,null,null,null,null,null,null,null,"Weekly Team Summary"]
["2014-09-15",null,null,"2015-01-06",null,null,null,"2014-09-15",null,null,{"$f":"D650","v":"2015-01-06"},null,null,null,"2014-09-15",null,null,{"$f":"O663+21","v":"2015-01-05"},null,null,null,1,"2014-09-15",null,null,{"$f":"W663+21","v":"2015-01-05"},null,null,null,null,1,{"$f":"A650","v":"2014-09-15"},{"$f":"C650+J650+Q650+Y650","v":0},{"$f":"AE664+1","v":16},{"$f":"D650","v":"2015-01-06"},{"$f":"F650+M650+T650+AB650","v":0}]
[{"$f":"A650+7","v":"2014-09-22"},null,null,{"$f":"D650+7","v":"2015-01-13"},null,null,null,{"$f":"H650+7","v":"2014-09-22"},null,null,{"$f":"D651","v":"2015-01-13"},null,null,null,{"$f":"O650+7","v":"2014-09-22"},null,null,{"$f":"R650+7","v":"2015-01-12"},null,null,null,2,{"$f":"W650+7","v":"2014-09-22"},null,null,{"$f":"Z650+7","v":"2015-01-12"},null,null,null,null,{"$f":"AE650+1","v":2},"2014-09-22",0,{"$f":"AH650+1","v":17},"2015-01-13",0]
["2014-09-29",null,null,"2015-01-20",null,null,null,"2014-09-29",null,null,"2015-01-20",null,null,null,"2014-09-29",null,null,"2015-01-19",null,null,null,3,"2014-09-29",null,null,"2015-01-19",null,null,null,null,{"$f":"AE651+1","v":3},"2014-09-29",0,{"$f":"AH651+1","v":18},"2015-01-20",0,null,null,null,null,null,null,null,null,null,null,null,64,130]
["2014-10-06",null,null,"2015-01-27",null,null,null,"2014-10-06",null,null,"2015-01-27",null,null,null,"2014-10-06",null,null,"2015-01-26",null,null,null,4,"2014-10-06",null,null,"2015-01-26",null,null,null,null,4,"2014-10-06",0,19,"2015-01-27",0,null,null,null,null,null,null,null,null,null,null,null,16,25]
["2014-10-13",null,null,"2015-02-03",null,null,null,"2014-10-13",null,null,"2015-02-03",null,null,null,"2014-10-13",null,null,"2015-02-02",null,null,null,5,"2014-10-13",null,null,"2015-02-02",null,null,null,null,5,"2014-10-13",0,20,"2015-02-03",0,null,null,null,null,null,null,null,null,null,null,null,32,5]
["2014-10-20",null,null,"2015-02-10",null,null,null,"2014-10-20",null,null,"2015-02-10",null,null,null,"2014-10-20",null,null,"2015-02-09",null,null,null,6,"2014-10-20",null,null,"2015-02-09",null,null,null,null,6,"2014-10-20",0,21,"2015-02-10",0,null,null,null,null,null,null,null,null,null,null,null,96]
["2014-10-27",null,null,"2015-02-17",null,null,null,"2014-10-27",null,null,"2015-02-17",null,null,null,"2014-10-27",null,null,"2015-02-16",null,null,null,7,"2014-10-27",null,null,"2015-02-16",null,null,null,null,7,"2014-10-27",0,22,"2015-02-17",0,null,null,null,null,null,null,null,null,null,null,null,96]
["2014-11-03",null,null,"2015-02-24",null,null,null,"2014-11-03",null,null,"2015-02-24",null,null,null,"2014-11-03",null,null,"2015-02-23",null,null,null,8,"2014-11-03",null,null,"2015-02-23",null,null,null,null,8,"2014-11-03",0,23,"2015-02-24",0,null,null,null,null,null,null,null,null,null,null,null,128]
["2014-11-10",null,null,"2015-03-03",null,null,null,"2014-11-10",null,null,"2015-03-03",null,null,null,"2014-11-10",null,null,"2015-03-02",null,null,null,9,"2014-11-10",null,null,"2015-03-02",null,null,null,null,9,"2014-11-10",0,24,"2015-03-03",0,null,null,null,null,null,null,null,null,null,null,null,96]
["2014-11-17",null,null,"2015-03-10",null,null,null,"2014-11-17",null,null,"2015-03-10",null,null,null,"2014-11-17",null,null,"2015-03-09",null,null,null,10,"2014-11-17",null,null,"2015-03-09",null,null,null,null,10,"2014-11-17",0,25,"2015-03-10",0,null,null,null,null,null,null,null,null,null,null,null,48]
["2014-11-24",null,null,"2015-03-17",null,null,null,"2014-11-24",null,null,"2015-03-17",null,null,null,"2014-11-24",null,null,"2015-03-16",null,null,null,11,"2014-11-24",null,null,"2015-03-16",null,null,null,null,11,"2014-11-24",0,26,"2015-03-17",0,null,null,null,null,null,null,null,null,null,null,null,96]
["2014-12-01",null,null,{"$f":"D660+7","v":"2015-03-24"},null,null,null,"2014-12-01",null,null,"2015-03-24",null,null,null,"2014-12-01",null,null,{"$f":"R660+7","v":"2015-03-23"},null,null,null,12,"2014-12-01",null,null,{"$f":"Z660+7","v":"2015-03-23"},null,null,null,null,12,"2014-12-01",0,27,"2015-03-24",0]
["2014-12-08",null,null,{"$f":"D661+7","v":"2015-03-31"},null,null,null,"2014-12-08",null,null,"2015-03-31",null,null,null,"2014-12-08",null,null,{"$f":"R661+7","v":"2015-03-30"},null,null,null,13,"2014-12-08",null,null,{"$f":"Z661+7","v":"2015-03-30"},null,null,null,null,13,"2014-12-08",0,28,"2015-03-31",0]
["2014-12-15",null,null,{"$f":"D662+7","v":"2015-04-07"},null,null,null,"2014-12-15",null,null,"2015-04-07",null,null,null,"2014-12-15",null,null,{"$f":"R662+7","v":"2015-04-06"},null,null,null,14,"2014-12-15",null,null,{"$f":"Z662+7","v":"2015-04-06"},null,null,null,null,14,"2014-12-15",0,29,"2015-04-07",0]
["2014-12-22",null,null,{"$f":"D663+7","v":"2015-04-14"},null,null,null,"2014-12-22",null,null,"2015-04-14",null,null,null,"2014-12-22",null,null,{"$f":"R663+7","v":"2015-04-13"},null,null,null,15,"2014-12-22",null,null,{"$f":"Z663+7","v":"2015-04-13"},null,null,null,null,15,"2014-12-22",0,30,"2015-04-14",0]
[]
[null,null,null,null,null,null,null,null,null,null,null,null,null,null,null,null,null,null,null,null,null,null,null,null,null,null,null,null,null,null,null,null,{"$f":"C650+C651+C652+C653+C654+C655+C656+C657+C658+C659+C660+C661+C662+C663+C664+F650+F651+F652+F653+F654+F655+F656+F657+F658+F659+F660+F661+F662+F663+F664","v":0},{"$f":"SUM(J650:J664)+SUM(M650:M664)","v":0},{"$f":"SUM(Q650:Q664)+SUM(T650:T664)","v":0},{"$f":"SUM(Y650:Y664)+SUM(AB650:AB664)","v":0},null,null,null,null,null,null,null,null,null,null,null,{"$f":"SUM(AV652:AV665)","v":672},{"$f":"SUM(AW652:AW665)","v":160}]
[null,null,null,null,null,null,null,null,null,null,null,null,null,null,null,null,null,null,null,null,null,null,null,null,null,null,null,null,null,null,null,null,{"$f":"IF(A666=\"USBC Paid in This League\",AG666-20,AG666)/10","v":0},{"$f":"IF(H666=\"USBC Paid in This League\",AH666-20,AH666)/10","v":0},{"$f":"IF(O666=\"USBC Paid in This League\",AI666-20,AI666)/10","v":0},{"$f":"IF(W666=\"USBC Paid in This League\",AJ666-20,AJ666)/10","v":0},null,null,null,null,null,null,null,null,null,null,null,{"$f":"AV666+AW666","v":832}]
[null,null,null,null,null,null,null,null,null,null,null,null,null,null,null,null,null,null,null,null,null,null,null,null,null,null,null,null,null,null,null,null,null,null,null,null,null,null,null,null,null,null,null,null,null,null,null,{"$f":"AQ681","v":0},{"$f":"AV667-AV668","v":832}]
[null,null,null,null,null,null,null,null,null,null,null,null,null,null,null,null,null,null,null,null,null,null,null,null,null,null,null,null,null,null,null,null,null,null,null,null,null,null,null,null,null,null,null,null,null,null,null,null,null,null,null,{"$f":"SUM(AZ210:AZ668)","v":204},{"$f":"SUM(BA228:BA668)","v":175}]
[null,null,null,null,null,null,null,null,null,null,null,null,null,null,null,null,null,null,null,null,null,null,null,null,null,null,null,null,null,null,null,null,null,null,null,null,null,null,null,null,null,null,null,null,null,null,null,null,null,null,null,null,{"$f":"BA669+AZ669","v":379}]
[]
["Date","Ref","Amt","Date","Ref","Amt",null,"Date","Ref","Amt","Date","Ref","Amt",null,"Date","Ref","Amt","Date","Ref","Amt",null,"Wk","Date","Ref","Amt","Date","Ref","Amt",null,null,"Weekly Team Summary",null,null,null,null,null,null,"Weekly League Summary"]
[{"$f":"$A$777","v":"2017-09-05"},null,null,"2016-01-05",null,null,null,{"$f":"$A$777","v":"2017-09-05"},null,null,"2016-01-05",null,null,null,{"$f":"$A$777","v":"2017-09-05"},null,null,"2016-01-05",null,null,null,1,{"$f":"$A$777","v":"2017-09-05"},null,null,"2016-01-05",null,null,null,null,1,{"$f":"A673","v":"2017-09-05"},{"$f":"C673+J673+Q673+Y673","v":0},{"$f":"AE687+1","v":16},{"$f":"D673","v":"2016-01-05"},{"$f":"F673+M673+T673+AB673","v":0},null,null,"Date"]
[{"$f":"$A$778","v":"2017-09-12"},null,null,{"$f":"D673+7","v":"2016-01-12"},null,null,null,{"$f":"$A$778","v":"2017-09-12"},null,null,{"$f":"K673+7","v":"2016-01-12"},null,null,null,{"$f":"$A$778","v":"2017-09-12"},null,null,{"$f":"R673+7","v":"2016-01-12"},null,null,null,2,{"$f":"$A$778","v":"2017-09-12"},null,null,{"$f":"Z673+7","v":"2016-01-12"},null,null,null,null,{"$f":"AE673+1","v":2},"2017-09-12",0,{"$f":"AH673+1","v":17},"2016-01-12",0,null,1,{"$f":"H673","v":"2017-09-05"},{"$f":"AG5+AG28+AG51+AG75+AG98+AG121+AG144+AG167+AG190+AG213","v":0},{"$f":"AL688+1","v":16},{"$f":"AI213","v":"2018-01-02"},{"$f":"AJ5+AJ28+AJ51+AJ75+AJ98+AJ121+AJ144+AJ167+AJ190+AJ213","v":0}]
[{"$f":"$A$779","v":"2017-09-19"},null,null,{"$f":"D674+7","v":"2016-01-19"},null,null,null,{"$f":"$A$779","v":"2017-09-19"},null,null,{"$f":"K674+7","v":"2016-01-19"},null,null,null,{"$f":"$A$779","v":"2017-09-19"},null,null,{"$f":"R674+7","v":"2016-01-19"},null,null,null,3,{"$f":"$A$779","v":"2017-09-19"},null,null,{"$f":"Z674+7","v":"2016-01-19"},null,null,null,null,{"$f":"AE674+1","v":3},"2017-09-19",0,{"$f":"AH674+1","v":18},"2016-01-19",0,null,2,"2017-09-12",0,{"$f":"AO674+1","v":17},"2018-01-09",{"$f":"AJ6+AJ29+AJ52+AJ76+AJ99+AJ122+AJ145+AJ168+AJ191+AJ214","v":0}]
[{"$f":"$A$780","v":"2017-09-26"},null,null,"2016-01-26",null,null,null,{"$f":"$A$780","v":"2017-09-26"},null,null,"2016-01-26",null,null,null,{"$f":"$A$780","v":"2017-09-26"},null,null,"2016-01-26",null,null,null,4,{"$f":"$A$780","v":"2017-09-26"},null,null,"2016-01-26",null,null,null,null,4,"2017-09-26",0,19,"2016-01-26",0,null,3,"2017-09-19",0,{"$f":"AO675+1","v":18},"2018-01-16",0]
[{"$f":"$A$781","v":"2017-10-03"},null,null,"2016-02-02",null,null,null,{"$f":"$A$781","v":"2017-10-03"},null,null,"2016-02-02",null,null,null,{"$f":"$A$781","v":"2017-10-03"},null,null,"2016-02-02",null,null,null,5,{"$f":"$A$781","v":"2017-10-03"},null,null,"2016-02-02",null,null,null,null,5,"2017-10-03",0,20,"2016-02-02",0,null,4,"2017-09-26",0,19,"2018-01-23",0]
[{"$f":"$A$782","v":"2017-10-10"},null,null,"2016-02-09",null,null,null,{"$f":"$A$782","v":"2017-10-10"},null,null,"2016-02-09",null,null,null,{"$f":"$A$782","v":"2017-10-10"},null,null,"2016-02-09",null,null,null,6,{"$f":"$A$782","v":"2017-10-10"},null,null,"2016-02-09",null,null,null,null,6,"2017-10-10",0,21,"2016-02-09",0,null,5,"2017-10-03",0,20,"2018-01-30",0]
[{"$f":"$A$783","v":"2017-10-17"},null,null,"2016-02-16",null,null,null,{"$f":"$A$783","v":"2017-10-17"},null,null,"2016-02-16",null,null,null,{"$f":"$A$783","v":"2017-10-17"},null,null,"2016-02-16",null,null,null,7,{"$f":"$A$783","v":"2017-10-17"},null,null,"2016-02-16",null,null,null,null,7,"2017-10-17",0,22,"2016-02-16",0,null,6,"2017-10-10",0,21,"2018-02-06",0]
[{"$f":"$A$784","v":"2017-10-24"},null,null,"2016-02-23",null,null,null,{"$f":"$A$784","v":"2017-10-24"},null,null,"2016-02-23",null,null,null,{"$f":"$A$784","v":"2017-10-24"},null,null,"2016-02-23",null,null,null,8,{"$f":"$A$784","v":"2017-10-24"},null,null,"2016-02-23",null,null,null,null,8,"2017-10-24",0,23,"2016-02-23",0,null,7,"2017-10-17",0,22,"2018-02-13",0]
[{"$f":"$A$785","v":"2017-10-31"},null,null,"2016-03-01",null,null,null,{"$f":"$A$785","v":"2017-10-31"},null,null,"2016-03-01",null,null,null,{"$f":"$A$785","v":"2017-10-31"},null,null,"2016-03-01",null,null,null,9,{"$f":"$A$785","v":"2017-10-31"},null,null,"2016-03-01",null,null,null,null,9,"2017-10-31",0,24,"2016-03-01",0,null,8,"2017-10-24",0,23,"2018-02-20",0]
[{"$f":"$A$786","v":"2017-11-07"},null,null,"2016-03-08",null,null,null,{"$f":"$A$786","v":"2017-11-07"},null,null,"2016-03-08",null,null,null,{"$f":"$A$786","v":"2017-11-07"},null,null,"2016-03-08",null,null,null,10,{"$f":"$A$786","v":"2017-11-07"},null,null,"2016-03-08",null,null,null,null,10,"2017-11-07",0,25,"2016-03-08",0,null,9,"2017-10-31",0,24,"2018-02-27",0]
[{"$f":"$A$787","v":"2017-11-14"},null,null,"2016-03-15",null,null,null,{"$f":"$A$787","v":"2017-11-14"},null,null,"2016-03-15",null,null,null,{"$f":"$A$787","v":"2017-11-14"},null,null,"2016-03-15",null,null,null,11,{"$f":"$A$787","v":"2017-11-14"},null,null,"2016-03-15",null,null,null,null,11,"2017-11-14",0,26,"2016-03-15",0,null,10,"2017-11-07",0,25,"2018-03-06",0]
[{"$f":"$A$788","v":"2017-11-21"},null,null,"2016-03-22",null,null,null,{"$f":"$A$788","v":"2017-11-21"},null,null,"2016-03-22",null,null,null,{"$f":"$A$788","v":"2017-11-21"},null,null,"2016-03-22",null,null,null,12,{"$f":"$A$788","v":"2017-11-21"},null,null,"2016-03-22",null,null,null,null,12,"2017-11-21",0,27,"2016-03-22",0,null,11,"2017-11-14",0,26,"2018-03-13",0]
[{"$f":"$A$789","v":"2017-11-28"},null,null,"2016-03-29",null,null,null,{"$f":"$A$789","v":"2017-11-28"},null,null,"2016-03-29",null,null,null,{"$f":"$A$789","v":"2017-11-28"},null,null,"2016-03-29",null,null,null,13,{"$f":"$A$789","v":"2017-11-28"},null,null,"2016-03-29",null,null,null,null,13,"2017-11-28",0,28,"2016-03-29",0,null,12,"2017-11-21",0,27,"2018-03-20",0]
[{"$f":"$A$790","v":"2017-12-05"},null,null,"2016-04-05",null,null,null,{"$f":"$A$790","v":"2017-12-05"},null,null,"2016-04-05",null,null,null,{"$f":"$A$790","v":"2017-12-05"},null,null,"2016-04-05",null,null,null,14,{"$f":"$A$790","v":"2017-12-05"},null,null,"2016-04-05",null,null,null,null,14,"2017-12-05",0,29,"2016-04-05",0,null,13,"2017-11-28",0,28,"2018-03-27",0]
[{"$f":"$A$791","v":"2017-12-12"},null,null,"2016-04-12",null,null,null,{"$f":"$A$791","v":"2017-12-12"},null,null,"2016-04-12",null,null,null,{"$f":"$A$791","v":"2017-12-12"},null,null,"2016-04-12",null,null,null,15,{"$f":"$A$791","v":"2017-12-12"},null,null,"2016-04-12",null,null,null,null,15,"2017-12-12",0,30,"2016-04-12",0,null,14,"2017-12-05",0,29,"2018-04-03",0]
[null,null,null,"2016-04-19",null,null,null,{"$f":"$A$792","v":"2017-12-19"},null,null,"2016-04-19",null,null,null,null,null,null,"2016-04-19",null,null,null,null,null,null,null,"2016-04-19",null,null,null,null,null,null,null,null,null,null,null,15,"2017-12-12",0,30,"2018-04-10",0]
[null,null,null,null,null,null,null,null,null,null,null,null,null,null,null,null,null,null,null,null,null,null,null,null,null,null,null,null,null,null,null,null,{"$f":"C673+C674+C675+C676+C677+C678+C679+C680+C681+C682+C683+C684+C685+C686+C687+F673+F674+F675+F676+F677+F678+F679+F680+F681+F682+F683+F684+F685+F686+F687","v":0},{"$f":"SUM(J673:J687)+SUM(M673:M687)","v":0},{"$f":"SUM(Q673:Q687)+SUM(T673:T687)","v":0},{"$f":"SUM(Y673:Y687)+SUM(AB673:AB687)","v":0},null,15,{"$f":"H688","v":"2017-12-19"},0,31,{"$f":"AI688","v":"00:00:00"},0]
[null,null,null,null,null,null,null,null,null,null,null,null,null,null,null,null,null,null,null,null,null,null,null,null,null,null,null,null,null,null,null,null,{"$f":"IF(A689=\"USBC Paid in This League\",AG689-20,AG689)/10","v":0},{"$f":"IF(H689=\"USBC Paid in This League\",AH689-20,AH689)/10","v":0},{"$f":"IF(O689=\"USBC Paid in This League\",AI689-20,AI689)/10","v":0},{"$f":"IF(W689=\"USBC Paid in This League\",AJ689-20,AJ689)/10","v":0}]
[]
[null,null,null,null,null,null,null,null,null,null,null,null,null,null,null,null,null,null,null,null,null,null,null,null,null,null,null,null,null,null,null,null,null,null,null,null,null,null,"Classic League 2017-2018 Season"]
[null,null,null,null,null,null,null,null,null,null,null,null,null,null,null,null,null,null,null,null,null,null,null,null,null,null,null,null,null,null,null,null,null,null,null,null,null,null,"Transaction History",null,null,null,null,null,null,null,null,null,null,"Audit"]
[null,null,null,null,null,null,null,null,null,null,null,null,null,null,null,null,null,null,null,null,null,null,null,null,null,null,null,null,null,null,null,null,null,null,null,null,null,null,"Date","Credits","Ref.","Description","Lineage","USBC","Admin","USBC","Misc","Debits","Balance","President","Bank","OutStanding","Balance"]
["Let's Communicate",null,null,null,null,null,null,null,null,null,null,null,null,null,null,null,null,null,null,null,null,null,null,null,null,null,null,null,null,null,null,null,null,null,null,null,null,null,"9/5/17",51.31,null,"Beginning Balance",null,null,null,null,null,null,{"$f":"AN695-AQ695-AR695-AS695-AT695-AU695-AV695","v":51.31}]
["Please Enter Your Data on Sheet",null,null,null,null,null,null,null,null,null,null,null,null,null,null,null,null,null,null,null,null,null,null,null,null,null,null,null,null,null,null,null,null,null,null,null,null,null,{"$f":"AM695+7","v":"2017-09-12"},5119,1298,"RCSCW + Deposit",252,null,null,null,null,null,{"$f":"AW695+AN696-AQ696-AR696-AS696-AT696-AU696-AV696","v":4918.3100000000004}]
[null,null,null,null,null,null,null,null,null,null,null,null,null,null,null,null,null,null,null,null,null,null,null,null,null,null,null,null,null,null,null,null,null,null,null,null,null,null,{"$f":"AM696+7","v":"2017-09-19"},631,1299,"RCSCW + Deposit",252,null,null,null,null,null,5297.31]
["1.  Please make Checks Payable to Classic",null,null,null,null,null,null,null,"One-Time Fees",null,null,null,null,null,null,null,null,null,null,null,null,null,null,null,null,null,null,null,null,null,null,null,null,null,null,null,null,null,{"$f":"AM697","v":"2017-09-19"},34,1300,"RCSCW + Deposit",252,null,null,null,null,null,5079.3100000000004]
["2.  Enter payment on the Date Paid",null,null,null,null,null,null,null,"Non-Residents Pay $20 to Desk Monitor",null,null,null,null,null,null,null,null,null,null,null,null,null,null,null,null,null,null,null,null,null,null,null,null,null,null,null,null,null,{"$f":"AM698+7","v":"2017-09-26"},270,1301,"MPUSBC - 18",null,432,null,null,null,null,4917.3100000000004]
["3.  Ref: Write Check No. or Write Cash",null,null,null,null,null,null,null,null,null,null,null,null,null,null,null,null,null,null,null,null,null,null,null,null,null,null,null,null,null,null,null,null,null,null,null,null,null,"2017-10-03",1233,1302,"RCSCW + Deposit",252,null,null,null,null,null,5898.31,"CS",4665.3100000000004,null,{"$f":"AY700-AZ700","v":4665.3100000000004}]
["4.  Amt: Amount Paid",null,null,null,null,null,null,null,"USBC Dues Add $24 to first week If paid in this league         $0.00 If paid in another league ",null,null,null,null,null,null,null,null,null,null,null,null,null,null,null,null,null,null,null,null,null,null,null,null,null,null,null,null,null,"2017-10-10",93,1303,"RCSCW + Deposit",252,null,null,null,null,null,5739.31]
["5.  Weeks paid will be  marked yellow by Secretary",null,null,null,null,null,null,null,null,null,null,null,null,null,null,null,null,null,null,null,null,null,null,null,null,null,null,null,null,null,null,null,null,null,null,null,null,null,"2017-10-10",null,1304,"RCSCW + Deposit",252,null,null,null,null,null,5487.31]
[null,null,null,null,null,null,null,null,null,null,null,null,null,null,null,null,null,null,null,null,null,null,null,null,null,null,null,null,null,null,null,null,null,null,null,null,null,null,"2017-10-17",194,1305,"RCSCW + Deposit",252,null,null,null,null,null,5429.31]
[null,"1st and Last 2 weeks - 3 weeks $51",null,null,null,null,null,null,null,"1. Team Captains are responsible for the collection of all fees.",null,null,null,null,null,null,null,null,null,null,null,null,null,null,null,null,null,null,null,null,null,null,null,null,null,null,null,null,"2017-10-24",578,1306,"RCSCW + Deposit",252,null,null,null,null,null,5755.31]
[null,"September - 4 weeks Plus Last 2 weeks $102",null,null,null,null,null,null,null,null,null,null,null,null,null,null,null,null,null,null,null,null,null,null,null,null,null,null,null,null,null,null,null,null,null,null,null,null,"2017-10-31",357,"1307","RCSCW + Deposit",252,null,null,null,null,null,5860.31]
[null,"October - 5 weeks $85",null,null,null,null,null,null,null,"2. Late Arriving Bowlers Listed on Roster are responsible for all season-to-date league fees. ",null,null,null,null,null,null,null,null,null,null,null,null,null,null,null,null,null,null,null,null,null,null,null,null,null,null,null,null,"2017-11-07",null,1308,"MPUSBC - 1",null,24,null,null,null,null,5836.31,"CS",5860.31,{"$f":"AR706","v":24},{"$f":"AY706-AZ706","v":5836.31}]
[null,"November - 4 weeks $68",null,null,null,null,null,null,null,null,null,null,null,null,null,null,null,null,null,null,null,null,null,null,null,null,null,null,null,null,null,null,null,null,null,null,null,null,"2017-11-14",850,1309,"RCSCW + Deposit",252,null,null,null,null,null,6434.31]
[null,"December - 3 weeks $51",null,null,null,null,null,null,null,null,null,null,null,null,null,null,null,null,null,null,null,null,null,null,null,null,null,null,null,null,null,null,null,null,null,null,null,null,"2017-11-21",221,1310,"RCSCW + Deposit",252,null,null,null,null,null,6403.31,"CS",6427.31,24,{"$f":"AY708-AZ708","v":6403.31}]
[null,"January - 5 weeks $85",null,null,null,null,null,null,null,"3. New bowlers beginning after the league schedule begins are responsible for all season-to-date league fees excluding lineage.",null,null,null,null,null,null,null,null,null,null,null,null,null,null,null,null,null,null,null,null,null,null,null,null,null,null,null,null,"2017-11-28",511,1311,"RCSCW + Deposit",252,null,null,null,null,null,6662.31]
[null,"February - 4 weeks $68",null,null,null,null,null,null,null,null,null,null,null,null,null,null,null,null,null,null,null,null,null,null,null,null,null,null,null,null,null,null,null,null,null,null,null,null,"2017-12-05",833,1312,"RCSCW + Deposit",252,null,null,null,null,null,7243.31]
[null,"March - 4 weeks $68",null,null,null,null,null,null,null,null,null,null,null,null,null,null,null,null,null,null,null,null,null,null,null,null,null,null,null,null,null,null,null,null,null,null,null,null,"2017-12-12",866,1313,"RCSCW + Deposit",252,null,null,null,null,null,7857.31]
[null,null,null,null,null,null,null,null,null,null,null,null,null,null,null,null,null,null,null,null,null,null,null,null,null,null,null,null,null,null,null,null,null,null,null,null,null,null,"2017-12-19",120,1314,"RCSCW + Deposit",252,null,null,null,null,null,7725.31]
[null,null,null,null,null,null,null,null,null,null,null,null,null,null,null,null,null,null,null,null,null,null,null,null,null,null,null,null,null,null,null,null,null,null,null,null,null,null,{"$f":"AM712+14","v":"2018-01-02"},1086,1315,"RCSCW + Deposit",252,null,null,null,null,null,8559.3100000000013]
[null,null,null,null,null,null,null,null,null,null,null,null,null,null,null,null,null,null,null,null,null,null,null,null,null,null,null,null,null,null,null,null,null,null,null,null,null,null,"2018-01-09",11,1316,"MPUSBC Transfer Fee D. Massey",null,11,null,null,null,null,8559.3100000000013]
[null,null,null,null,null,null,null,null,null,null,null,null,null,null,null,null,null,null,null,null,null,null,null,null,null,null,null,null,null,null,null,null,null,null,null,null,null,null,{"$f":"AM714","v":"2018-01-09"},170,1317,"RCSCW + Deposit",252,null,null,null,null,null,8477.3100000000013]
[null,null,null,null,null,null,null,null,null,null,null,null,null,null,null,null,null,null,null,null,null,null,null,null,null,null,null,null,null,null,null,null,null,null,null,null,null,null,"2018-01-16",34,1318,"RCSCW + Deposit",252,null,null,null,null,null,8259.3100000000013]
[null,null,null,null,null,null,null,null,null,null,null,null,null,null,null,null,null,null,null,null,null,null,null,null,null,null,null,null,null,null,null,null,null,null,null,null,null,null,"2018-01-23",136,1319,"RCSCW + Deposit",252,null,null,null,null,null,8143.3100000000013]
[null,null,null,null,null,null,null,null,null,null,null,null,null,null,null,null,null,null,null,null,null,null,null,null,null,null,null,null,null,null,null,null,null,null,null,null,null,null,"2018-01-30",389,1320,"RCSCW + Deposit",252,null,null,null,null,null,8280.3100000000013,"CS",8543.31,{"$f":"AR714+AQ718","v":263},{"$f":"AY718-AZ718","v":8280.31},{"$f":"BA718-AW718","v":0}]
[null,null,null,null,null,null,null,null,null,null,null,null,null,null,null,null,null,null,null,null,null,null,null,null,null,null,null,null,null,null,null,null,null,null,null,null,null,null,"2018-02-06",765,1321,"RCSCW + Deposit",252,null,null,null,null,null,8793.3100000000013]
[null,null,null,null,null,null,null,null,null,null,null,null,null,null,null,null,null,null,null,null,null,null,null,null,null,null,null,null,null,null,null,null,null,null,null,null,null,null,"2018-02-22",204,1322,"RCSCW + Deposit",252,null,null,null,null,null,8745.3100000000013]
[null,null,null,null,null,null,null,null,null,null,null,null,null,null,null,null,null,null,null,null,null,null,null,null,null,null,null,null,null,null,null,null,null,null,null,null,null,null,"2018-02-22",50,1323,"RCSCW + Deposit",252,null,null,null,null,null,8543.3100000000013]
[null,null,null,null,null,null,null,null,null,null,null,null,null,null,null,null,null,null,null,null,null,null,null,null,null,null,null,null,null,null,null,null,null,null,null,null,null,null,"2018-03-01",288,1324,"RCSCW + Deposit",252,null,null,null,null,null,8579.3100000000013]
[null,null,null,null,null,null,null,null,null,null,null,null,null,null,null,null,null,null,null,null,null,null,null,null,null,null,null,null,null,null,null,null,null,null,null,null,null,null,"2018-03-08",745,null,null,null,null,null,null,null,null,9324.3100000000013,null,9335.31,{"$f":"AR714","v":11},{"$f":"AY723-AZ723","v":9324.31}]
[null,null,null,null,null,null,null,null,null,null,null,null,null,null,null,null,null,null,null,null,null,null,null,null,null,null,null,null,null,null,null,null,null,null,null,null,null,null,null,null,null,null,null,null,null,null,null,null,9324.3100000000013]
[null,null,null,null,null,null,null,null,null,null,null,null,null,null,null,null,null,null,null,null,null,null,null,null,null,null,null,null,null,null,null,null,null,null,null,null,null,null,"Date","Credits","Ref.","Description","Lineage","USBC\nFees","Admin","USBC\nFees","Misc","Debits","Balance"]
[]
[]
[]
[]
[]
[]
[]
[]
[]
[]
[]
[]
[]
[]
[]
[]
[]
[]
[]
[]
[]
[null,null,null,null,null,null,null,null,null,null,null,null,null,null,null,null,null,null,null,null,null,null,null,null,null,null,null,null,null,null,null,null,null,null,null,null,null,null,null,null,null,null,null,null,null,null,null,null,null,null,null,null,null,{"$f":"#REF!+#REF!","v":{"$error":"#REF!"}}]
[]
[]
[]
[]
[]
[]
[]
[]
[]
[]
[]
[]
[]
[]
[]
[]
[]
[]
[]
[]
[]
[]
[]
[null,null,null,null,null,null,null,null,null,null,null,null,null,null,null,null,null,null,null,null,null,null,null,null,null,null,null,null,null,null,null,null,null,null,null,null,null,null,null,null,null,null,null,null,null,null,null,null,{"$f":"AW770+AM771-AQ771-AR771-AS771-AT771-AU771-AV771","v":0}]
[]
[]
[]
[]
["Date","Ref","Amt","Date","Ref","Amt",null,"Date","Ref","Amt","Date","Ref","Amt",null,"Date","Ref","Amt","Date","Ref","Amt",null,"Wk","Date","Ref","Amt","Date","Ref","Amt"]
["2017-09-05",null,null,{"$f":"A792+14","v":"2018-01-02"},null,null,null,null,null,null,null,null,null,null,null,null,null,null,null,null,null,1,"2014-09-15",null,null,{"$f":"W790+21","v":"2015-01-05"},null,null,null,null,"Weekly League Summary"]
[{"$f":"A777+7","v":"2017-09-12"},null,null,{"$f":"D777+7","v":"2018-01-09"},null,null,null,null,null,null,null,null,null,null,null,null,null,null,null,null,null,2,{"$f":"W777+7","v":"2014-09-22"},null,null,{"$f":"Z777+7","v":"2015-01-12"},null,null,null,null,1,{"$f":"AF673","v":"2017-09-05"},{"$f":"AG5+AG28+AG51+AG75+AG98+AG121+AG144+AG167+AG190+AG213+AG237+AG259+AG282+AG305+AG328+AG351+AG374+AG397+AG420+AG443+AG466+AG489+AG512+AG535+AG558+AG581+AG604+AG627+AG650+AG673","v":0},{"$f":"AE792+1","v":16},{"$f":"AI673","v":"2016-01-05"},{"$f":"AJ5+AJ28+AJ51+AJ75+AJ98+AJ121+AJ144+AJ167+AJ190+AJ213","v":0}]
[{"$f":"A778+7","v":"2017-09-19"},null,null,"2018-01-16",null,null,null,null,null,null,null,null,null,null,null,null,null,null,null,null,null,3,"2014-09-29",null,null,"2015-01-19",null,null,null,null,{"$f":"AE778+1","v":2},"2017-09-12",0,{"$f":"AH778+1","v":17},"2016-01-12",0]
["2017-09-26",null,null,"2018-01-23",null,null,null,null,null,null,null,null,null,null,null,null,null,null,null,null,null,4,"2014-10-06",null,null,"2015-01-26",null,null,null,null,{"$f":"AE779+1","v":3},"2017-09-19",0,{"$f":"AH779+1","v":18},"2016-01-19",0]
["2017-10-03",null,null,"2018-01-30",null,null,null,null,null,null,null,null,null,null,null,null,null,null,null,null,null,5,"2014-10-13",null,null,"2015-02-02",null,null,null,null,4,"2017-09-26",0,19,"2016-01-26",0]
["2017-10-10",null,null,"2018-02-06",null,null,null,null,null,null,null,null,null,null,null,null,null,null,null,null,null,6,"2014-10-20",null,null,"2015-02-09",null,null,null,null,5,"2017-10-03",0,20,"2016-02-02",0]
["2017-10-17",null,null,"2018-02-13",null,null,null,null,null,null,null,null,null,null,null,null,null,null,null,null,null,7,"2014-10-27",null,null,"2015-02-16",null,null,null,null,6,"2017-10-10",0,21,"2016-02-09",0]
["2017-10-24",null,null,"2018-02-20",null,null,null,null,null,null,null,null,null,null,null,null,null,null,null,null,null,8,"2014-11-03",null,null,"2015-02-23",null,null,null,null,7,"2017-10-17",0,22,"2016-02-16",0]
["2017-10-31",null,null,"2018-02-27",null,null,null,null,null,null,null,null,null,null,null,null,null,null,null,null,null,9,"2014-11-10",null,null,"2015-03-02",null,null,null,null,8,"2017-10-24",0,23,"2016-02-23",0]
["2017-11-07",null,null,"2018-03-06",null,null,null,null,null,null,null,null,null,null,null,null,null,null,null,null,null,10,"2014-11-17",null,null,"2015-03-09",null,null,null,null,9,"2017-10-31",0,24,"2016-03-01",0]
["2017-11-14",null,null,"2018-03-13",null,null,null,null,null,null,null,null,null,null,null,null,null,null,null,null,null,11,"2014-11-24",null,null,"2015-03-16",null,null,null,null,10,"2017-11-07",0,25,"2016-03-08",0]
[{"$f":"A787+7","v":"2017-11-21"},null,null,"2018-03-20",null,null,null,null,null,null,null,null,null,null,null,null,null,null,null,null,null,12,"2014-12-01",null,null,{"$f":"Z787+7","v":"2015-03-23"},null,null,null,null,11,"2017-11-14",0,26,"2016-03-15",0]
["2017-11-28",null,null,"2018-03-27",null,null,null,null,null,null,null,null,null,null,null,null,null,null,null,null,null,13,"2014-12-08",null,null,{"$f":"Z788+7","v":"2015-03-30"},null,null,null,null,12,"2017-11-21",0,27,"2016-03-22",0]
["2017-12-05",null,null,"2018-04-03",null,null,null,null,null,null,null,null,null,null,null,null,null,null,null,null,null,14,"2014-12-15",null,null,{"$f":"Z789+7","v":"2015-04-06"},null,null,null,null,13,"2017-11-28",0,28,"2016-03-29",0]
["2017-12-12",null,null,"2018-04-10",null,null,null,null,null,null,null,null,null,null,null,null,null,null,null,null,null,15,"2014-12-22",null,null,{"$f":"Z790+7","v":"2015-04-13"},null,null,null,null,14,"2017-12-05",0,29,"2016-04-05",{"$f":"AJ18+AJ41+AJ64+AJ88+AJ111+AJ134+AJ157+AJ180+AJ203+AJ226+AJ250+AJ272+AJ295+AJ318+AJ341+AJ364+AJ387+AJ410+AJ433+AJ456+AJ479+AJ502+AJ525+AJ548+AJ571+AJ594+AJ617+AJ640+AJ663+AJ686","v":0}]
["2017-12-19",null,null,null,"Total",{"$f":"SUM(C777:C792,F777:F791)","v":0},null,null,null,null,null,null,null,null,null,null,null,null,null,null,null,null,null,null,null,null,null,null,null,null,15,"2017-12-12",0,30,"2016-04-12",{"$f":"AJ19+AJ42+AJ65+AJ89+AJ112+AJ135+AJ158+AJ181+AJ204+AJ227+AJ251+AJ273+AJ296+AJ319+AJ342+AJ365+AJ388+AJ411+AJ434+AJ457+AJ480+AJ503+AJ526+AJ549+AJ572+AJ595+AJ618+AJ641+AJ664+AJ687","v":0}]
[]
[]
[null,null,null,null,null,null,null,null,null,null,null,null,null,null,null,null,null,null,null,null,null,null,null,null,null,null,null,null,null,null,null,null,165]
[null,null,null,null,null,null,null,null,null,null,null,null,null,null,null,null,null,null,null,null,null,null,null,null,null,null,null,null,null,null,null,null,63]
[null,null,null,null,null,null,null,null,null,null,null,null,null,null,null,null,null,null,null,null,null,null,null,null,null,null,null,null,null,null,null,null,75]
[null,null,null,null,null,null,null,null,null,null,null,null,null,null,null,null,null,null,null,null,null,null,null,null,null,null,null,null,null,null,null,null,75]
[null,null,null,null,null,null,null,null,null,null,null,null,null,null,null,null,null,null,null,null,null,null,null,null,null,null,null,null,null,null,null,null,120]
[null,null,null,null,null,null,null,null,null,null,null,null,null,null,null,null,null,null,null,null,null,null,null,null,null,null,null,null,null,null,null,null,75]
[null,null,null,null,null,null,null,null,null,null,null,null,null,null,null,null,null,null,null,null,null,null,null,null,null,null,null,null,null,null,null,null,{"$f":"SUM(AG795:AG800)","v":573}]
[]
[]
[]
[]
[]
[]
[]
[]
[]
[]
[]
[]
[]
[]
[]
[]
[]
[]
[]
[]
[]
[]
[]
[]
[]
[]
[]
[]
[]
[]
[]
[]
[]
[]
[]
[]
[]
[]
[]
[]
[]
[]
[]
[]
[]
[]
[]
[]
[]
[]
[]
[]
[]
[]
[]
[]
[]
[]
[]
[]
[null,null,null,null,null,null,null,null,null,null,null,null,null,null,null,null,null,null,null,null,null,null,{"$f":"V862+1","v":1}]
[null,null,null,null,null,null,null,null,null,null,null,null,null,null,null,null,null,null,null,null,null,""]
["Date","Ref","Amt","Date","Ref","Amt",null,"Date","Ref","Amt","Date","Ref","Amt",null,"Date","Ref","Amt","Date","Ref","Amt",null,"Wk","Date","Ref","Amt","Date","Ref","Amt",null,null,"This secction establishes dates"]
[null,null,null,null,null,null,null,null,null,null,null,null,null,null,null,null,null,null,null,null,null,1,"2014-09-15",null,null,{"$f":"W878+21","v":"2015-01-05"},null,null,null,null,"DO NOT delete"]
[null,null,null,null,null,null,null,null,null,null,null,null,null,null,null,null,null,null,null,null,null,2,{"$f":"W865+7","v":"2014-09-22"},null,null,{"$f":"Z865+7","v":"2015-01-12"}]
[null,null,null,null,null,null,null,null,null,null,null,null,null,null,null,null,null,null,null,null,null,3,"2014-09-29",null,null,"2015-01-19"]
[null,null,null,null,null,null,null,null,null,null,null,null,null,null,null,null,null,null,null,null,null,4,"2014-10-06",null,null,"2015-01-26"]
[null,null,null,null,null,null,null,null,null,null,null,null,null,null,null,null,null,null,null,null,null,5,"2014-10-13",null,null,"2015-02-02"]
[null,null,null,null,null,null,null,null,null,null,null,null,null,null,null,null,null,null,null,null,null,6,"2014-10-20",null,null,"2015-02-09"]
[null,null,null,null,null,null,null,null,null,null,null,null,null,null,null,null,null,null,null,null,null,7,"2014-10-27",null,null,"2015-02-16"]
[null,null,null,null,null,null,null,null,null,null,null,null,null,null,null,null,null,null,null,null,null,8,"2014-11-03",null,null,"2015-02-23"]
[null,null,null,null,null,null,null,null,null,null,null,null,null,null,null,null,null,null,null,null,null,9,"2014-11-10",null,null,"2015-03-02"]
[null,null,null,null,null,null,null,null,null,null,null,null,null,null,null,null,null,null,null,null,null,10,"2014-11-17",null,null,"2015-03-09"]
[null,null,null,null,null,null,null,null,null,null,null,null,null,null,null,null,null,null,null,null,null,11,{"$f":"W874+7","v":"2014-11-24"},null,null,{"$f":"Z874+7","v":"2015-03-16"}]
[null,null,null,null,null,null,null,null,null,null,null,null,null,null,null,null,null,null,null,null,null,12,{"$f":"W875+7","v":"2014-12-01"},null,null,{"$f":"Z875+7","v":"2015-03-23"}]
[null,null,null,null,null,null,null,null,null,null,null,null,null,null,null,null,null,null,null,null,null,13,{"$f":"W876+7","v":"2014-12-08"},null,null,{"$f":"Z876+7","v":"2015-03-30"}]
[null,null,null,null,null,null,null,null,null,null,null,null,null,null,null,null,null,null,null,null,null,14,{"$f":"W877+7","v":"2014-12-15"},null,null,{"$f":"Z877+7","v":"2015-04-06"}]
[null,null,null,null,null,null,null,null,null,null,null,null,null,null,null,null,null,null,null,null,null,15,{"$f":"W878+7","v":"2014-12-22"},null,null,{"$f":"Z878+7","v":"2015-04-13"}]

{"sheet":"Returning Bowlers","index":2,"n_rows":231,"n_cols":20,"rows_kept":231,"cut":false,"hidden":false,"merged":[[43,2,43,5],[43,9,43,12],[43,16,43,19],[27,0,27,3],[27,7,27,10],[27,14,27,17],[0,0,0,19],[2,0,2,5],[2,7,2,12],[2,14,2,19],[20,2,20,5],[20,9,20,12],[20,16,20,19],[4,0,4,3],[4,7,4,10],[4,14,4,17],[9,0,10,5],[9,7,10,12],[9,14,10,19],[12,0,13,5],[12,7,13,12],[12,14,13,19],[6,0,6,3],[6,7,6,10],[90,2,90,5],[90,9,90,12],[90,16,90,19],[74,0,74,3],[74,7,74,10],[74,14,74,17],[47,0,47,19],[48,0,48,5],[48,7,48,12],[48,14,48,19],[66,2,66,5],[66,9,66,12],[66,16,66,19],[55,0,56,5],[55,7,56,12],[55,14,56,19],[52,14,52,17],[54,0,54,5],[54,7,54,12],[54,14,54,19],[58,0,59,5],[58,7,59,12],[58,14,59,19],[50,0,50,3],[136,2,136,5],[136,9,136,12],[136,16,136,19],[120,0,120,3],[120,7,120,10],[120,14,120,17],[94,0,94,19],[95,0,95,5],[95,7,95,12],[95,14,95,19],[113,2,113,5],[113,9,113,12],[113,16,113,19],[97,0,97,3],[97,7,97,10],[97,14,97,17],[102,0,103,5],[102,7,103,12],[102,14,103,19],[105,0,106,5],[105,7,106,12],[105,14,106,19],[99,0,99,3],[99,7,99,10],[182,2,182,5],[182,9,182,12],[182,16,182,19],[166,0,166,3],[166,7,166,10],[166,14,166,17],[140,0,140,19],[141,0,141,5],[141,7,141,12],[141,14,141,19],[159,2,159,5],[159,9,159,12],[159,16,159,19],[143,0,143,3],[143,7,143,10],[143,14,143,17],[148,0,149,5],[148,7,149,12],[148,14,149,19],[151,0,152,5],[151,7,152,12],[151,14,152,19],[145,0,145,3],[145,7,145,10],[228,2,228,5],[228,9,228,12],[228,16,228,19],[212,0,212,3],[212,7,212,10],[212,14,212,17],[186,0,186,19],[187,0,187,5],[187,7,187,12],[187,14,187,19],[205,2,205,5],[205,9,205,12],[205,16,205,19],[189,0,189,3],[189,7,189,10],[189,14,189,17],[194,0,195,5],[194,7,195,12],[194,14,195,19],[197,0,198,5],[197,7,198,12],[197,14,198,19],[191,0,191,3],[191,7,191,10],[6,14,6,17],[8,0,8,5],[8,7,8,12],[8,14,8,19],[29,0,29,3],[29,7,29,10],[29,14,29,17],[31,0,31,5],[31,7,31,12],[31,14,31,19],[15,0,16,5],[15,7,16,12],[15,14,16,19],[18,0,19,5],[18,7,19,12],[18,14,19,19],[24,0,24,19],[25,0,25,5],[25,7,25,12],[25,14,25,19],[38,0,39,5],[38,7,39,12],[38,14,39,19],[41,0,42,5],[41,7,42,12],[41,14,42,19],[32,0,33,5],[32,7,33,12],[32,14,33,19],[35,0,36,5],[35,7,36,12],[35,14,36,19],[50,7,50,10],[50,14,50,17],[52,0,52,3],[52,7,52,10],[76,0,76,3],[76,7,76,10],[76,14,76,17],[78,0,78,5],[78,7,78,12],[78,14,78,19],[61,0,62,5],[61,7,62,12],[61,14,62,19],[64,0,65,5],[64,7,65,12],[64,14,65,19],[71,0,71,19],[72,0,72,5],[72,7,72,12],[72,14,72,19],[85,0,86,5],[85,7,86,12],[85,14,86,19],[88,0,89,5],[88,7,89,12],[88,14,89,19],[79,0,80,5],[79,7,80,12],[79,14,80,19],[82,0,83,5],[82,7,83,12],[82,14,83,19],[99,14,99,17],[101,0,101,5],[101,7,101,12],[101,14,101,19],[122,0,122,3],[122,7,122,10],[122,14,122,17],[124,0,124,5],[124,7,124,12],[124,14,124,19],[108,0,109,5],[108,7,109,12],[108,14,109,19],[111,0,112,5],[111,7,112,12],[111,14,112,19],[117,0,117,19],[118,0,118,5],[118,7,118,12],[118,14,118,19],[131,0,132,5],[131,7,132,12],[131,14,132,19],[134,0,135,5],[134,7,135,12],[134,14,135,19],[125,0,126,5],[125,7,126,12],[125,14,126,19],[128,0,129,5],[128,7,129,12],[128,14,129,19],[145,14,145,17],[147,0,147,5],[147,7,147,12],[147,14,147,19],[168,0,168,3],[168,7,168,10],[168,14,168,17],[170,0,170,5],[170,7,170,12],[170,14,170,19],[154,0,155,5],[154,7,155,12],[154,14,155,19],[157,0,158,5],[157,7,158,12],[157,14,158,19],[163,0,163,19],[164,0,164,5],[164,7,164,12],[164,14,164,19],[177,0,178,5],[177,7,178,12],[177,14,178,19],[180,0,181,5],[180,7,181,12],[180,14,181,19],[171,0,172,5],[171,7,172,12],[171,14,172,19],[174,0,175,5],[174,7,175,12],[174,14,175,19],[191,14,191,17],[193,0,193,5],[193,7,193,12],[193,14,193,19],[214,0,214,3],[214,7,214,10],[214,14,214,17],[216,0,216,5],[216,7,216,12],[216,14,216,19],[200,0,201,5],[200,7,201,12],[200,14,201,19],[203,0,204,5],[203,7,204,12],[203,14,204,19],[209,0,209,19],[210,0,210,5],[210,7,210,12],[210,14,210,19],[223,0,224,5],[223,7,224,12],[223,14,224,19],[226,0,227,5],[226,7,227,12],[226,14,227,19],[217,0,218,5],[217,7,218,12],[217,14,218,19],[220,0,221,5],[220,7,221,12],[220,14,221,19]]}
[{"$f":"\"Team \"&VLOOKUP($E23,Roster!$A$2:$AF$33,2)&\"  \"&_xlfn.IFNA(VLOOKUP($E23,Roster!$A$2:$AF$33,3,0),0)","v":"Team 1  "}]
[11,1,null,null,null,null,null,12,null,null,null,null,null,null,13]
[{"$f":"_xlfn.IFNA(VLOOKUP($E23,Roster!$A$2:$AF$33,8,0),0)&IF(F23=\"\",\"\",\" / \"&VLOOKUP($F23,Roster!$A$2:$AF$33,8,0))","v":"David Burke"},null,null,null,null,null,null,{"$f":"_xlfn.IFNA(VLOOKUP(L23,Roster!$A$2:$AF$33,8,0),0)&IF($M23=\"\",\"\",\" / \"&VLOOKUP($M23,Roster!$A$2:$AF$33,8,0))","v":"Rich Matich"},null,null,null,null,null,null,{"$f":"_xlfn.IFNA(VLOOKUP($S23,Roster!$A$2:$AF$33,8,0),0)&IF(T23=\"\",\"\",\" / \"&VLOOKUP($T23,Roster!$A$2:$AF$33,8,0))","v":"Cal Shirey"}]
[null,null,null,null,"Yes","No",null,null,null,null,null,"Yes","No",null,null,null,null,null,"Yes","No"]
["Returning next season?",null,null,null,null,null,null,"Returning next season?",null,null,null,null,null,null,"Returning next season?"]
[null,null,null,null,"Yes","No",null,null,null,null,null,"Yes","No",null,null,null,null,null,"Yes","No"]
["Same Team?",null,null,null,null,null,null,"Same Team?",null,null,null,null,null,null,"Same Team?"]
[]
["OtherInformation",null,null,null,null,null,null,"OtherInformation",null,null,null,null,null,null,"OtherInformation"]
[]
[]
[]
[]
[]
[]
[]
[]
[]
[]
[]
["USBC",24,"Paid This League",null,null,null,null,"USBC",null,"Paid Online",null,null,null,null,"USBC",24,"Paid This League"]
["Fees",{"$f":"$AF$5*B23","v":0},"Total",{"$f":"B22+B21","v":24},"Balance",{"$f":"D22-F20","v":24},null,"Fees",{"$f":"$AF$5*I23","v":0},"Total",{"$f":"I22+I21","v":0},"Balance",{"$f":"K22-M20","v":0},null,"Fees",{"$f":"$AF$5*P23","v":0},"Total",{"$f":"P22+P21","v":24},"Balance",{"$f":"R22-T20","v":24}]
["Wks",{"$f":"$AF$6","v":0},null,"ID",11,null,null,"Wks",{"$f":"$AF$6","v":0},null,"ID",12,null,null,"Wks",{"$f":"$AF$6","v":0},null,"ID",13]
[]
[{"$f":"\"Team \"&VLOOKUP($E46,Roster!$A$2:$AF$33,2)&\"  \"&_xlfn.IFNA(VLOOKUP($E46,Roster!$A$2:$AF$33,3,0),0)","v":"Team 2  Rascals"}]
[{"$f":"_xlfn.IFNA(VLOOKUP($E46,Roster!$A$2:$AF$33,8,0),0)&IF(F46=\"\",\"\",\" / \"&VLOOKUP($F46,Roster!$A$2:$AF$33,8,0))","v":"Marty Bell"},null,null,null,null,null,null,{"$f":"_xlfn.IFNA(VLOOKUP(L46,Roster!$A$2:$AF$33,8,0),0)&IF($M46=\"\",\"\",\" / \"&VLOOKUP($M46,Roster!$A$2:$AF$33,8,0))","v":"Alex Balok"},null,null,null,null,null,null,{"$f":"_xlfn.IFNA(VLOOKUP($S46,Roster!$A$2:$AF$33,8,0),0)&IF(T46=\"\",\"\",\" / \"&VLOOKUP($T46,Roster!$A$2:$AF$33,8,0))","v":"Johnny Gonzales"}]
[null,null,null,null,"Yes","No",null,null,null,null,null,"Yes","No",null,null,null,null,null,"Yes","No"]
["Returning next season?",null,null,null,null,null,null,"Returning next season?",null,null,null,null,null,null,"Returning next season?"]
[null,null,null,null,"Yes","No",null,null,null,null,null,"Yes","No",null,null,null,null,null,"Yes","No"]
["Same Team?",null,null,null,null,null,null,"Same Team?",null,null,null,null,null,null,"Same Team?"]
[]
["OtherInformation",null,null,null,null,null,null,"OtherInformation",null,null,null,null,null,null,"OtherInformation"]
[]
[]
[]
[]
[]
[]
[]
[]
[]
[]
[]
["USBC",null,"Paid Online",null,null,null,null,"USBC",null,"Paid Online",null,null,null,null,"USBC",null,"Sun City Sratch Classic"]
["Fees",{"$f":"$AF$5*B46","v":0},"Total",{"$f":"B45+B44","v":0},"Balance",{"$f":"D45-F43","v":0},null,"Fees",{"$f":"$AF$5*I46","v":0},"Total",{"$f":"I45+I44","v":0},"Balance",{"$f":"K45-M43","v":0},null,"Fees",{"$f":"$AF$5*P46","v":0},"Total",{"$f":"P45+P44","v":0},"Balance",{"$f":"R45-T43","v":0}]
["Wks",{"$f":"$AF$6","v":0},null,"ID",21,null,null,"Wks",{"$f":"$AF$6","v":0},null,"ID",22,null,null,"Wks",{"$f":"$AF$6","v":0},null,"ID",23]
[31,3,null,null,null,null,null,32,null,null,null,null,null,null,33]
[{"$f":"\"Team \"&VLOOKUP($E69,Roster!$A$2:$AF$33,2)&\"  \"&_xlfn.IFNA(VLOOKUP($E69,Roster!$A$2:$AF$33,3,0),0)","v":"Team 3  "}]
[{"$f":"_xlfn.IFNA(VLOOKUP($E69,Roster!$A$2:$AF$33,8,0),0)&IF(F69=\"\",\"\",\" / \"&VLOOKUP($F69,Roster!$A$2:$AF$33,8,0))","v":"Jeff Richard"},null,null,null,null,null,null,{"$f":"_xlfn.IFNA(VLOOKUP(L69,Roster!$A$2:$AF$33,8,0),0)&IF($M69=\"\",\"\",\" / \"&VLOOKUP($M69,Roster!$A$2:$AF$33,8,0))","v":"Jerry Elsen"},null,null,null,null,null,null,{"$f":"_xlfn.IFNA(VLOOKUP($S69,Roster!$A$2:$AF$33,8,0),0)&IF(T69=\"\",\"\",\" / \"&VLOOKUP($T69,Roster!$A$2:$AF$33,8,0))","v":"Bill Poff"}]
[null,null,null,null,"Yes","No",null,null,null,null,null,"Yes","No",null,null,null,null,null,"Yes","No"]
["Returning next season?",null,null,null,null,null,null,"Returning next season?",null,null,null,null,null,null,"Returning next season?"]
[null,null,null,null,"Yes","No",null,null,null,null,null,"Yes","No",null,null,null,null,null,"Yes","No"]
["Same Team?",null,null,null,null,null,null,"Same Team?",null,null,null,null,null,null,"Same Team?"]
[]
["OtherInformation",null,null,null,null,null,null,"OtherInformation",null,null,null,null,null,null,"OtherInformation"]
[]
[]
[]
[]
[]
[]
[]
[]
[]
[]
[]
["USBC",null,"Paid in Peterson",null,null,null,null,"USBC",24,"Paid This League",null,null,null,null,"USBC",24,"Paid This League"]
["Fees",{"$f":"$AF$5*B69","v":0},"Total",{"$f":"B68+B67","v":0},"Balance",{"$f":"D68-F66","v":0},null,"Fees",{"$f":"$AF$5*I69","v":0},"Total",{"$f":"I68+I67","v":24},"Balance",{"$f":"K68-M66","v":24},null,"Fees",{"$f":"$AF$5*P69","v":0},"Total",{"$f":"P68+P67","v":24},"Balance",{"$f":"R68-T66","v":24}]
["Wks",{"$f":"$AF$6","v":0},{"$f":"$AF$5*B69","v":0},"ID",31,null,null,"Wks",{"$f":"$AF$6","v":0},{"$f":"$AF$5*I69","v":0},"ID",32,null,null,"Wks",{"$f":"$AF$6","v":0},{"$f":"$AF$5*P69","v":0},"ID",33]
[]
[41,4,null,null,null,null,null,42,null,null,null,null,null,null,43]
[{"$f":"\"Team \"&VLOOKUP($E93,Roster!$A$2:$AF$33,2)&\"  \"&_xlfn.IFNA(VLOOKUP($E93,Roster!$A$2:$AF$33,3,0),0)","v":"Team 4  Pro-Tech"}]
[{"$f":"_xlfn.IFNA(VLOOKUP(E93,Roster!$A$2:$AF$33,8,0),0)&IF(F93=\"\",\"\",\" / \"&VLOOKUP(F93,Roster!$A$2:$AF$33,8,0))","v":"Dave Schmitz"},null,null,null,null,null,null,{"$f":"_xlfn.IFNA(VLOOKUP(L93,Roster!$A$2:$AF$33,8,0),0)&IF(M93=\"\",\"\",\" / \"&VLOOKUP(M93,Roster!$A$2:$AF$33,8,0))","v":"John Babbitt"},null,null,null,null,null,null,{"$f":"_xlfn.IFNA(VLOOKUP(S93,Roster!$A$2:$AF$33,8,0),0)&IF(T93=\"\",\"\",\" / \"&VLOOKUP(T93,Roster!$A$2:$AF$33,8,0))","v":"Larry Tolar"}]
[null,null,null,null,"Yes","No",null,null,null,null,null,"Yes","No",null,null,null,null,null,"Yes","No"]
["Returning next season?",null,null,null,null,null,null,"Returning next season?",null,null,null,null,null,null,"Returning next season?"]
[null,null,null,null,"Yes","No",null,null,null,null,null,"Yes","No",null,null,null,null,null,"Yes","No"]
["Same Team?",null,null,null,null,null,null,"Same Team?",null,null,null,null,null,null,"Same Team?"]
[]
["OtherInformation",null,null,null,null,null,null,"OtherInformation",null,null,null,null,null,null,"OtherInformation"]
[]
[]
[]
[]
[]
[]
[]
[]
[]
[]
[]
["USBC",24,"Paid This League",null,null,null,null,"USBC",null,"Paid Pony League",null,null,null,null,"USBC",24,"Paid This League"]
["Fees",{"$f":"$AF$5*B93","v":0},"Total",{"$f":"B92+B91","v":24},"Balance",{"$f":"D92-F90","v":24},null,"Fees",{"$f":"$AF$5*I93","v":0},"Total",{"$f":"I92+I91","v":0},"Balance",{"$f":"K92-M90","v":0},null,"Fees",{"$f":"$AF$5*P93","v":0},"Total",{"$f":"P92+P91","v":24},"Balance",{"$f":"R92-T90","v":24}]
["Wks",{"$f":"$AF$6","v":0},{"$f":"$AF$5*B93","v":0},"ID",41,null,null,"Wks",{"$f":"$AF$6","v":0},{"$f":"$AF$5*I93","v":0},"ID",42,null,null,"Wks",{"$f":"$AF$6","v":0},{"$f":"$AF$5*P93","v":0},"ID",43]
[51,5,null,null,null,null,null,52,null,null,null,null,null,null,53]
[{"$f":"\"Team \"&VLOOKUP($E116,Roster!$A$2:$AF$33,2)&\"  \"&_xlfn.IFNA(VLOOKUP($E116,Roster!$A$2:$AF$33,3,0),0)","v":"Team 5  "}]
[{"$f":"_xlfn.IFNA(VLOOKUP(E116,Roster!$A$2:$AF$33,8,0),0)&IF(F116=\"\",\"\",\" / \"&VLOOKUP(F116,Roster!$A$2:$AF$33,8,0))","v":"Dana Barrette"},null,null,null,null,null,null,{"$f":"_xlfn.IFNA(VLOOKUP(L116,Roster!$A$2:$AF$33,8,0),0)&IF(M116=\"\",\"\",\" / \"&VLOOKUP(M116,Roster!$A$2:$AF$33,8,0))","v":"Larry Latham"},null,null,null,null,null,null,{"$f":"_xlfn.IFNA(VLOOKUP(S116,Roster!$A$2:$AF$33,8,0),0)&IF(T116=\"\",\"\",\" / \"&VLOOKUP(T116,Roster!$A$2:$AF$33,8,0))","v":"Bob Reed"}]
[null,null,null,null,"Yes","No",null,null,null,null,null,"Yes","No",null,null,null,null,null,"Yes","No"]
["Returning next season?",null,null,null,null,null,null,"Returning next season?",null,null,null,null,null,null,"Returning next season?"]
[null,null,null,null,"Yes","No",null,null,null,null,null,"Yes","No",null,null,null,null,null,"Yes","No"]
["Same Team?",null,null,null,null,null,null,"Same Team?",null,null,null,null,null,null,"Same Team?"]
[]
["OtherInformation",null,null,null,null,null,null,"OtherInformation",null,null,null,null,null,null,"OtherInformation"]
[]
[]
[]
[]
[]
[]
[]
[]
[]
[]
[]
["USBC",24,"Paid This League",null,null,null,null,"USBC",24,"Paid This League",null,null,null,null,"USBC",null,"Paid Online"]
["Fees",{"$f":"$AF$5*B116","v":0},"Total",{"$f":"B115+B114","v":24},"Balance",{"$f":"D115-F113","v":24},null,"Fees",{"$f":"$AF$5*I116","v":0},"Total",{"$f":"I115+I114","v":24},"Balance",{"$f":"K115-M113","v":24},null,"Fees",{"$f":"$AF$5*P116","v":0},"Total",{"$f":"P115+P114","v":0},"Balance",{"$f":"R115-T113","v":0}]
["Wks",{"$f":"$AF$6","v":0},{"$f":"$AF$5*B116","v":0},"ID",51,null,null,"Wks",{"$f":"$AF$6","v":0},{"$f":"$AF$5*I116","v":0},"ID",52,null,null,"Wks",{"$f":"$AF$6","v":0},{"$f":"$AF$5*P116","v":0},"ID",53]
[61,6,null,null,null,null,null,62,null,null,null,null,null,null,63]
[{"$f":"\"Team \"&VLOOKUP($E139,Roster!$A$2:$AF$33,2)&\"  \"&_xlfn.IFNA(VLOOKUP($E139,Roster!$A$2:$AF$33,3,0),0)","v":"Team 6  0"}]
[{"$f":"_xlfn.IFNA(VLOOKUP(E139,Roster!$A$2:$AF$33,8,0),0)&IF(F139=\"\",\"\",\" / \"&VLOOKUP(F139,Roster!$A$2:$AF$33,8,0))","v":{"$error":"#N/A"}},null,null,null,null,null,null,{"$f":"_xlfn.IFNA(VLOOKUP(L139,Roster!$A$2:$AF$33,8,0),0)&IF(M139=\"\",\"\",\" / \"&VLOOKUP(M139,Roster!$A$2:$AF$33,8,0))","v":"Mike Watt"},null,null,null,null,null,null,{"$f":"_xlfn.IFNA(VLOOKUP(S139,Roster!$A$2:$AF$33,8,0),0)&IF(T139=\"\",\"\",\" / \"&VLOOKUP(T139,Roster!$A$2:$AF$33,8,0))","v":"0"}]
[null,null,null,null,"Yes","No",null,null,null,null,null,"Yes","No",null,null,null,null,null,"Yes","No"]
["Returning next season?",null,null,null,null,null,null,"Returning next season?",null,null,null,null,null,null,"Returning next season?"]
[null,null,null,null,"Yes","No",null,null,null,null,null,"Yes","No",null,null,null,null,null,"Yes","No"]
["Same Team?",null,null,null,null,null,null,"Same Team?",null,null,null,null,null,null,"Same Team?"]
[]
["OtherInformation",null,null,null,null,null,null,"OtherInformation",null,null,null,null,null,null,"OtherInformation"]
[]
[]
[]
[]
[]
[]
[]
[]
[]
[]
[]
["USBC",null,"KP LSt, BP Classic, JC Classic",null,null,null,null,"USBC",null,"Paid This Thurs Night Classic",null,null,null,null,"USBC",null,"Paid Late Starters"]
["Fees",{"$f":"$AF$5*B139","v":0},"Total",{"$f":"B138+B137","v":0},"Balance",{"$f":"D138-F136","v":0},null,"Fees",{"$f":"$AF$5*I139","v":0},"Total",{"$f":"I138+I137","v":0},"Balance",{"$f":"K138-M136","v":0},null,"Fees",{"$f":"$AF$5*P139","v":0},"Total",{"$f":"P138+P137","v":0},"Balance",{"$f":"R138-T136","v":0}]
["Wks",{"$f":"$AF$6","v":0},{"$f":"$AF$5*B139","v":0},"ID",64,65,null,"Wks",{"$f":"$AF$6","v":0},{"$f":"$AF$5*I139","v":0},"ID",62,null,null,"Wks",{"$f":"$AF$6","v":0},{"$f":"$AF$5*P139","v":0},"ID",63]
[71,7,null,null,null,null,null,72,null,null,null,null,null,null,73]
[{"$f":"\"Team \"&VLOOKUP($E162,Roster!$A$2:$AF$33,2)&\"  \"&_xlfn.IFNA(VLOOKUP($E162,Roster!$A$2:$AF$33,3,0),0)","v":"Team 7  Bitburgers"}]
[{"$f":"_xlfn.IFNA(VLOOKUP(E162,Roster!$A$2:$AF$33,8,0),0)&IF(F162=\"\",\"\",\" / \"&VLOOKUP(F162,Roster!$A$2:$AF$33,8,0))","v":"Paul Kleckner"},null,null,null,null,null,null,{"$f":"_xlfn.IFNA(VLOOKUP(L162,Roster!$A$2:$AF$33,8,0),0)&IF(M162=\"\",\"\",\" / \"&VLOOKUP(M162,Roster!$A$2:$AF$33,8,0))","v":"Bob Edge"},null,null,null,null,null,null,{"$f":"_xlfn.IFNA(VLOOKUP(S162,Roster!$A$2:$AF$33,8,0),0)&IF(T162=\"\",\"\",\" / \"&VLOOKUP(T162,Roster!$A$2:$AF$33,8,0))","v":"Terry Camp"}]
[null,null,null,null,"Yes","No",null,null,null,null,null,"Yes","No",null,null,null,null,null,"Yes","No"]
["Returning next season?",null,null,null,null,null,null,"Returning next season?",null,null,null,null,null,null,"Returning next season?"]
[null,null,null,null,"Yes","No",null,null,null,null,null,"Yes","No",null,null,null,null,null,"Yes","No"]
["Same Team?",null,null,null,null,null,null,"Same Team?",null,null,null,null,null,null,"Same Team?"]
[]
["OtherInformation",null,null,null,null,null,null,"OtherInformation",null,null,null,null,null,null,"OtherInformation"]
[]
[]
[]
[]
[]
[]
[]
[]
[]
[]
[]
["USBC",24,"Paid This League",null,null,null,null,"USBC",24,"Paid This League",null,null,null,null,"USBC",24,"Paid This League"]
["Fees",{"$f":"$AF$5*B162","v":0},"Total",{"$f":"B161+B160","v":24},"Balance",{"$f":"D161-F159","v":24},null,"Fees",{"$f":"$AF$5*I162","v":0},"Total",{"$f":"I161+I160","v":24},"Balance",{"$f":"K161-M159","v":24},null,"Fees",{"$f":"$AF$5*P162","v":0},"Total",{"$f":"P161+P160","v":24},"Balance",{"$f":"R161-T159","v":24}]
["Wks",{"$f":"$AF$6","v":0},{"$f":"$AF$5*B162","v":0},"ID",71,null,null,"Wks",{"$f":"$AF$6","v":0},{"$f":"$AF$5*I162","v":0},"ID",72,null,null,"Wks",{"$f":"$AF$6","v":0},{"$f":"$AF$5*P162","v":0},"ID",73]
[81,8,null,null,null,null,null,82,null,null,null,null,null,null,83]
[{"$f":"\"Team \"&VLOOKUP($E185,Roster!$A$2:$AF$33,2)&\"  \"&_xlfn.IFNA(VLOOKUP($E185,Roster!$A$2:$AF$33,3,0),0)","v":"Team 8  Brenda's Kitchen"}]
[{"$f":"_xlfn.IFNA(VLOOKUP(E185,Roster!$A$2:$AF$33,8,0),0)&IF(F185=\"\",\"\",\" / \"&VLOOKUP(F185,Roster!$A$2:$AF$33,8,0))","v":"Dan Imholte"},null,null,null,null,null,null,{"$f":"_xlfn.IFNA(VLOOKUP(L185,Roster!$A$2:$AF$33,8,0),0)&IF(M185=\"\",\"\",\" / \"&VLOOKUP(M185,Roster!$A$2:$AF$33,8,0))","v":"Terry Hamman"},null,null,null,null,null,null,{"$f":"_xlfn.IFNA(VLOOKUP(S185,Roster!$A$2:$AF$33,8,0),0)&IF(T185=\"\",\"\",\" / \"&VLOOKUP(T185,Roster!$A$2:$AF$33,8,0))","v":"Gary Bentley"}]
[null,null,null,null,"Yes","No",null,null,null,null,null,"Yes","No",null,null,null,null,null,"Yes","No"]
["Returning next season?",null,null,null,null,null,null,"Returning next season?",null,null,null,null,null,null,"Returning next season?"]
[null,null,null,null,"Yes","No",null,null,null,null,null,"Yes","No",null,null,null,null,null,"Yes","No"]
["Same Team?",null,null,null,null,null,null,"Same Team?",null,null,null,null,null,null,"Same Team?"]
[]
["OtherInformation",null,null,null,null,null,null,"OtherInformation",null,null,null,null,null,null,"OtherInformation"]
[]
[]
[]
[]
[]
[]
[]
[]
[]
[]
[]
["USBC",24,"Paid This League",null,null,null,null,"USBC",24,"Paid This League",null,null,null,null,"USBC",24,"Paid This League"]
["Fees",{"$f":"$AF$5*B185","v":0},"Total",{"$f":"B184+B183","v":24},"Balance",{"$f":"D184-F182","v":24},null,"Fees",{"$f":"$AF$5*I185","v":0},"Total",{"$f":"I184+I183","v":24},"Balance",{"$f":"K184-M182","v":24},null,"Fees",{"$f":"$AF$5*P185","v":0},"Total",{"$f":"P184+P183","v":24},"Balance",{"$f":"R184-T182","v":24}]
["Wks",{"$f":"$AF$6","v":0},{"$f":"$AF$5*B185","v":0},"ID",81,null,null,"Wks",{"$f":"$AF$6","v":0},{"$f":"$AF$5*I185","v":0},"ID",82,null,null,"Wks",{"$f":"$AF$6","v":0},{"$f":"$AF$5*P185","v":0},"ID",83]
[91,9,null,null,null,null,null,92,null,null,null,null,null,null,93]
[{"$f":"\"Team \"&VLOOKUP($E208,Roster!$A$2:$AF$33,2)&\"  \"&_xlfn.IFNA(VLOOKUP($E208,Roster!$A$2:$AF$33,3,0),0)","v":"Team 9  "}]
[{"$f":"_xlfn.IFNA(VLOOKUP(E208,Roster!$A$2:$AF$33,8,0),0)&IF(F208=\"\",\"\",\" / \"&VLOOKUP(F208,Roster!$A$2:$AF$33,8,0))","v":"Joe Couch"},null,null,null,null,null,null,{"$f":"_xlfn.IFNA(VLOOKUP(L208,Roster!$A$2:$AF$33,8,0),0)&IF(M208=\"\",\"\",\" / \"&VLOOKUP(M208,Roster!$A$2:$AF$33,8,0))","v":"Paul Williams"},null,null,null,null,null,null,{"$f":"_xlfn.IFNA(VLOOKUP(S208,Roster!$A$2:$AF$33,8,0),0)&IF(T208=\"\",\"\",\" / \"&VLOOKUP(T208,Roster!$A$2:$AF$33,8,0))","v":"Ted Bogumil"}]
[null,null,null,null,"Yes","No",null,null,null,null,null,"Yes","No",null,null,null,null,null,"Yes","No"]
["Returning next season?",null,null,null,null,null,null,"Returning next season?",null,null,null,null,null,null,"Returning next season?"]
[null,null,null,null,"Yes","No",null,null,null,null,null,"Yes","No",null,null,null,null,null,"Yes","No"]
["Same Team?",null,null,null,null,null,null,"Same Team?",null,null,null,null,null,null,"Same Team?"]
[]
["OtherInformation",null,null,null,null,null,null,"OtherInformation",null,null,null,null,null,null,"OtherInformation"]
[]
[]
[]
[]
[]
[]
[]
[]
[]
[]
[]
["USBC",24,"Paid This League",null,null,null,null,"USBC",null,"Paid Drop Outs",null,null,null,null,"USBC",24,"Paid This League"]
["Fees",{"$f":"$AF$5*B208","v":0},"Total",{"$f":"B207+B206","v":24},"Balance",{"$f":"D207-F205","v":24},null,"Fees",{"$f":"$AF$5*I208","v":0},"Total",{"$f":"I207+I206","v":0},"Balance",{"$f":"K207-M205","v":0},null,"Fees",{"$f":"$AF$5*P208","v":0},"Total",{"$f":"P207+P206","v":24},"Balance",{"$f":"R207-T205","v":24}]
["Wks",{"$f":"$AF$6","v":0},{"$f":"$AF$5*B208","v":0},"ID",91,null,null,"Wks",{"$f":"$AF$6","v":0},{"$f":"$AF$5*I208","v":0},"ID",92,null,null,"Wks",{"$f":"$AF$6","v":0},{"$f":"$AF$5*P208","v":0},"ID",93]
[101,10,null,null,null,null,null,102,null,null,null,null,null,null,103]
[{"$f":"\"Team \"&VLOOKUP($E231,Roster!$A$2:$AF$33,2)&\"  \"&_xlfn.IFNA(VLOOKUP($E231,Roster!$A$2:$AF$33,3,0),0)","v":"Team 10  Vital Care"}]
[{"$f":"_xlfn.IFNA(VLOOKUP(E231,Roster!$A$2:$AF$33,8,0),0)&IF(F231=\"\",\"\",\" / \"&VLOOKUP(F231,Roster!$A$2:$AF$33,8,0))","v":"Andy Lewis"},null,null,null,null,null,null,{"$f":"_xlfn.IFNA(VLOOKUP(L231,Roster!$A$2:$AF$33,8,0),0)&IF(M231=\"\",\"\",\" / \"&VLOOKUP(M231,Roster!$A$2:$AF$33,8,0))","v":"Dennis Barnes"},null,null,null,null,null,null,{"$f":"_xlfn.IFNA(VLOOKUP(S231,Roster!$A$2:$AF$33,8,0),0)&IF(T231=\"\",\"\",\" / \"&VLOOKUP(T231,Roster!$A$2:$AF$33,8,0))","v":"Gary McCoy"}]
[null,null,null,null,"Yes","No",null,null,null,null,null,"Yes","No",null,null,null,null,null,"Yes","No"]
["Returning next season?",null,null,null,null,null,null,"Returning next season?",null,null,null,null,null,null,"Returning next season?"]
[null,null,null,null,"Yes","No",null,null,null,null,null,"Yes","No",null,null,null,null,null,"Yes","No"]
["Same Team?",null,null,null,null,null,null,"Same Team?",null,null,null,null,null,null,"Same Team?"]
[]
["OtherInformation",null,null,null,null,null,null,"OtherInformation",null,null,null,null,null,null,"OtherInformation"]
[]
[]
[]
[]
[]
[]
[]
[]
[]
[]
[]
["USBC",24,"Paid This League",null,null,null,null,"USBC",null,"Paid Peterson",null,null,null,null,"USBC",null,"Paid Peterson"]
["Fees",{"$f":"$AF$5*B231","v":0},"Total",{"$f":"B230+B229","v":24},"Balance",{"$f":"D230-F228","v":24},null,"Fees",{"$f":"$AF$5*I231","v":0},"Total",{"$f":"I230+I229","v":0},"Balance",{"$f":"K230-M228","v":0},null,"Fees",{"$f":"$AF$5*P231","v":0},"Total",{"$f":"P230+P229","v":0},"Balance",{"$f":"R230-T228","v":0}]
["Wks",{"$f":"$AF$6","v":0},{"$f":"$AF$5*B231","v":0},"ID",101,null,null,"Wks",{"$f":"$AF$6","v":0},{"$f":"$AF$5*I231","v":0},"ID",102,null,null,"Wks",{"$f":"$AF$6","v":0},{"$f":"$AF$5*P231","v":0},"ID",103]

{"sheet":"Est. $$$","index":3,"n_rows":20,"n_cols":10,"rows_kept":20,"cut":false,"hidden":false,"merged":[[19,1,19,5],[0,0,0,6],[1,0,1,6],[2,0,2,6],[3,0,3,6],[4,0,4,6],[17,2,17,5],[9,2,9,5]]}
["Classic Bowling League"]
["2017 - 2018 Estimated Prize Awards"]
["As of 29 August, 2017"]
[]
[]
["Income",null,"Bowlers","Weeks","Fee"]
[null,"Bank Balance as of 8/29/17",null,null,null,null,51.31]
[null,"Estimated League Fees",30,31,17,null,{"$f":"C8*D8*E8","v":15810}]
[null,"Estimated USBC Dues",20,null,21,null,{"$f":"C9*E9","v":420}]
[null,null,"Total Estimated Income",null,null,null,{"$f":"SUM(G7:G9)","v":16281.31}]
["Expenses"]
[null,"Lineage Fees - Reg. Weeks",30,30,8.4,null,{"$f":"C12*D12*E12","v":7560}]
[null,"Lineage Fees - Fun Night & Roll Off",30,1,4,null,{"$f":"C13*D13*E13","v":120},null,{"$f":"G12+G13","v":7680},"Ttl Lineage"]
[null,"Secretary Fee's",30,31,0.5,null,{"$f":"C14*D14*E14","v":465}]
[null,"USBC Dues Paid",{"$f":"C9","v":20},null,{"$f":"E9","v":21},null,{"$f":"C15*E15","v":420}]
[null,"Refunds",null,null,null,null,0]
[null,"Bank Fees",null,null,null,null,6]
[null,null,"Total Estimated Expenses",null,null,null,{"$f":"SUM(G12:G17)","v":8571}]
[]
[null,"Estimated League Prize Fund",null,null,null,null,{"$f":"G10-G18","v":7710.3099999999995}]

{"sheet":"Est Prize Fund","index":4,"n_rows":32,"n_cols":29,"rows_kept":32,"cut":false,"hidden":false,"merged":[[21,20,21,23],[21,15,21,18],[16,25,16,28],[26,15,26,18],[16,15,16,18],[16,20,16,23],[14,20,14,21],[14,25,14,26],[2,25,2,28],[2,20,2,23],[2,15,2,18],[0,0,0,5],[2,12,2,13],[1,0,1,5],[1,12,1,13],[14,15,14,16]]}
["Estimated Classic League Prize Fund 2017-2018"]
[null,null,null,null,null,null,null,null,null,null,null,null,"Team Awards"]
[null,"Prize Fund","Bowlers","Weeks",null,null,null,null,null,null,null,null,"Third Segments",null,null,"1st Segment Team Awards",null,null,null,null,"2nd Segment Team Awards",null,null,null,null,"3rd Segment Team Awards"]
["Estimated Available Funds",{"$f":"17-8.4-0.5","v":8.1},30,30,{"$f":"B4*C4*D4","v":7290},null,null,"Place",null,null,null,null,"Each Third","Each",null,"Place","#","Team","Each",null,"Place","#","Team","Each",null,"Place","#","Team","Each"]
["Est. Available Over Avg.",12.5,30,1,{"$f":"B5*C5*D5","v":375},null,null,1,null,null,null,null,{"$f":"N5*3","v":300},100,null,1,4,"Pro-Tech",{"$f":"$N5","v":100},null,1,4,"Pro-Tech",{"$f":"$N5","v":100},null,1,3,"Desert Sun Embroidery",{"$f":"$N5","v":100}]
["Total Est. Available Funds",null,null,null,null,{"$f":"E4+E5","v":7665},null,2,null,null,null,null,{"$f":"N6*3","v":270},90,null,2,7,"EKC",{"$f":"$N6","v":90},null,2,10,"Vital Care",{"$f":"$N6","v":90},null,2,9,"Team 9",{"$f":"$N6","v":90}]
[null,null,null,null,null,null,null,3,null,null,null,null,255,85,null,3,8,"Brenda's Kitchen",85,null,3,1,"Protech II",85,null,3,5,"Team 5",85]
["Individual Awards","1st","2nd","Sub Total",null,"Totals",null,4,null,null,null,null,240,80,null,4,5,"Team 5",80,null,4,5,"Team 5",80,null,4,10,"Vital Care",80]
["Bowler High Points ",50,20,{"$f":"B9+C9","v":70},null,null,null,5,null,null,null,null,225,75,null,5,6,"Your Strike Shop",75,null,5,6,"Your Strike Shop",75,null,5,7,"EKC",75]
["Bowler High Game",35,20,{"$f":"B10+C10","v":55},null,null,null,6,null,null,null,null,210,70,null,6,9,"Team 9",70,null,6,7,"EKC",70,null,6,1,"Pro-Tech",70]
["Bowler High Series",50,20,{"$f":"B11+C11","v":70},null,null,null,7,null,null,null,null,195,65,null,7,3,"Desert Sun Embroidery",65,null,7,8,"Brenda's Kitchen",65,null,7,2,"Rascals",65]
["Individual Totals",null,null,null,null,{"$f":"D11+D10+D9","v":195},null,8,null,null,null,null,180,60,null,8,10,"Vital Care",60,null,8,3,"Desert Sun Embroidery",60,null,8,4,"Pro-Tech",60]
[null,null,null,null,null,null,null,9,null,null,null,null,165,55,null,9,1,"Protech II",55,null,9,9,"Team 9",55,null,9,8,"Brenda's Kitchen",55]
["Team Awards","1st","2nd",null,null,null,null,10,null,null,null,null,150,50,null,10,2,"Rascals",50,null,10,2,"Rascals",50,null,10,6,"Your Strike Shop",50]
["Team High Game",60,30,null,{"$f":"B15+C15+D15","v":90},null,null,null,null,null,null,null,{"$f":"SUM(M5:M14)","v":2190},null,null,"Total",null,{"$f":"M15","v":2190},{"$f":"(SUM(S5:S14))*3","v":2190},null,"Total",null,{"$f":"R15","v":2190},{"$f":"(SUM(X5:X14))*3","v":2190},null,"Total",null,{"$f":"W15","v":2190},{"$f":"(SUM(AC5:AC14))*3","v":2190}]
["Each Bowler",{"$f":"B15/3","v":20},{"$f":"C15/3","v":10},{"$f":"D15/3","v":0}]
["Team High Series",60,30,null,{"$f":"B17+C17+D17","v":90},null,null,null,null,null,null,null,null,null,null,"Bowler High Game",null,null,null,null,"Team High Game",null,null,null,null,"League Championship"]
["Each Bowler",{"$f":"B17/3","v":20},{"$f":"C17/3","v":10},{"$f":"D17/3","v":0},null,null,null,null,null,null,null,null,null,null,null,"Place",null,"Bowler","Each",null,"Place",null,"Team","Each",null,"Place",null,"Team","Each"]
["Total Team Special Awards",null,null,null,null,{"$f":"E15+E17","v":180},null,null,null,null,null,null,null,null,null,1,300,"Elsen, Richard",14,null,1,787,"Protech II",{"$f":"90/2","v":45},null,1,null,null,{"$f":"B29","v":40}]
[null,null,null,null,null,null,null,null,null,null,null,null,null,null,null,1,300,"Babbitt, Barrette",14,null,1,787,"Team 5",{"$f":"90/2","v":45},null,2,null,null,{"$f":"C29","v":35}]
[null,"Prize Fund","Bowlers","Weeks",null,null,null,null,null,null,null,null,null,null,null,null,null,null,null,null,null,null,null,null,null,3,null,null,{"$f":"D29","v":25}]
["Over-Average Fun Night",{"$f":"17-4-0.5","v":12.5},30,1,null,{"$f":"B22*C22","v":375},null,null,null,null,null,null,null,null,null,"Bowler High Series",null,null,null,null,"Team High Series",null,null,null,null,4,null,null,{"$f":"E29","v":15}]
[null,null,null,null,null,null,null,null,null,null,null,null,null,null,null,"Place",null,"Bowler","Each",null,"Place",null,"Team","Each"]
["Team Segment Awards","1st","2nd","3rd",null,null,null,null,null,null,null,null,null,null,null,1,1047,"Pete Kleckner",{"$f":"B11","v":50},null,1,2842,"Pro-Tech",{"$f":"B18","v":20}]
["Team Awards",2190,2190,2190,null,{"$f":"B25+C25+D25","v":6570},null,null,null,null,null,null,null,null,null,2,1020,"Dennis Klein",{"$f":"C11","v":20},null,2,2803,"Team 5",{"$f":"C18","v":10}]
[]
["League Championship","1st","2nd","3rd","4th ",null,null,null,null,null,null,null,null,null,null,"Bowler High Points"]
["Team",{"$f":"B29*3","v":120},{"$f":"C29*3","v":105},{"$f":"D29*3","v":75},{"$f":"E29*3","v":45},{"$f":"B28+C28+D28+E28","v":345},null,null,null,null,null,null,null,null,null,"Place",null,"Bowler","Each"]
["Each Bowler",40,35,25,15,null,null,null,null,null,null,null,null,null,null,1,72,"Rich Matich",{"$f":"B9","v":50}]
[null,null,null,null,null,null,null,null,null,null,null,null,null,null,null,2,69,"Dave Schmitz",{"$f":"C9","v":20}]
["Grand Total",null,null,null,null,{"$f":"F12+F19+F22+F25+F28","v":7665}]
["Carried Over to Next Season",null,null,null,null,{"$f":"F6-F31","v":0}]

{"sheet":"Prize Fund","index":5,"n_rows":58,"n_cols":25,"rows_kept":58,"cut":false,"hidden":false,"merged":[[32,0,32,8],[1,0,1,8]]}
[null,null,null,null,null,null,null,null,null,null,1,2,3,4,5,6,7,8,9,10]
["2017 2018 CLASSIC PRIZE FUND - Option 1 Selected by Teams ",null,null,null,null,null,null,null,null,"Option 2 was preferred by team vote () on "]
[]
["SEGMENT STANDINGS",null,"THIRD STANDINGS"]
["PLACE","TEAM #","TEAM PAYOUT","EACH",null,"INDIVIDUAL AWARDS","1ST","2ND","EACH"]
[1,null,210,{"$f":"C6/3","v":70},null,"HIGH AVERAGE",60]
[2,null,180,60,null,"HIGH POINTS",60,30]
[3,null,165,55,null,"HIGH GAME",60,30]
[4,null,150,50,null,"HIGH SERIES",60,30]
[5,null,105,35,null,"TOTAL",null,{"$f":"SUM(G6:H9)","v":330}]
[6,null,90,30,null,"TEAM AWARDS"]
[7,null,75,25,null,"HIGH TEAM GAME",60,30,"20 / 10"]
[8,null,75,25,null,"HIGH TEAM SERIES",60,30,"20 / 10"]
[9,null,75,25,null,"TOTAL",null,{"$f":"SUM(G12:H13)","v":180}]
[10,null,75,25]
["TOTAL EACH THIRD",null,{"$f":"SUM(C6:C15)","v":1200},null,null,"LEAGUE CHAMPIONSHIP","1ST",120,{"$f":"H16/3","v":40}]
["TOTAL THIRDS $",null,{"$f":"C16*3","v":3600},null,null,null,"2ND",90,{"$f":"H17/3","v":30}]
[null,null,null,null,null,null,"3RD",60,{"$f":"H18/3","v":20}]
["Points / Week",125,null,null,null,null,"4TH",45,{"$f":"H19/3","v":15}]
["# Weeks",30,null,null,null,"TOTAL",null,{"$f":"SUM(H16:H19)","v":315}]
["Total Points",{"$f":"B19*B20","v":3750}]
["Point Money Per Point",{"$f":"0.8","v":0.8}]
["Total Point Money",3000]
[]
["TOTAL \"THIRD\" MONEY",{"$f":"C17","v":3600}]
["INDIVIDUAL AWARDS",{"$f":"H10","v":330}]
["TEAM AWARDS",{"$f":"H14","v":180}]
["LEAGUE CHAMPIONSHIP",{"$f":"H20","v":315}]
["EST PRIZE MONEY",{"$f":"'Est. $$$'!G20","v":7710.3099999999995}]
["TOTAL PRIZES PAID",{"$f":"H10+H14+H20+C17+B23","v":7425}]
["REMAINING $",{"$f":"B29-B30","v":285.30999999999949}]
[null,null,null,null,null,null,null,null,null,null,1,2,3,4,5,6,7,8,9,10]
["2016 2017 CLASSIC PRIZE FUND - Option 2 Selected by Teams ",null,null,null,null,null,null,null,null,"Option 2 was preferred by team vote () on "]
[]
["SEGMENT STANDINGS",null,"THIRD STANDINGS"]
["Place","Team No.","TEAM PAYOUT","EACH",null,"INDIVIDUAL AWARDS","1ST","2ND","EACH"]
[1,null,{"$f":"D37*3","v":300},100,null,"HIGH AVERAGE",50]
[2,null,{"$f":"D38*3","v":270},90,null,"HIGH POINTS",60,30,null,null,null,null,null,null,null,null,null,null,null,null,"Bank",9393.81]
[3,null,255,85,null,"HIGH GAME",50,30,null,null,null,null,null,null,null,null,null,null,null,null,"Lineage",{"$f":"3*247.5","v":742.5}]
[4,null,240,80,null,"HIGH SERIES",50,30,null,null,null,null,null,null,null,null,null,null,null,null,"OA Lineage",{"$f":"30*4","v":120}]
[5,null,225,75,null,"TOTAL",null,{"$f":"SUM(G37:H40)","v":300}]
[6,null,210,70,null,"TEAM AWARDS",null,null,null,null,null,null,null,null,null,null,null,null,null,null,"Available",{"$f":"V38-V39-V40","v":8531.31}]
[7,null,195,65,null,"HIGH TEAM GAME",60,30,"20 / 10",null,null,null,null,null,null,null,null,null,null,null,"Admin Fee",465]
[8,null,180,60,null,"HIGH TEAM SERIES",60,30,"20 / 10",null,null,null,null,null,null,null,null,null,null,null,"Over Avg Tournment",{"$f":"Sweeper!H36","v":0}]
[9,null,165,55,null,"TOTAL",null,{"$f":"SUM(G43:H44)","v":180},null,null,null,null,null,null,null,null,null,null,null,null,null,{"$f":"V42-V43-V44","v":8066.3099999999995}]
[10,null,150,50]
["TOTAL EACH THIRD","TOTAL EACH THIRD",{"$f":"SUM(C37:C46)","v":2190},null,null,"LEAGUE CHAMPIONSHIP","1ST",120,{"$f":"H47/3","v":40}]
["TOTAL THIRDS $","TOTAL THIRDS $",{"$f":"C47*3","v":6570},null,null,null,"2ND",105,{"$f":"H48/3","v":35}]
[null,null,null,null,null,null,"3RD",90,{"$f":"H49/3","v":30}]
[null,null,null,null,null,null,"4TH",60,{"$f":"H50/3","v":20}]
["TOTAL \"THIRD\" MONEY",{"$f":"C48","v":6570},{"$f":"C48","v":6570},null,null,"TOTAL",null,{"$f":"SUM(H47:H50)","v":375}]
["INDIVIDUAL AWARDS",{"$f":"H41","v":300},{"$f":"H41","v":300},null,null,null,null,null,null,null,null,null,null,null,null,null,null,null,null,null,"Weeks",31]
["TEAM AWARDS",{"$f":"H45","v":180},{"$f":"H45","v":180},null,null,null,null,null,null,null,null,null,null,null,null,null,null,null,null,null,"Bowlers",30]
["LEAGUE CHAMPIONSHIP",{"$f":"H51","v":375},{"$f":"H51","v":375},null,null,null,null,null,null,null,null,null,null,null,null,null,null,null,null,null,"League Fee",17,{"$f":"V54*V53*V52","v":15810},null,{"$f":"V54-V55-V56","v":8.25}]
["EST PRIZE MONEY",{"$f":"'Est. $$$'!G20","v":7710.3099999999995},{"$f":"SUM(C51:C54)","v":7425},null,null,null,null,null,null,null,null,null,null,null,null,null,null,null,null,null,"Lineage",8.25,{"$f":"V55*V53*V52","v":7672.5}]
["TOTAL PRIZES PAID",{"$f":"SUM(B50:B54)","v":7425},null,null,null,null,null,null,null,null,null,null,null,null,null,null,null,null,null,null,"Admin Fee",0.5,{"$f":"V53*V52*V56","v":465}]
["REMAINING $",{"$f":"B55-B56","v":285.30999999999949},null,null,null,null,null,null,null,null,null,null,null,null,null,null,null,null,null,null,"Over Avg Tournament",{"$f":"(V54-4)*V53","v":390},{"$f":"V57","v":390}]
[null,null,null,null,null,null,null,null,null,null,null,null,null,null,null,null,null,null,null,null,"Prize Fund",null,{"$f":"W54-W55-W56-W57","v":7282.5}]

{"sheet":"Prize Approvals","index":6,"n_rows":14,"n_cols":5,"rows_kept":14,"cut":false,"hidden":false,"merged":[[0,0,0,4],[13,0,13,4]]}
["Classic League 2017-2018 Prize Fund Approval"]
[null,null,"Option 1",null,"Option 2"]
[{"$f":"Financial!A1","v":"Team 1  "}]
[{"$f":"Financial!A25","v":"Team 2  Rascals"}]
[{"$f":"Financial!A48","v":"Team 3  "}]
[{"$f":"Financial!A72","v":"Team 4  Pro-Tech"}]
[{"$f":"Financial!A95","v":"Team 5  "}]
[{"$f":"Financial!A118","v":"Team 6  0"}]
[{"$f":"Financial!A141","v":"Team 7  Bitburgers"}]
[{"$f":"Financial!A164","v":"Team 8  Brenda's Kitchen"}]
[{"$f":"Financial!A187","v":"Team 9  "}]
[{"$f":"Financial!A210","v":"Team 10  Vital Care"}]
[]
["Thanks to the Prize Committee for their inputs"]

{"sheet":"Team Awards","index":7,"n_rows":16,"n_cols":15,"rows_kept":16,"cut":false,"hidden":false,"merged":[[2,0,2,14],[3,0,3,3],[3,5,3,8],[3,10,3,13]]}
[]
[]
["Classic League Segment Team Awards"]
["1st Segment",null,null,null,null,"2nd Segment",null,null,null,null,"3rd Segment"]
["Place","Team","Prize $","$each",null,"Place","Team","Prize $","$each",null,"Place","Team","Prize $","$ each","Place"]
[1,1,{"$f":"VLOOKUP($A6,'Prize Fund'!$A$37:$D$46,3)","v":300},{"$f":"VLOOKUP($A6,'Prize Fund'!$A$37:$D$46,4)","v":100},null,1,null,{"$f":"VLOOKUP($A6,'Prize Fund'!$A$37:$D$46,3)","v":300},{"$f":"VLOOKUP($A6,'Prize Fund'!$A$37:$D$46,4)","v":100},null,1,null,{"$f":"VLOOKUP($A6,'Prize Fund'!$A$37:$D$46,3)","v":300},{"$f":"VLOOKUP($A6,'Prize Fund'!$A$37:$D$46,4)","v":100},1]
[2,null,{"$f":"VLOOKUP($A7,'Prize Fund'!$A$37:$D$46,3)","v":270},{"$f":"VLOOKUP($A7,'Prize Fund'!$A$37:$D$46,4)","v":90},null,2,null,{"$f":"VLOOKUP($A7,'Prize Fund'!$A$37:$D$46,3)","v":270},{"$f":"VLOOKUP($A7,'Prize Fund'!$A$37:$D$46,4)","v":90},null,2,null,{"$f":"VLOOKUP($A7,'Prize Fund'!$A$37:$D$46,3)","v":270},{"$f":"VLOOKUP($A7,'Prize Fund'!$A$37:$D$46,4)","v":90},2]
[3,null,{"$f":"VLOOKUP($A8,'Prize Fund'!$A$37:$D$46,3)","v":255},{"$f":"VLOOKUP($A8,'Prize Fund'!$A$37:$D$46,4)","v":85},null,3,null,{"$f":"VLOOKUP($A8,'Prize Fund'!$A$37:$D$46,3)","v":255},{"$f":"VLOOKUP($A8,'Prize Fund'!$A$37:$D$46,4)","v":85},null,3,null,{"$f":"VLOOKUP($A8,'Prize Fund'!$A$37:$D$46,3)","v":255},{"$f":"VLOOKUP($A8,'Prize Fund'!$A$37:$D$46,4)","v":85},3]
[4,null,{"$f":"VLOOKUP($A9,'Prize Fund'!$A$37:$D$46,3)","v":240},{"$f":"VLOOKUP($A9,'Prize Fund'!$A$37:$D$46,4)","v":80},null,4,null,{"$f":"VLOOKUP($A9,'Prize Fund'!$A$37:$D$46,3)","v":240},{"$f":"VLOOKUP($A9,'Prize Fund'!$A$37:$D$46,4)","v":80},null,4,null,{"$f":"VLOOKUP($A9,'Prize Fund'!$A$37:$D$46,3)","v":240},{"$f":"VLOOKUP($A9,'Prize Fund'!$A$37:$D$46,4)","v":80},4]
[5,null,{"$f":"VLOOKUP($A10,'Prize Fund'!$A$37:$D$46,3)","v":225},{"$f":"VLOOKUP($A10,'Prize Fund'!$A$37:$D$46,4)","v":75},null,5,null,{"$f":"VLOOKUP($A10,'Prize Fund'!$A$37:$D$46,3)","v":225},{"$f":"VLOOKUP($A10,'Prize Fund'!$A$37:$D$46,4)","v":75},null,5,null,{"$f":"VLOOKUP($A10,'Prize Fund'!$A$37:$D$46,3)","v":225},{"$f":"VLOOKUP($A10,'Prize Fund'!$A$37:$D$46,4)","v":75},5]
[6,null,{"$f":"VLOOKUP($A11,'Prize Fund'!$A$37:$D$46,3)","v":210},{"$f":"VLOOKUP($A11,'Prize Fund'!$A$37:$D$46,4)","v":70},null,6,null,{"$f":"VLOOKUP($A11,'Prize Fund'!$A$37:$D$46,3)","v":210},{"$f":"VLOOKUP($A11,'Prize Fund'!$A$37:$D$46,4)","v":70},null,6,null,{"$f":"VLOOKUP($A11,'Prize Fund'!$A$37:$D$46,3)","v":210},{"$f":"VLOOKUP($A11,'Prize Fund'!$A$37:$D$46,4)","v":70},6]
[7,null,{"$f":"VLOOKUP($A12,'Prize Fund'!$A$37:$D$46,3)","v":195},{"$f":"VLOOKUP($A12,'Prize Fund'!$A$37:$D$46,4)","v":65},null,7,null,{"$f":"VLOOKUP($A12,'Prize Fund'!$A$37:$D$46,3)","v":195},{"$f":"VLOOKUP($A12,'Prize Fund'!$A$37:$D$46,4)","v":65},null,7,null,{"$f":"VLOOKUP($A12,'Prize Fund'!$A$37:$D$46,3)","v":195},{"$f":"VLOOKUP($A12,'Prize Fund'!$A$37:$D$46,4)","v":65},7]
[8,null,{"$f":"VLOOKUP($A13,'Prize Fund'!$A$37:$D$46,3)","v":180},{"$f":"VLOOKUP($A13,'Prize Fund'!$A$37:$D$46,4)","v":60},null,8,null,{"$f":"VLOOKUP($A13,'Prize Fund'!$A$37:$D$46,3)","v":180},{"$f":"VLOOKUP($A13,'Prize Fund'!$A$37:$D$46,4)","v":60},null,8,null,{"$f":"VLOOKUP($A13,'Prize Fund'!$A$37:$D$46,3)","v":180},{"$f":"VLOOKUP($A13,'Prize Fund'!$A$37:$D$46,4)","v":60},8]
[9,null,{"$f":"VLOOKUP($A14,'Prize Fund'!$A$37:$D$46,3)","v":165},{"$f":"VLOOKUP($A14,'Prize Fund'!$A$37:$D$46,4)","v":55},null,9,null,{"$f":"VLOOKUP($A14,'Prize Fund'!$A$37:$D$46,3)","v":165},{"$f":"VLOOKUP($A14,'Prize Fund'!$A$37:$D$46,4)","v":55},null,9,null,{"$f":"VLOOKUP($A14,'Prize Fund'!$A$37:$D$46,3)","v":165},{"$f":"VLOOKUP($A14,'Prize Fund'!$A$37:$D$46,4)","v":55},9]
[10,null,{"$f":"VLOOKUP($A15,'Prize Fund'!$A$37:$D$46,3)","v":150},{"$f":"VLOOKUP($A15,'Prize Fund'!$A$37:$D$46,4)","v":50},null,10,null,{"$f":"VLOOKUP($A15,'Prize Fund'!$A$37:$D$46,3)","v":150},{"$f":"VLOOKUP($A15,'Prize Fund'!$A$37:$D$46,4)","v":50},null,10,null,{"$f":"VLOOKUP($A15,'Prize Fund'!$A$37:$D$46,3)","v":150},{"$f":"VLOOKUP($A15,'Prize Fund'!$A$37:$D$46,4)","v":50},10]
[null,"Total",{"$f":"SUM(C6:C15)","v":2190},null,null,null,null,{"$f":"SUM(H6:H15)","v":2190},null,null,null,null,{"$f":"SUM(M6:M15)","v":2190}]

{"sheet":"Distribution 2017","index":8,"n_rows":1104,"n_cols":38,"rows_kept":1104,"cut":false,"hidden":false,"merged":[[692,19,692,23],[273,12,273,13],[274,12,274,13],[275,12,275,13],[276,12,276,13],[277,12,277,13],[278,12,278,13],[279,12,279,13],[280,12,280,13],[281,12,281,13],[677,15,677,16],[678,15,678,16],[679,15,679,16],[215,12,215,13],[241,12,241,13],[266,12,266,13],[267,12,267,13],[268,12,268,13],[269,12,269,13],[270,12,270,13],[271,12,271,13],[272,12,272,13],[2,12,2,13],[30,12,30,13],[57,12,57,13],[84,12,84,13],[111,12,111,13],[137,12,137,13],[163,12,163,13],[189,12,189,13],[29,0,29,10],[30,0,30,2],[30,4,30,6],[30,8,30,10],[136,0,136,10],[137,0,137,2],[137,4,137,6],[137,8,137,10],[110,0,110,10],[111,0,111,2],[111,4,111,6],[111,8,111,10],[162,0,162,10],[163,0,163,2],[163,4,163,6],[163,8,163,10],[215,8,215,10],[188,0,188,10],[189,0,189,2],[189,4,189,6],[189,8,189,10],[214,0,214,10],[215,0,215,2],[215,4,215,6],[1,0,1,10],[2,0,2,2],[2,4,2,6],[2,8,2,10],[83,0,83,10],[84,0,84,2],[84,4,84,6],[84,8,84,10],[56,0,56,10],[57,0,57,2],[57,4,57,6],[57,8,57,10],[306,0,306,2],[306,4,306,6],[306,8,306,10],[307,0,307,2],[307,4,307,6],[307,8,307,10],[287,0,287,11],[289,0,289,2],[289,4,289,6],[289,8,289,10],[329,0,329,2],[329,4,329,6],[329,8,329,10],[330,0,330,2],[330,4,330,6],[330,8,330,10],[308,0,308,11],[310,0,310,11],[312,0,312,2],[312,4,312,6],[312,8,312,10],[352,0,352,2],[352,4,352,6],[352,8,352,10],[353,0,353,2],[353,4,353,6],[353,8,353,10],[331,0,331,11],[333,0,333,11],[335,0,335,2],[335,4,335,6],[335,8,335,10],[375,0,375,2],[375,4,375,6],[375,8,375,10],[376,0,376,2],[376,4,376,6],[376,8,376,10],[354,0,354,11],[356,0,356,11],[358,0,358,2],[358,4,358,6],[358,8,358,10],[398,0,398,2],[398,4,398,6],[398,8,398,10],[399,0,399,2],[399,4,399,6],[399,8,399,10],[377,0,377,11],[379,0,379,11],[381,0,381,2],[381,4,381,6],[381,8,381,10],[421,0,421,2],[421,4,421,6],[421,8,421,10],[422,0,422,2],[422,4,422,6],[422,8,422,10],[400,0,400,11],[402,0,402,11],[404,0,404,2],[404,4,404,6],[404,8,404,10],[444,0,444,2],[444,4,444,6],[444,8,444,10],[445,0,445,2],[445,4,445,6],[445,8,445,10],[423,0,423,11],[425,0,425,11],[427,0,427,2],[427,4,427,6],[427,8,427,10],[467,0,467,2],[467,4,467,6],[467,8,467,10],[468,0,468,2],[468,4,468,6],[468,8,468,10],[446,0,446,11],[448,0,448,11],[450,0,450,2],[450,4,450,6],[450,8,450,10],[490,0,490,2],[490,4,490,6],[490,8,490,10],[491,0,491,2],[491,4,491,6],[491,8,491,10],[469,0,469,11],[471,0,471,11],[473,0,473,2],[473,4,473,6],[473,8,473,10],[513,0,513,2],[513,4,513,6],[513,8,513,10],[514,0,514,2],[514,4,514,6],[514,8,514,10],[492,0,492,11],[494,0,494,11],[496,0,496,2],[496,4,496,6],[496,8,496,10],[536,0,536,2],[536,4,536,6],[536,8,536,10],[537,0,537,2],[537,4,537,6],[537,8,537,10],[515,0,515,11],[517,0,517,11],[519,0,519,2],[519,4,519,6],[519,8,519,10],[559,0,559,2],[559,4,559,6],[559,8,559,10],[560,0,560,2],[560,4,560,6],[560,8,560,10],[538,0,538,11],[540,0,540,11],[542,0,542,2],[542,4,542,6],[542,8,542,10],[582,0,582,2],[582,4,582,6],[582,8,582,10],[583,0,583,2],[583,4,583,6],[583,8,583,10],[561,0,561,11],[563,0,563,11],[565,0,565,2],[565,4,565,6],[565,8,565,10],[605,4,605,6],[605,8,605,10],[606,0,606,2],[606,4,606,6],[606,8,606,10],[584,0,584,11],[586,0,586,11],[588,0,588,2],[588,4,588,6],[588,8,588,10],[240,0,240,10],[241,0,241,2],[241,4,241,6],[241,8,241,10],[653,0,653,11],[655,0,655,11],[657,0,657,2],[657,4,657,6],[657,8,657,10],[651,0,651,2],[651,4,651,6],[651,8,651,10],[652,0,652,2],[652,4,652,6],[652,8,652,10],[630,0,630,11],[632,0,632,11],[634,0,634,2],[634,4,634,6],[634,8,634,10],[628,0,628,2],[628,4,628,6],[628,8,628,10],[629,0,629,2],[703,19,703,24],[266,15,266,24],[266,26,266,33],[285,0,285,11],[265,0,265,11],[267,0,267,2],[267,4,267,6],[267,8,267,10],[676,0,676,11],[678,0,678,11],[674,0,674,2],[674,4,674,6],[674,8,674,10],[675,0,675,2],[675,4,675,6],[675,8,675,10],[629,4,629,6],[629,8,629,10],[607,0,607,11],[609,0,609,11],[611,0,611,2],[611,4,611,6],[611,8,611,10],[605,0,605,2],[242,26,242,27],[243,26,243,27],[249,26,249,27],[248,26,248,27],[247,26,247,27],[245,26,245,27],[244,26,244,27],[248,24,248,25],[247,24,247,25],[245,24,245,25],[244,24,244,25],[243,24,243,25],[242,24,242,25],[259,28,259,30],[258,24,258,25],[257,24,257,25],[255,24,255,25],[254,24,254,25],[253,24,253,25],[258,28,258,30],[257,28,257,30],[255,28,255,30],[254,28,254,30],[253,28,253,30],[258,26,258,27],[257,26,257,27],[255,26,255,27],[254,26,254,27],[253,26,253,27]]}
[11,1,null,null,12,null,null,null,13]
[{"$f":"\"Team \"&VLOOKUP(B1,Roster!$B$2:$AF$33,1)&\"  \"&VLOOKUP(B1,Roster!$B$2:$AF$33,2)","v":"Team 1  "}]
[{"$f":"_xlfn.IFNA(VLOOKUP($A1,Roster!$A$2:$AF$33,8,0),0)&IF(A18=\"\",\"\",\" / \"&VLOOKUP($A18,Roster!$A$2:$AF$33,8,0))","v":"David Burke"},null,null,null,{"$f":"_xlfn.IFNA(VLOOKUP($E1,Roster!$A$2:$AF$33,8,0),0)&IF(E18=\"\",\"\",\" / \"&VLOOKUP($E18,Roster!$A$2:$AF$33,8,0))","v":"Rich Matich"},null,null,null,{"$f":"_xlfn.IFNA(VLOOKUP($I1,Roster!$A$2:$AF$33,8,0),0)&IF(I18=\"\",\"\",\" / \"&VLOOKUP($I18,Roster!$A$2:$AF$33,8,0))","v":"Cal Shirey"},null,null,null,{"$f":"A2","v":"Team 1  "}]
["Award Category","Ref","Award",null,"Award Category","Ref","Award",null,"Award Category","Ref","Award",null,"Award Category","Award"]
["Bowler High Avg.",null,null,null,"Bowler High Avg.",null,null,null,"Bowler High Avg.",227.98,{"$f":"'Prize Fund'!G37","v":50},null,"Bowler High Avg.",{"$f":"C5+G5+K5","v":50}]
["Bowler High Points",null,null,null,"Bowler High Points",null,null,null,"Bowler High Points",83,{"$f":"'Prize Fund'!H38","v":30},null,"Bowler High Points",30]
["Bowler High Game","JT",{"$f":"ROUNDUP(('Prize Fund'!$G$39+'Prize Fund'!$H$39)/4,0)","v":20},null,"Bowler High Game",null,null,null,"Bowler High Game",null,null,null,"Bowler High Game",20]
["Bowler High Series",null,null,null,"Bowler High Series",null,null,null,"Bowler High Series",null,null,null,"Bowler High Series",0]
["Team High Game",null,null,null,"Team High Game",{"$f":"$B9","v":0},{"$f":"$C9","v":0},null,"Team High Game",{"$f":"$B9","v":0},{"$f":"$C9","v":0},null,"Team High Game",0]
["Team High Series",null,null,null,"Team High Series",0,0,null,"Team High Series",0,0,null,"Team High Series",0]
["Segment 1 Points",{"$f":"VLOOKUP($B$1,'Team Awards'!$B$6:$F$15,4,0)","v":0},{"$f":"VLOOKUP($B1,'Team Awards'!$B$6:$F$15,3,0)","v":100},null,"Segment 1 Points",0,100,null,"Segment 1 Points",0,100,null,"Segment 1 Points",300]
["Segment 2 Points",{"$f":"VLOOKUP($B$1,'Team Awards'!$G$6:$K$15,4,0)","v":{"$error":"#N/A"}},{"$f":"VLOOKUP($B$1,'Team Awards'!$G$6:$K$15,3,0)","v":{"$error":"#N/A"}},null,"Segment 2 Points",{"$error":"#N/A"},{"$error":"#N/A"},null,"Segment 2 Points",{"$error":"#N/A"},{"$error":"#N/A"},null,"Segment 2 Points",{"$error":"#N/A"}]
["Segment 3 Points",{"$f":"VLOOKUP($B$1,'Team Awards'!$L$6:$O$15,4,0)","v":{"$error":"#N/A"}},{"$f":"VLOOKUP($B$1,'Team Awards'!$L$6:$O$15,3,0)","v":{"$error":"#N/A"}},null,"Segment 3 Points",{"$error":"#N/A"},{"$error":"#N/A"},null,"Segment 3 Points",{"$error":"#N/A"},{"$error":"#N/A"},null,"Segment 3 Points",{"$error":"#N/A"}]
["Season Team Points",null,null,null,"Season Team Points",0,0,null,"Season Team Points",0,0,null,"Season Team Points",0]
["League Championship",null,null,null,"League Championship",0,0,null,"League Championship",0,0,null,"League Championship",0]
["Over Avg. Sweeper",null,null,null,"Over Avg. Sweeper",null,null,null,"Over Avg. Sweeper",null,null,null,"Over Avg. Sweeper",0]
["Total",null,{"$f":"SUM(C5:C16)","v":{"$error":"#N/A"}},null,"Total",null,{"$f":"SUM(G5:G16)","v":{"$error":"#N/A"}},null,"Total",null,{"$f":"SUM(K5:K16)","v":{"$error":"#N/A"}},null,"Total",{"$f":"SUM(N5:N16)","v":{"$error":"#N/A"}},{"$f":"C11+C12+C13+G11+G12+G13+K11+K12+K13","v":{"$error":"#N/A"}},{"$f":"N5+N33+N60+N87+N114+N140+N166+N192+N218+N244","v":50},{"$f":"N6+N61+N88+N115+N141+N167+N193+N219+N245","v":90},{"$f":"N7+N35+N62+N89+N116+N142+N168+N194+N220+N246","v":80},{"$f":"N8+N36+N63+N90+N117+N143+N169+N195+N221+N247","v":80},{"$f":"N9+N37+N64+N91+N118+N144+N170+N196+N222+N248","v":90},{"$f":"N10+N38+N65+N92+N119+N145+N171+N197+N223+N249","v":90}]
[]
[100,{"$f":"IF(C19*A19>0,C17-(C19*A19),C17)","v":{"$error":"#N/A"}},{"$f":"IF(C17>(A19-1),ROUNDDOWN(C17/A19,0),0)","v":{"$error":"#N/A"}},{"$f":"IF(D17>(A19-1),ROUNDDOWN(D17/A19,0),0)","v":0},100,{"$f":"IF(G19*E19>0,G17-(G19*E19),G17)","v":{"$error":"#N/A"}},{"$f":"IF(G17>(E19-1),ROUNDDOWN(G17/E19,0),0)","v":{"$error":"#N/A"}},null,100,{"$f":"IF(K19*I19>0,K17-(K19*I19),K17)","v":{"$error":"#N/A"}},{"$f":"IF(K17>(I19-1),ROUNDDOWN(K17/I19,0),0)","v":{"$error":"#N/A"}},null,100,{"$f":"C19+G19+K19","v":{"$error":"#N/A"}}]
[50,{"$f":"IF(C20*A20>0,B19-(C20*A20),B19)","v":{"$error":"#N/A"}},{"$f":"IF(B19>(A20-1),ROUNDDOWN(B19/A20,0),0)","v":{"$error":"#N/A"}},{"$f":"IF(C19>(A20-1),ROUNDDOWN(C19/A20,0),0)","v":{"$error":"#N/A"}},50,{"$f":"IF(G20*E20>0,F19-(G20*E20),F19)","v":{"$error":"#N/A"}},{"$f":"IF(F19>(E20-1),ROUNDDOWN(F19/E20,0),0)","v":{"$error":"#N/A"}},null,50,{"$f":"IF(K20*I20>0,J19-(K20*I20),J19)","v":{"$error":"#N/A"}},{"$f":"IF(J19>(I20-1),ROUNDDOWN(J19/I20,0),0)","v":{"$error":"#N/A"}},null,50,{"$f":"+N48+N75+N102+N129+N155+N181+N207+N233+N259","v":{"$error":"#N/A"}}]
[20,{"$error":"#N/A"},{"$error":"#N/A"},{"$error":"#N/A"},20,{"$error":"#N/A"},{"$error":"#N/A"},null,20,{"$error":"#N/A"},{"$error":"#N/A"},null,20,{"$error":"#N/A"}]
[10,{"$error":"#N/A"},{"$error":"#N/A"},{"$error":"#N/A"},10,{"$error":"#N/A"},{"$error":"#N/A"},null,10,{"$error":"#N/A"},{"$error":"#N/A"},null,10,{"$error":"#N/A"}]
[5,{"$error":"#N/A"},{"$error":"#N/A"},{"$error":"#N/A"},5,{"$error":"#N/A"},{"$error":"#N/A"},null,5,{"$error":"#N/A"},{"$error":"#N/A"},null,5,{"$error":"#N/A"}]
[1,{"$error":"#N/A"},{"$error":"#N/A"},{"$error":"#N/A"},1,{"$error":"#N/A"},{"$error":"#N/A"},null,1,{"$error":"#N/A"},{"$error":"#N/A"},null,1,{"$error":"#N/A"}]
[0.25,{"$error":"#N/A"},{"$error":"#N/A"},{"$error":"#N/A"},0.25,{"$error":"#N/A"},{"$error":"#N/A"},null,0.25,{"$error":"#N/A"},{"$error":"#N/A"},null,0.25,{"$error":"#N/A"}]
[null,null,{"$f":"C19*A19+C20*A20+C21*A21+C22*A22+C23*A23+C24*A24+C25*A25","v":{"$error":"#N/A"}},{"$f":"D19*A19+D20*A20+D21*A21+D22*A22+D23*A23+D24*A24+D25*A25","v":{"$error":"#N/A"}},null,null,{"$f":"G19*E19+G20*E20+G21*E21+G22*E22+G23*E23+G24*E24+G25*E25","v":{"$error":"#N/A"}},null,null,null,{"$f":"K19*I19+K20*I20+K21*I21+K22*I22+K23*I23+K24*I24+K25*I25","v":{"$error":"#N/A"}},null,null,{"$f":"N19*M19+N20*M20+N21*M21+N22*M22+N23*M23+N24*M24+N25*M25","v":{"$error":"#N/A"}}]
[]
[]
[21,2,null,null,22,null,null,null,23]
[{"$f":"\"Team \"&VLOOKUP(B29,Roster!$B$2:$AF$33,1)&\"  \"&VLOOKUP(B29,Roster!$B$2:$AF$33,2)","v":"Team 2  Rascals"}]
[{"$f":"_xlfn.IFNA(VLOOKUP($A29,Roster!$A$2:$AF$33,8,0),0)&IF(A46=\"\",\"\",\" / \"&VLOOKUP($A46,Roster!$A$2:$AF$33,8,0))","v":"Marty Bell"},null,null,null,{"$f":"_xlfn.IFNA(VLOOKUP($E29,Roster!$A$2:$AF$33,8,0),0)&IF(E46=\"\",\"\",\" / \"&VLOOKUP($E46,Roster!$A$2:$AF$33,8,0))","v":"Alex Balok"},null,null,null,{"$f":"_xlfn.IFNA(VLOOKUP($I29,Roster!$A$2:$AF$33,8,0),0)&IF(I46=\"\",\"\",\" / \"&VLOOKUP($I46,Roster!$A$2:$AF$33,8,0))","v":"Johnny Gonzales"},null,null,null,{"$f":"A30","v":"Team 2  Rascals"}]
["Award Category","Ref","Award",null,"Award Category","Ref","Award",null,"Award Category","Ref","Award",null,"Award Category","Award"]
["Bowler High Avg.",null,null,null,"Bowler High Avg.",null,null,null,"Bowler High Avg.",null,null,null,"Bowler High Avg.",{"$f":"C33+G33+K33","v":0}]
["Bowler High Points",null,null,null,"Bowler High Points",null,null,null,"Bowler High Points",null,null,null,"Bowler High Points",0]
["Bowler High Game",290,null,null,"Bowler High Game",null,null,null,"Bowler High Game",300,{"$f":"ROUNDUP(('Prize Fund'!$G$39+'Prize Fund'!$H$39)/4,0)","v":20},null,"Bowler High Game",20]
["Bowler High Series",null,null,null,"Bowler High Series",null,null,null,"Bowler High Series",1020,null,null,"Bowler High Series",0]
["Team High Game",null,null,null,"Team High Game",{"$f":"$B37","v":0},{"$f":"$C37","v":0},null,"Team High Game",{"$f":"$B37","v":0},{"$f":"$C37","v":0},null,"Team High Game",0]
["Team High Series",null,null,null,"Team High Series",0,0,null,"Team High Series",0,0,null,"Team High Series",0]
["Segment 1 Points",{"$f":"VLOOKUP($B29,'Team Awards'!$B$6:$F$15,4,0)","v":{"$error":"#N/A"}},{"$f":"VLOOKUP($B29,'Team Awards'!$B$6:$F$15,3,0)","v":{"$error":"#N/A"}},null,"Segment 1 Points",{"$error":"#N/A"},{"$error":"#N/A"},null,"Segment 1 Points",{"$error":"#N/A"},{"$error":"#N/A"},null,"Segment 1 Points",{"$error":"#N/A"}]
["Segment 2 Points",{"$f":"VLOOKUP($B29,'Team Awards'!$G$6:$K$15,4,0)","v":{"$error":"#N/A"}},{"$f":"VLOOKUP($B29,'Team Awards'!$G$6:$K$15,3,0)","v":{"$error":"#N/A"}},null,"Segment 2 Points",{"$error":"#N/A"},{"$error":"#N/A"},null,"Segment 2 Points",{"$error":"#N/A"},{"$error":"#N/A"},null,"Segment 2 Points",{"$error":"#N/A"}]
["Segment 3 Points",{"$f":"VLOOKUP($B29,'Team Awards'!$L$6:$O$15,4,0)","v":{"$error":"#N/A"}},{"$f":"VLOOKUP($B29,'Team Awards'!$L$6:$O$15,3,0)","v":{"$error":"#N/A"}},null,"Segment 3 Points",{"$error":"#N/A"},{"$error":"#N/A"},null,"Segment 3 Points",{"$error":"#N/A"},{"$error":"#N/A"},null,"Segment 3 Points",{"$error":"#N/A"}]
["Season Team Points",null,null,null,"Season Team Points",0,0,null,"Season Team Points",0,0,null,"Season Team Points",0]
["League Championship",null,null,null,"League Championship",0,0,null,"League Championship",0,0,null,"League Championship",0]
["Over Avg. Sweeper",null,null,null,"Over Avg. Sweeper",null,null,null,"Over Avg. Sweeper",null,null,null,"Over Avg. Sweeper",0]
["Total",null,{"$f":"SUM(C33:C44)","v":{"$error":"#N/A"}},null,"Total",null,{"$f":"SUM(G33:G44)","v":{"$error":"#N/A"}},null,"Total",null,{"$f":"SUM(K33:K44)","v":{"$error":"#N/A"}},null,"Total",{"$f":"SUM(N33:N44)","v":{"$error":"#N/A"}},{"$f":"C39+C40+C41+G39+G40+G41+K39+K40+K41","v":{"$error":"#N/A"}}]
[]
[100,{"$f":"IF(C47*A47>0,C45-(C47*A47),C45)","v":{"$error":"#N/A"}},{"$f":"IF(C45>(A47-1),ROUNDDOWN(C45/A47,0),0)","v":{"$error":"#N/A"}},{"$f":"IF(D45>(A47-1),ROUNDDOWN(D45/A47,0),0)","v":0},100,{"$f":"IF(G47*E47>0,G45-(G47*E47),G45)","v":{"$error":"#N/A"}},{"$f":"IF(G45>(E47-1),ROUNDDOWN(G45/E47,0),0)","v":{"$error":"#N/A"}},null,100,{"$f":"IF(K47*I47>0,K45-(K47*I47),K45)","v":{"$error":"#N/A"}},{"$f":"IF(K45>(I47-1),ROUNDDOWN(K45/I47,0),0)","v":{"$error":"#N/A"}},null,100,{"$f":"C47+G47+K47","v":{"$error":"#N/A"}}]
[50,{"$f":"IF(C48*A48>0,B47-(C48*A48),B47)","v":{"$error":"#N/A"}},{"$f":"IF(B47>(A48-1),ROUNDDOWN(B47/A48,0),0)","v":{"$error":"#N/A"}},{"$f":"IF(C47>(A48-1),ROUNDDOWN(C47/A48,0),0)","v":{"$error":"#N/A"}},50,{"$f":"IF(G48*E48>0,F47-(G48*E48),F47)","v":{"$error":"#N/A"}},{"$f":"IF(F47>(E48-1),ROUNDDOWN(F47/E48,0),0)","v":{"$error":"#N/A"}},null,50,{"$f":"IF(K48*I48>0,J47-(K48*I48),J47)","v":{"$error":"#N/A"}},{"$f":"IF(J47>(I48-1),ROUNDDOWN(J47/I48,0),0)","v":{"$error":"#N/A"}},null,50,{"$error":"#N/A"}]
[20,{"$error":"#N/A"},{"$error":"#N/A"},{"$error":"#N/A"},20,{"$error":"#N/A"},{"$error":"#N/A"},null,20,{"$error":"#N/A"},{"$error":"#N/A"},null,20,{"$error":"#N/A"}]
[10,{"$error":"#N/A"},{"$error":"#N/A"},{"$error":"#N/A"},10,{"$error":"#N/A"},{"$error":"#N/A"},null,10,{"$error":"#N/A"},{"$error":"#N/A"},null,10,{"$error":"#N/A"}]
[5,{"$error":"#N/A"},{"$error":"#N/A"},{"$error":"#N/A"},5,{"$error":"#N/A"},{"$error":"#N/A"},null,5,{"$error":"#N/A"},{"$error":"#N/A"},null,5,{"$error":"#N/A"}]
[1,{"$error":"#N/A"},{"$error":"#N/A"},{"$error":"#N/A"},1,{"$error":"#N/A"},{"$error":"#N/A"},null,1,{"$error":"#N/A"},{"$error":"#N/A"},null,1,{"$error":"#N/A"}]
[0.25,{"$error":"#N/A"},{"$error":"#N/A"},{"$error":"#N/A"},0.25,{"$error":"#N/A"},{"$error":"#N/A"},null,0.25,{"$error":"#N/A"},{"$error":"#N/A"},null,0.25,{"$error":"#N/A"}]
[null,null,{"$f":"C47*A47+C48*A48+C49*A49+C50*A50+C51*A51+C52*A52+C53*A53","v":{"$error":"#N/A"}},{"$f":"D47*A47+D48*A48+D49*A49+D50*A50+D51*A51+D52*A52+D53*A53","v":{"$error":"#N/A"}},null,null,{"$f":"G47*E47+G48*E48+G49*E49+G50*E50+G51*E51+G52*E52+G53*E53","v":{"$error":"#N/A"}},null,null,null,{"$f":"K47*I47+K48*I48+K49*I49+K50*I50+K51*I51+K52*I52+K53*I53","v":{"$error":"#N/A"}},null,null,{"$f":"N47*M47+N48*M48+N49*M49+N50*M50+N51*M51+N52*M52+N53*M53","v":{"$error":"#N/A"}}]
[]
[31,3,null,null,32,null,null,null,33]
[{"$f":"\"Team \"&VLOOKUP(B56,Roster!$B$2:$AF$33,1)&\"  \"&VLOOKUP(B56,Roster!$B$2:$AF$33,2)","v":"Team 3  Desert Sun Embroidery"}]
[{"$f":"_xlfn.IFNA(VLOOKUP($A56,Roster!$A$2:$AF$33,8,0),0)&IF(A73=\"\",\"\",\" / \"&VLOOKUP($A73,Roster!$A$2:$AF$33,8,0))","v":"Jeff Richard"},null,null,null,{"$f":"_xlfn.IFNA(VLOOKUP($E56,Roster!$A$2:$AF$33,8,0),0)&IF(E73=\"\",\"\",\" / \"&VLOOKUP($E73,Roster!$A$2:$AF$33,8,0))","v":"Jerry Elsen"},null,null,null,{"$f":"_xlfn.IFNA(VLOOKUP($I56,Roster!$A$2:$AF$33,8,0),0)&IF(I73=\"\",\"\",\" / \"&VLOOKUP($I73,Roster!$A$2:$AF$33,8,0))","v":"Bill Poff"},null,null,null,{"$f":"A57","v":"Team 3  Desert Sun Embroidery"}]
["Award Category","Ref","Award",null,"Award Category","Ref","Award",null,"Award Category","Ref","Award",null,"Award Category","Award"]
["Bowler High Avg.",null,null,null,"Bowler High Avg.",null,null,null,"Bowler High Avg.",null,null,null,"Bowler High Avg.",{"$f":"C60+G60+K60","v":0}]
["Bowler High Points",90,{"$f":"'Prize Fund'!G38","v":60},null,"Bowler High Points",null,null,null,"Bowler High Points",null,null,null,"Bowler High Points",60]
["Bowler High Game",null,null,null,"Bowler High Game",null,null,null,"Bowler High Game",300,{"$f":"ROUNDUP(('Prize Fund'!$G$39+'Prize Fund'!$H$39)/4,0)","v":20},null,"Bowler High Game",20]
["Bowler High Series",null,null,null,"Bowler High Series",null,null,null,"Bowler High Series",1035,null,null,"Bowler High Series",0]
["Team High Game",772,null,null,"Team High Game",{"$f":"$B64","v":772},{"$f":"$C64","v":0},null,"Team High Game",{"$f":"$B64","v":772},{"$f":"$C64","v":0},null,"Team High Game",0]
["Team High Series",2869,{"$f":"'Prize Fund'!G44/3","v":20},null,"Team High Series",2869,20,null,"Team High Series",2869,20,null,"Team High Series",60]
["Segment 1 Points",{"$f":"VLOOKUP($B56,'Team Awards'!$B$6:$F$15,4,0)","v":{"$error":"#N/A"}},{"$f":"VLOOKUP($B56,'Team Awards'!$B$6:$F$15,3,0)","v":{"$error":"#N/A"}},null,"Segment 1 Points",{"$error":"#N/A"},{"$error":"#N/A"},null,"Segment 1 Points",{"$error":"#N/A"},{"$error":"#N/A"},null,"Segment 1 Points",{"$error":"#N/A"}]
["Segment 2 Points",{"$f":"VLOOKUP($B56,'Team Awards'!$G$6:$K$15,4,0)","v":{"$error":"#N/A"}},{"$f":"VLOOKUP($B56,'Team Awards'!$G$6:$K$15,3,0)","v":{"$error":"#N/A"}},null,"Segment 2 Points",{"$error":"#N/A"},{"$error":"#N/A"},null,"Segment 2 Points",{"$error":"#N/A"},{"$error":"#N/A"},null,"Segment 2 Points",{"$error":"#N/A"}]
["Segment 3 Points",{"$f":"VLOOKUP($B56,'Team Awards'!$L$6:$O$15,4,0)","v":{"$error":"#N/A"}},{"$f":"VLOOKUP($B56,'Team Awards'!$L$6:$O$15,3,0)","v":{"$error":"#N/A"}},null,"Segment 3 Points",{"$error":"#N/A"},{"$error":"#N/A"},null,"Segment 3 Points",{"$error":"#N/A"},{"$error":"#N/A"},null,"Segment 3 Points",{"$error":"#N/A"}]
["Season Team Points",null,null,null,"Season Team Points",0,0,null,"Season Team Points",0,0,null,"Season Team Points",0]
["League Championship",null,null,null,"League Championship",0,0,null,"League Championship",0,0,null,"League Championship",0]
["Over Avg. Sweeper",null,null,null,"Over Avg. Sweeper",null,null,null,"Over Avg. Sweeper",null,null,null,"Over Avg. Sweeper",0]
["Total",null,{"$f":"SUM(C60:C71)","v":{"$error":"#N/A"}},null,"Total",null,{"$f":"SUM(G60:G71)","v":{"$error":"#N/A"}},null,"Total",null,{"$f":"SUM(K60:K71)","v":{"$error":"#N/A"}},null,"Total",{"$f":"SUM(N60:N71)","v":{"$error":"#N/A"}},{"$f":"C66+C67+C68+G66+G67+G68+K66+K67+K68","v":{"$error":"#N/A"}}]
[]
[100,{"$f":"IF(C74*A74>0,C72-(C74*A74),C72)","v":{"$error":"#N/A"}},{"$f":"IF(C72>(A74-1),ROUNDDOWN(C72/A74,0),0)","v":{"$error":"#N/A"}},{"$f":"IF(D72>(A74-1),ROUNDDOWN(D72/A74,0),0)","v":0},100,{"$f":"IF(G74*E74>0,G72-(G74*E74),G72)","v":{"$error":"#N/A"}},{"$f":"IF(G72>(E74-1),ROUNDDOWN(G72/E74,0),0)","v":{"$error":"#N/A"}},null,100,{"$f":"IF(K74*I74>0,K72-(K74*I74),K72)","v":{"$error":"#N/A"}},{"$f":"IF(K72>(I74-1),ROUNDDOWN(K72/I74,0),0)","v":{"$error":"#N/A"}},null,100,{"$f":"C74+G74+K74","v":{"$error":"#N/A"}}]
[50,{"$f":"IF(C75*A75>0,B74-(C75*A75),B74)","v":{"$error":"#N/A"}},{"$f":"IF(B74>(A75-1),ROUNDDOWN(B74/A75,0),0)","v":{"$error":"#N/A"}},{"$f":"IF(C74>(A75-1),ROUNDDOWN(C74/A75,0),0)","v":{"$error":"#N/A"}},50,{"$f":"IF(G75*E75>0,F74-(G75*E75),F74)","v":{"$error":"#N/A"}},{"$f":"IF(F74>(E75-1),ROUNDDOWN(F74/E75,0),0)","v":{"$error":"#N/A"}},null,50,{"$f":"IF(K75*I75>0,J74-(K75*I75),J74)","v":{"$error":"#N/A"}},{"$f":"IF(J74>(I75-1),ROUNDDOWN(J74/I75,0),0)","v":{"$error":"#N/A"}},null,50,{"$error":"#N/A"}]
[20,{"$error":"#N/A"},{"$error":"#N/A"},{"$error":"#N/A"},20,{"$error":"#N/A"},{"$error":"#N/A"},null,20,{"$error":"#N/A"},{"$error":"#N/A"},null,20,{"$error":"#N/A"}]
[10,{"$error":"#N/A"},{"$error":"#N/A"},{"$error":"#N/A"},10,{"$error":"#N/A"},{"$error":"#N/A"},null,10,{"$error":"#N/A"},{"$error":"#N/A"},null,10,{"$error":"#N/A"}]
[5,{"$error":"#N/A"},{"$error":"#N/A"},{"$error":"#N/A"},5,{"$error":"#N/A"},{"$error":"#N/A"},null,5,{"$error":"#N/A"},{"$error":"#N/A"},null,5,{"$error":"#N/A"}]
[1,{"$error":"#N/A"},{"$error":"#N/A"},{"$error":"#N/A"},1,{"$error":"#N/A"},{"$error":"#N/A"},null,1,{"$error":"#N/A"},{"$error":"#N/A"},null,1,{"$error":"#N/A"}]
[0.25,{"$error":"#N/A"},{"$error":"#N/A"},{"$error":"#N/A"},0.25,{"$error":"#N/A"},{"$error":"#N/A"},null,0.25,{"$error":"#N/A"},{"$error":"#N/A"},null,0.25,{"$error":"#N/A"}]
[null,null,{"$f":"C74*A74+C75*A75+C76*A76+C77*A77+C78*A78+C79*A79+C80*A80","v":{"$error":"#N/A"}},{"$f":"D74*A74+D75*A75+D76*A76+D77*A77+D78*A78+D79*A79+D80*A80","v":{"$error":"#N/A"}},null,null,{"$f":"G74*E74+G75*E75+G76*E76+G77*E77+G78*E78+G79*E79+G80*E80","v":{"$error":"#N/A"}},null,null,null,{"$f":"K74*I74+K75*I75+K76*I76+K77*I77+K78*I78+K79*I79+K80*I80","v":{"$error":"#N/A"}},null,null,{"$f":"N74*M74+N75*M75+N76*M76+N77*M77+N78*M78+N79*M79+N80*M80","v":{"$error":"#N/A"}}]
[]
[41,4,null,null,42,null,null,null,43]
[{"$f":"\"Team \"&VLOOKUP(B83,Roster!$B$2:$AF$33,1)&\"  \"&VLOOKUP(B83,Roster!$B$2:$AF$33,2)","v":"Team 4  Pro-Tech"}]
[{"$f":"_xlfn.IFNA(VLOOKUP($A83,Roster!$A$2:$AF$33,8,0),0)&IF(A100=\"\",\"\",\" / \"&VLOOKUP($A100,Roster!$A$2:$AF$33,8,0))","v":"Dave Schmitz"},null,null,null,{"$f":"_xlfn.IFNA(VLOOKUP($E83,Roster!$A$2:$AF$33,8,0),0)&IF(E100=\"\",\"\",\" / \"&VLOOKUP($E100,Roster!$A$2:$AF$33,8,0))","v":"John Babbitt"},null,null,null,{"$f":"_xlfn.IFNA(VLOOKUP($I83,Roster!$A$2:$AF$33,8,0),0)&IF(I100=\"\",\"\",\" / \"&VLOOKUP($I100,Roster!$A$2:$AF$33,8,0))","v":"Larry Tolar"},null,null,null,{"$f":"A84","v":"Team 4  Pro-Tech"}]
["Award Category","Ref","Award",null,"Award Category","Ref","Award",null,"Award Category","Ref","Award",null,"Award Category","Award"]
["Bowler High Avg.",null,null,null,"Bowler High Avg.",null,null,null,"Bowler High Avg.",null,null,null,"Bowler High Avg.",{"$f":"C87+G87+K87","v":0}]
["Bowler High Points",null,null,null,"Bowler High Points",null,null,null,"Bowler High Points",null,null,null,"Bowler High Points",0]
["Bowler High Game",null,null,null,"Bowler High Game",null,null,null,"Bowler High Game",null,null,null,"Bowler High Game",0]
["Bowler High Series",null,null,null,"Bowler High Series",1002,null,null,"Bowler High Series",null,null,null,"Bowler High Series",0]
["Team High Game",760,null,null,"Team High Game",{"$f":"$B91","v":760},{"$f":"$C91","v":0},null,"Team High Game",{"$f":"$B91","v":760},{"$f":"$C91","v":0},null,"Team High Game",0]
["Team High Series",2851,{"$f":"'Prize Fund'!H44/3","v":10},null,"Team High Series",2851,10,null,"Team High Series",2851,10,null,"Team High Series",30]
["Segment 1 Points",{"$f":"VLOOKUP($B83,'Team Awards'!$B$6:$F$15,4,0)","v":{"$error":"#N/A"}},{"$f":"VLOOKUP($B83,'Team Awards'!$B$6:$F$15,3,0)","v":{"$error":"#N/A"}},null,"Segment 1 Points",{"$error":"#N/A"},{"$error":"#N/A"},null,"Segment 1 Points",{"$error":"#N/A"},{"$error":"#N/A"},null,"Segment 1 Points",{"$error":"#N/A"}]
["Segment 2 Points",{"$f":"VLOOKUP($B83,'Team Awards'!$G$6:$K$15,4,0)","v":{"$error":"#N/A"}},{"$f":"VLOOKUP($B83,'Team Awards'!$G$6:$K$15,3,0)","v":{"$error":"#N/A"}},null,"Segment 2 Points",{"$error":"#N/A"},{"$error":"#N/A"},null,"Segment 2 Points",{"$error":"#N/A"},{"$error":"#N/A"},null,"Segment 2 Points",{"$error":"#N/A"}]
["Segment 3 Points",{"$f":"VLOOKUP($B83,'Team Awards'!$L$6:$O$15,4,0)","v":{"$error":"#N/A"}},{"$f":"VLOOKUP($B83,'Team Awards'!$L$6:$O$15,3,0)","v":{"$error":"#N/A"}},null,"Segment 3 Points",{"$error":"#N/A"},{"$error":"#N/A"},null,"Segment 3 Points",{"$error":"#N/A"},{"$error":"#N/A"},null,"Segment 3 Points",{"$error":"#N/A"}]
["Season Team Points",null,null,null,"Season Team Points",0,0,null,"Season Team Points",0,0,null,"Season Team Points",0]
["League Championship",null,null,null,"League Championship",0,0,null,"League Championship",0,0,null,"League Championship",0]
["Over Avg. Sweeper",null,null,null,"Over Avg. Sweeper",null,null,null,"Over Avg. Sweeper",null,null,null,"Over Avg. Sweeper",0]
["Total",null,{"$f":"SUM(C87:C98)","v":{"$error":"#N/A"}},null,"Total",null,{"$f":"SUM(G87:G98)","v":{"$error":"#N/A"}},null,"Total",null,{"$f":"SUM(K87:K98)","v":{"$error":"#N/A"}},null,"Total",{"$f":"SUM(N87:N98)","v":{"$error":"#N/A"}},{"$f":"C93+C94+C95+G93+G94+G95+K93+K94+K95","v":{"$error":"#N/A"}}]
[]
[100,{"$f":"IF(C101*A101>0,C99-(C101*A101),C99)","v":{"$error":"#N/A"}},{"$f":"IF(C99>(A101-1),ROUNDDOWN(C99/A101,0),0)","v":{"$error":"#N/A"}},{"$f":"IF(D99>(A101-1),ROUNDDOWN(D99/A101,0),0)","v":0},100,{"$f":"IF(G101*E101>0,G99-(G101*E101),G99)","v":{"$error":"#N/A"}},{"$f":"IF(G99>(E101-1),ROUNDDOWN(G99/E101,0),0)","v":{"$error":"#N/A"}},null,100,{"$f":"IF(K101*I101>0,K99-(K101*I101),K99)","v":{"$error":"#N/A"}},{"$f":"IF(K99>(I101-1),ROUNDDOWN(K99/I101,0),0)","v":{"$error":"#N/A"}},null,100,{"$f":"C101+G101+K101","v":{"$error":"#N/A"}}]
[50,{"$f":"IF(C102*A102>0,B101-(C102*A102),B101)","v":{"$error":"#N/A"}},{"$f":"IF(B101>(A102-1),ROUNDDOWN(B101/A102,0),0)","v":{"$error":"#N/A"}},{"$f":"IF(C101>(A102-1),ROUNDDOWN(C101/A102,0),0)","v":{"$error":"#N/A"}},50,{"$f":"IF(G102*E102>0,F101-(G102*E102),F101)","v":{"$error":"#N/A"}},{"$f":"IF(F101>(E102-1),ROUNDDOWN(F101/E102,0),0)","v":{"$error":"#N/A"}},null,50,{"$f":"IF(K102*I102>0,J101-(K102*I102),J101)","v":{"$error":"#N/A"}},{"$f":"IF(J101>(I102-1),ROUNDDOWN(J101/I102,0),0)","v":{"$error":"#N/A"}},null,50,{"$error":"#N/A"}]
[20,{"$error":"#N/A"},{"$error":"#N/A"},{"$error":"#N/A"},20,{"$error":"#N/A"},{"$error":"#N/A"},null,20,{"$error":"#N/A"},{"$error":"#N/A"},null,20,{"$error":"#N/A"}]
[10,{"$error":"#N/A"},{"$error":"#N/A"},{"$error":"#N/A"},10,{"$error":"#N/A"},{"$error":"#N/A"},null,10,{"$error":"#N/A"},{"$error":"#N/A"},null,10,{"$error":"#N/A"}]
[5,{"$error":"#N/A"},{"$error":"#N/A"},{"$error":"#N/A"},5,{"$error":"#N/A"},{"$error":"#N/A"},null,5,{"$error":"#N/A"},{"$error":"#N/A"},null,5,{"$error":"#N/A"}]
[1,{"$error":"#N/A"},{"$error":"#N/A"},{"$error":"#N/A"},1,{"$error":"#N/A"},{"$error":"#N/A"},null,1,{"$error":"#N/A"},{"$error":"#N/A"},null,1,{"$error":"#N/A"}]
[0.25,{"$error":"#N/A"},{"$error":"#N/A"},{"$error":"#N/A"},0.25,{"$error":"#N/A"},{"$error":"#N/A"},null,0.25,{"$error":"#N/A"},{"$error":"#N/A"},null,0.25,{"$error":"#N/A"}]
[null,null,{"$f":"C101*A101+C102*A102+C103*A103+C104*A104+C105*A105+C106*A106+C107*A107","v":{"$error":"#N/A"}},{"$f":"D101*A101+D102*A102+D103*A103+D104*A104+D105*A105+D106*A106+D107*A107","v":{"$error":"#N/A"}},null,null,{"$f":"G101*E101+G102*E102+G103*E103+G104*E104+G105*E105+G106*E106+G107*E107","v":{"$error":"#N/A"}},null,null,null,{"$f":"K101*I101+K102*I102+K103*I103+K104*I104+K105*I105+K106*I106+K107*I107","v":{"$error":"#N/A"}},null,null,{"$f":"N101*M101+N102*M102+N103*M103+N104*M104+N105*M105+N106*M106+N107*M107","v":{"$error":"#N/A"}}]
[]
[51,5,null,null,52,null,null,null,53]
[{"$f":"\"Team \"&VLOOKUP(B110,Roster!$B$2:$AF$33,1)&\"  \"&VLOOKUP(B110,Roster!$B$2:$AF$33,2)","v":"Team 5  "}]
[{"$f":"_xlfn.IFNA(VLOOKUP($A110,Roster!$A$2:$AF$33,8,0),0)&IF(A127=\"\",\"\",\" / \"&VLOOKUP($A127,Roster!$A$2:$AF$33,8,0))","v":"Dana Barrette"},null,null,null,{"$f":"_xlfn.IFNA(VLOOKUP($E110,Roster!$A$2:$AF$33,8,0),0)&IF(E127=\"\",\"\",\" / \"&VLOOKUP($E127,Roster!$A$2:$AF$33,8,0))","v":"Larry Latham"},null,null,null,{"$f":"_xlfn.IFNA(VLOOKUP($I110,Roster!$A$2:$AF$33,8,0),0)&IF(I127=\"\",\"\",\" / \"&VLOOKUP($I127,Roster!$A$2:$AF$33,8,0))","v":"Bob Reed"},null,null,null,{"$f":"A111","v":"Team 5  "}]
["Award Category","Ref","Award",null,"Award Category","Ref","Award",null,"Award Category","Ref","Award",null,"Award Category","Award"]
["Bowler High Avg.",null,null,null,"Bowler High Avg.",null,null,null,"Bowler High Avg.",null,null,null,"Bowler High Avg.",{"$f":"C114+G114+K114","v":0}]
["Bowler High Points",null,null,null,"Bowler High Points",81,null,null,"Bowler High Points",null,null,null,"Bowler High Points",0]
["Bowler High Game",null,null,null,"Bowler High Game",null,null,null,"Bowler High Game",null,null,null,"Bowler High Game",0]
["Bowler High Series",1003,{"$f":"'Prize Fund'!H40","v":30},null,"Bowler High Series",null,null,null,"Bowler High Series",null,null,null,"Bowler High Series",30]
["Team High Game",759,{"$f":"'Prize Fund'!H43/3","v":10},null,"Team High Game",{"$f":"$B118","v":759},{"$f":"$C118","v":10},null,"Team High Game",{"$f":"$B118","v":759},{"$f":"$C118","v":10},null,"Team High Game",30]
["Team High Series",null,null,null,"Team High Series",0,0,null,"Team High Series",0,0,null,"Team High Series",0]
["Segment 1 Points",{"$f":"VLOOKUP($B110,'Team Awards'!$B$6:$F$15,4,0)","v":{"$error":"#N/A"}},{"$f":"VLOOKUP($B110,'Team Awards'!$B$6:$F$15,3,0)","v":{"$error":"#N/A"}},null,"Segment 1 Points",{"$error":"#N/A"},{"$error":"#N/A"},null,"Segment 1 Points",{"$error":"#N/A"},{"$error":"#N/A"},null,"Segment 1 Points",{"$error":"#N/A"}]
["Segment 2 Points",{"$f":"VLOOKUP($B110,'Team Awards'!$G$6:$K$15,4,0)","v":{"$error":"#N/A"}},{"$f":"VLOOKUP($B110,'Team Awards'!$G$6:$K$15,3,0)","v":{"$error":"#N/A"}},null,"Segment 2 Points",{"$error":"#N/A"},{"$error":"#N/A"},null,"Segment 2 Points",{"$error":"#N/A"},{"$error":"#N/A"},null,"Segment 2 Points",{"$error":"#N/A"}]
["Segment 3 Points",{"$f":"VLOOKUP($B110,'Team Awards'!$L$6:$O$15,4,0)","v":{"$error":"#N/A"}},{"$f":"VLOOKUP($B110,'Team Awards'!$L$6:$O$15,3,0)","v":{"$error":"#N/A"}},null,"Segment 3 Points",{"$error":"#N/A"},{"$error":"#N/A"},null,"Segment 3 Points",{"$error":"#N/A"},{"$error":"#N/A"},null,"Segment 3 Points",{"$error":"#N/A"}]
["Season Team Points",null,null,null,"Season Team Points",0,0,null,"Season Team Points",0,0,null,"Season Team Points",0]
["League Championship",null,null,null,"League Championship",0,0,null,"League Championship",0,0,null,"League Championship",0]
["Over Avg. Sweeper",null,null,null,"Over Avg. Sweeper",null,null,null,"Over Avg. Sweeper",null,null,null,"Over Avg. Sweeper",0]
["Total",null,{"$f":"SUM(C114:C125)","v":{"$error":"#N/A"}},null,"Total",null,{"$f":"SUM(G114:G125)","v":{"$error":"#N/A"}},null,"Total",null,{"$f":"SUM(K114:K125)","v":{"$error":"#N/A"}},null,"Total",{"$f":"SUM(N114:N125)","v":{"$error":"#N/A"}},{"$f":"C120+C121+C122+G120+G121+G122+K120+K121+K122","v":{"$error":"#N/A"}}]
[]
[100,{"$f":"IF(C128*A128>0,C126-(C128*A128),C126)","v":{"$error":"#N/A"}},{"$f":"IF(C126>(A128-1),ROUNDDOWN(C126/A128,0),0)","v":{"$error":"#N/A"}},{"$f":"IF(D126>(A128-1),ROUNDDOWN(D126/A128,0),0)","v":0},100,{"$f":"IF(G128*E128>0,G126-(G128*E128),G126)","v":{"$error":"#N/A"}},{"$f":"IF(G126>(E128-1),ROUNDDOWN(G126/E128,0),0)","v":{"$error":"#N/A"}},null,100,{"$f":"IF(K128*I128>0,K126-(K128*I128),K126)","v":{"$error":"#N/A"}},{"$f":"IF(K126>(I128-1),ROUNDDOWN(K126/I128,0),0)","v":{"$error":"#N/A"}},null,100,{"$f":"C128+G128+K128","v":{"$error":"#N/A"}}]
[50,{"$f":"IF(C129*A129>0,B128-(C129*A129),B128)","v":{"$error":"#N/A"}},{"$f":"IF(B128>(A129-1),ROUNDDOWN(B128/A129,0),0)","v":{"$error":"#N/A"}},{"$f":"IF(C128>(A129-1),ROUNDDOWN(C128/A129,0),0)","v":{"$error":"#N/A"}},50,{"$f":"IF(G129*E129>0,F128-(G129*E129),F128)","v":{"$error":"#N/A"}},{"$f":"IF(F128>(E129-1),ROUNDDOWN(F128/E129,0),0)","v":{"$error":"#N/A"}},null,50,{"$f":"IF(K129*I129>0,J128-(K129*I129),J128)","v":{"$error":"#N/A"}},{"$f":"IF(J128>(I129-1),ROUNDDOWN(J128/I129,0),0)","v":{"$error":"#N/A"}},null,50,{"$error":"#N/A"}]
[20,{"$error":"#N/A"},{"$error":"#N/A"},{"$error":"#N/A"},20,{"$error":"#N/A"},{"$error":"#N/A"},null,20,{"$error":"#N/A"},{"$error":"#N/A"},null,20,{"$error":"#N/A"}]
[10,{"$error":"#N/A"},{"$error":"#N/A"},{"$error":"#N/A"},10,{"$error":"#N/A"},{"$error":"#N/A"},null,10,{"$error":"#N/A"},{"$error":"#N/A"},null,10,{"$error":"#N/A"}]
[5,{"$error":"#N/A"},{"$error":"#N/A"},{"$error":"#N/A"},5,{"$error":"#N/A"},{"$error":"#N/A"},null,5,{"$error":"#N/A"},{"$error":"#N/A"},null,5,{"$error":"#N/A"}]
[1,{"$error":"#N/A"},{"$error":"#N/A"},{"$error":"#N/A"},1,{"$error":"#N/A"},{"$error":"#N/A"},null,1,{"$error":"#N/A"},{"$error":"#N/A"},null,1,{"$error":"#N/A"}]
[0.25,{"$error":"#N/A"},{"$error":"#N/A"},{"$error":"#N/A"},0.25,{"$error":"#N/A"},{"$error":"#N/A"},null,0.25,{"$error":"#N/A"},{"$error":"#N/A"},null,0.25,{"$error":"#N/A"}]
[null,null,{"$f":"C128*A128+C129*A129+C130*A130+C131*A131+C132*A132+C133*A133+C134*A134","v":{"$error":"#N/A"}},{"$f":"D128*A128+D129*A129+D130*A130+D131*A131+D132*A132+D133*A133+D134*A134","v":{"$error":"#N/A"}},null,null,{"$f":"G128*E128+G129*E129+G130*E130+G131*E131+G132*E132+G133*E133+G134*E134","v":{"$error":"#N/A"}},null,null,null,{"$f":"K128*I128+K129*I129+K130*I130+K131*I131+K132*I132+K133*I133+K134*I134","v":{"$error":"#N/A"}},null,null,{"$f":"N128*M128+N129*M129+N130*M130+N131*M131+N132*M132+N133*M133+N134*M134","v":{"$error":"#N/A"}}]
[61,6,null,null,62,null,null,null,63]
[{"$f":"\"Team \"&VLOOKUP(B136,Roster!$B$2:$AF$33,1)&\"  \"&VLOOKUP(B136,Roster!$B$2:$AF$33,2)","v":"Team 6  Your Strike Shop"}]
[{"$f":"_xlfn.IFNA(VLOOKUP($A136,Roster!$A$2:$AF$33,8,0),0)&IF(A153=\"\",\"\",\" / \"&VLOOKUP($A153,Roster!$A$2:$AF$33,8,0))","v":"Ken Pavlik"},null,null,null,{"$f":"_xlfn.IFNA(VLOOKUP($E136,Roster!$A$2:$AF$33,8,0),0)&IF(E153=\"\",\"\",\" / \"&VLOOKUP($E153,Roster!$A$2:$AF$33,8,0))","v":"Mike Watt"},null,null,null,{"$f":"_xlfn.IFNA(VLOOKUP($I136,Roster!$A$2:$AF$33,8,0),0)&IF(I153=\"\",\"\",\" / \"&VLOOKUP($I153,Roster!$A$2:$AF$33,8,0))","v":"0"},null,null,null,{"$f":"A137","v":"Team 6  Your Strike Shop"}]
["Award Category","Ref","Award",null,"Award Category","Ref","Award",null,"Award Category","Ref","Award",null,"Award Category","Award"]
["Bowler High Avg.",null,null,null,"Bowler High Avg.",null,null,null,"Bowler High Avg.",null,null,null,"Bowler High Avg.",{"$f":"C140+G140+K140","v":0}]
["Bowler High Points",null,null,null,"Bowler High Points",null,null,null,"Bowler High Points",null,null,null,"Bowler High Points",0]
["Bowler High Game",null,null,null,"Bowler High Game",null,null,null,"Bowler High Game",null,null,null,"Bowler High Game",0]
["Bowler High Series",null,null,null,"Bowler High Series",null,null,null,"Bowler High Series",null,null,null,"Bowler High Series",0]
["Team High Game",null,null,null,"Team High Game",{"$f":"$B144","v":0},{"$f":"$C144","v":0},null,"Team High Game",{"$f":"$B144","v":0},{"$f":"$C144","v":0},null,"Team High Game",0]
["Team High Series",null,null,null,"Team High Series",0,0,null,"Team High Series",0,0,null,"Team High Series",0]
["Segment 1 Points",{"$f":"VLOOKUP($B136,'Team Awards'!$B$6:$F$15,4,0)","v":{"$error":"#N/A"}},{"$f":"VLOOKUP($B136,'Team Awards'!$B$6:$F$15,3,0)","v":{"$error":"#N/A"}},null,"Segment 1 Points",{"$error":"#N/A"},{"$error":"#N/A"},null,"Segment 1 Points",{"$error":"#N/A"},{"$error":"#N/A"},null,"Segment 1 Points",{"$error":"#N/A"}]
["Segment 2 Points",{"$f":"VLOOKUP($B136,'Team Awards'!$G$6:$K$15,4,0)","v":{"$error":"#N/A"}},{"$f":"VLOOKUP($B136,'Team Awards'!$G$6:$K$15,3,0)","v":{"$error":"#N/A"}},null,"Segment 2 Points",{"$error":"#N/A"},{"$error":"#N/A"},null,"Segment 2 Points",{"$error":"#N/A"},{"$error":"#N/A"},null,"Segment 2 Points",{"$error":"#N/A"}]
["Segment 3 Points",{"$f":"VLOOKUP($B136,'Team Awards'!$L$6:$O$15,4,0)","v":{"$error":"#N/A"}},{"$f":"VLOOKUP($B136,'Team Awards'!$L$6:$O$15,3,0)","v":{"$error":"#N/A"}},null,"Segment 3 Points",{"$error":"#N/A"},{"$error":"#N/A"},null,"Segment 3 Points",{"$error":"#N/A"},{"$error":"#N/A"},null,"Segment 3 Points",{"$error":"#N/A"}]
["Season Team Points",null,null,null,"Season Team Points",0,0,null,"Season Team Points",0,0,null,"Season Team Points",0]
["League Championship",null,null,null,"League Championship",0,0,null,"League Championship",0,0,null,"League Championship",0]
["Over Avg. Sweeper",null,null,null,"Over Avg. Sweeper",null,null,null,"Over Avg. Sweeper",null,null,null,"Over Avg. Sweeper",0]
["Total",null,{"$f":"SUM(C140:C151)","v":{"$error":"#N/A"}},null,"Total",null,{"$f":"SUM(G140:G151)","v":{"$error":"#N/A"}},null,"Total",null,{"$f":"SUM(K140:K151)","v":{"$error":"#N/A"}},null,"Total",{"$f":"SUM(N140:N151)","v":{"$error":"#N/A"}},{"$f":"C146+C147+C148+G146+G147+G148+K146+K147+K148","v":{"$error":"#N/A"}}]
[]
[100,{"$f":"IF(C154*A154>0,C152-(C154*A154),C152)","v":{"$error":"#N/A"}},{"$f":"IF(C152>(A154-1),ROUNDDOWN(C152/A154,0),0)","v":{"$error":"#N/A"}},{"$f":"IF(D152>(A154-1),ROUNDDOWN(D152/A154,0),0)","v":0},100,{"$f":"IF(G154*E154>0,G152-(G154*E154),G152)","v":{"$error":"#N/A"}},{"$f":"IF(G152>(E154-1),ROUNDDOWN(G152/E154,0),0)","v":{"$error":"#N/A"}},null,100,{"$f":"IF(K154*I154>0,K152-(K154*I154),K152)","v":{"$error":"#N/A"}},{"$f":"IF(K152>(I154-1),ROUNDDOWN(K152/I154,0),0)","v":{"$error":"#N/A"}},null,100,{"$f":"C154+G154+K154","v":{"$error":"#N/A"}}]
[50,{"$f":"IF(C155*A155>0,B154-(C155*A155),B154)","v":{"$error":"#N/A"}},{"$f":"IF(B154>(A155-1),ROUNDDOWN(B154/A155,0),0)","v":{"$error":"#N/A"}},{"$f":"IF(C154>(A155-1),ROUNDDOWN(C154/A155,0),0)","v":{"$error":"#N/A"}},50,{"$f":"IF(G155*E155>0,F154-(G155*E155),F154)","v":{"$error":"#N/A"}},{"$f":"IF(F154>(E155-1),ROUNDDOWN(F154/E155,0),0)","v":{"$error":"#N/A"}},null,50,{"$f":"IF(K155*I155>0,J154-(K155*I155),J154)","v":{"$error":"#N/A"}},{"$f":"IF(J154>(I155-1),ROUNDDOWN(J154/I155,0),0)","v":{"$error":"#N/A"}},null,50,{"$error":"#N/A"}]
[20,{"$error":"#N/A"},{"$error":"#N/A"},{"$error":"#N/A"},20,{"$error":"#N/A"},{"$error":"#N/A"},null,20,{"$error":"#N/A"},{"$error":"#N/A"},null,20,{"$error":"#N/A"}]
[10,{"$error":"#N/A"},{"$error":"#N/A"},{"$error":"#N/A"},10,{"$error":"#N/A"},{"$error":"#N/A"},null,10,{"$error":"#N/A"},{"$error":"#N/A"},null,10,{"$error":"#N/A"}]
[5,{"$error":"#N/A"},{"$error":"#N/A"},{"$error":"#N/A"},5,{"$error":"#N/A"},{"$error":"#N/A"},null,5,{"$error":"#N/A"},{"$error":"#N/A"},null,5,{"$error":"#N/A"}]
[1,{"$error":"#N/A"},{"$error":"#N/A"},{"$error":"#N/A"},1,{"$error":"#N/A"},{"$error":"#N/A"},null,1,{"$error":"#N/A"},{"$error":"#N/A"},null,1,{"$error":"#N/A"}]
[0.25,{"$error":"#N/A"},{"$error":"#N/A"},{"$error":"#N/A"},0.25,{"$error":"#N/A"},{"$error":"#N/A"},null,0.25,{"$error":"#N/A"},{"$error":"#N/A"},null,0.25,{"$error":"#N/A"}]
[null,null,{"$f":"C154*A154+C155*A155+C156*A156+C157*A157+C158*A158+C159*A159+C160*A160","v":{"$error":"#N/A"}},{"$f":"D154*A154+D155*A155+D156*A156+D157*A157+D158*A158+D159*A159+D160*A160","v":{"$error":"#N/A"}},null,null,{"$f":"G154*E154+G155*E155+G156*E156+G157*E157+G158*E158+G159*E159+G160*E160","v":{"$error":"#N/A"}},null,null,null,{"$f":"K154*I154+K155*I155+K156*I156+K157*I157+K158*I158+K159*I159+K160*I160","v":{"$error":"#N/A"}},null,null,{"$f":"N154*M154+N155*M155+N156*M156+N157*M157+N158*M158+N159*M159+N160*M160","v":{"$error":"#N/A"}}]
[71,7,null,null,72,null,null,null,73]
[{"$f":"\"Team \"&VLOOKUP(B162,Roster!$B$2:$AF$33,1)&\"  \"&VLOOKUP(B162,Roster!$B$2:$AF$33,2)","v":"Team 7  Bitburgers"}]
[{"$f":"_xlfn.IFNA(VLOOKUP($A162,Roster!$A$2:$AF$33,8,0),0)&IF(A179=\"\",\"\",\" / \"&VLOOKUP($A179,Roster!$A$2:$AF$33,8,0))","v":"Paul Kleckner"},null,null,null,{"$f":"_xlfn.IFNA(VLOOKUP($E162,Roster!$A$2:$AF$33,8,0),0)&IF(E179=\"\",\"\",\" / \"&VLOOKUP($E179,Roster!$A$2:$AF$33,8,0))","v":"Bob Edge"},null,null,null,{"$f":"_xlfn.IFNA(VLOOKUP($I162,Roster!$A$2:$AF$33,8,0),0)&IF(I179=\"\",\"\",\" / \"&VLOOKUP($I179,Roster!$A$2:$AF$33,8,0))","v":"Terry Camp"},null,null,null,{"$f":"A163","v":"Team 7  Bitburgers"}]
["Award Category","Ref","Award",null,"Award Category","Ref","Award",null,"Award Category","Ref","Award",null,"Award Category","Award"]
["Bowler High Avg.",null,null,null,"Bowler High Avg.",null,null,null,"Bowler High Avg.",null,null,null,"Bowler High Avg.",{"$f":"C166+G166+K166","v":0}]
["Bowler High Points",null,null,null,"Bowler High Points",null,null,null,"Bowler High Points",null,null,null,"Bowler High Points",0]
["Bowler High Game",null,null,null,"Bowler High Game",null,null,null,"Bowler High Game",null,null,null,"Bowler High Game",0]
["Bowler High Series",null,null,null,"Bowler High Series",null,null,null,"Bowler High Series",1005,{"$f":"'Prize Fund'!G40","v":50},null,"Bowler High Series",50]
["Team High Game",769,{"$f":"'Prize Fund'!G43/3","v":20},null,"Team High Game",{"$f":"$B170","v":769},{"$f":"$C170","v":20},null,"Team High Game",{"$f":"$B170","v":769},{"$f":"$C170","v":20},null,"Team High Game",60]
["Team High Series",2758,null,null,"Team High Series",2758,0,null,"Team High Series",2758,0,null,"Team High Series",0]
["Segment 1 Points",{"$f":"VLOOKUP($B162,'Team Awards'!$B$6:$F$15,4,0)","v":{"$error":"#N/A"}},{"$f":"VLOOKUP($B162,'Team Awards'!$B$6:$F$15,3,0)","v":{"$error":"#N/A"}},null,"Segment 1 Points",{"$error":"#N/A"},{"$error":"#N/A"},null,"Segment 1 Points",{"$error":"#N/A"},{"$error":"#N/A"},null,"Segment 1 Points",{"$error":"#N/A"}]
["Segment 2 Points",{"$f":"VLOOKUP($B162,'Team Awards'!$G$6:$K$15,4,0)","v":{"$error":"#N/A"}},{"$f":"VLOOKUP($B162,'Team Awards'!$G$6:$K$15,3,0)","v":{"$error":"#N/A"}},null,"Segment 2 Points",{"$error":"#N/A"},{"$error":"#N/A"},null,"Segment 2 Points",{"$error":"#N/A"},{"$error":"#N/A"},null,"Segment 2 Points",{"$error":"#N/A"}]
["Segment 3 Points",{"$f":"VLOOKUP($B162,'Team Awards'!$L$6:$O$15,4,0)","v":{"$error":"#N/A"}},{"$f":"VLOOKUP($B162,'Team Awards'!$L$6:$O$15,3,0)","v":{"$error":"#N/A"}},null,"Segment 3 Points",{"$error":"#N/A"},{"$error":"#N/A"},null,"Segment 3 Points",{"$error":"#N/A"},{"$error":"#N/A"},null,"Segment 3 Points",{"$error":"#N/A"}]
["Season Team Points",null,null,null,"Season Team Points",0,0,null,"Season Team Points",0,0,null,"Season Team Points",0]
["League Championship",null,null,null,"League Championship",0,0,null,"League Championship",0,0,null,"League Championship",0]
["Over Avg. Sweeper",null,null,null,"Over Avg. Sweeper",null,null,null,"Over Avg. Sweeper",null,null,null,"Over Avg. Sweeper",0]
["Total",null,{"$f":"SUM(C166:C177)","v":{"$error":"#N/A"}},null,"Total",null,{"$f":"SUM(G166:G177)","v":{"$error":"#N/A"}},null,"Total",null,{"$f":"SUM(K166:K177)","v":{"$error":"#N/A"}},null,"Total",{"$f":"SUM(N166:N177)","v":{"$error":"#N/A"}},{"$f":"C172+C173+C174+G172+G173+G174+K172+K173+K174","v":{"$error":"#N/A"}}]
[]
[100,{"$f":"IF(C180*A180>0,C178-(C180*A180),C178)","v":{"$error":"#N/A"}},{"$f":"IF(C178>(A180-1),ROUNDDOWN(C178/A180,0),0)","v":{"$error":"#N/A"}},{"$f":"IF(D178>(A180-1),ROUNDDOWN(D178/A180,0),0)","v":0},100,{"$f":"IF(G180*E180>0,G178-(G180*E180),G178)","v":{"$error":"#N/A"}},{"$f":"IF(G178>(E180-1),ROUNDDOWN(G178/E180,0),0)","v":{"$error":"#N/A"}},null,100,{"$f":"IF(K180*I180>0,K178-(K180*I180),K178)","v":{"$error":"#N/A"}},{"$f":"IF(K178>(I180-1),ROUNDDOWN(K178/I180,0),0)","v":{"$error":"#N/A"}},null,100,{"$f":"C180+G180+K180","v":{"$error":"#N/A"}}]
[50,{"$f":"IF(C181*A181>0,B180-(C181*A181),B180)","v":{"$error":"#N/A"}},{"$f":"IF(B180>(A181-1),ROUNDDOWN(B180/A181,0),0)","v":{"$error":"#N/A"}},{"$f":"IF(C180>(A181-1),ROUNDDOWN(C180/A181,0),0)","v":{"$error":"#N/A"}},50,{"$f":"IF(G181*E181>0,F180-(G181*E181),F180)","v":{"$error":"#N/A"}},{"$f":"IF(F180>(E181-1),ROUNDDOWN(F180/E181,0),0)","v":{"$error":"#N/A"}},null,50,{"$f":"IF(K181*I181>0,J180-(K181*I181),J180)","v":{"$error":"#N/A"}},{"$f":"IF(J180>(I181-1),ROUNDDOWN(J180/I181,0),0)","v":{"$error":"#N/A"}},null,50,{"$error":"#N/A"}]
[20,{"$error":"#N/A"},{"$error":"#N/A"},{"$error":"#N/A"},20,{"$error":"#N/A"},{"$error":"#N/A"},null,20,{"$error":"#N/A"},{"$error":"#N/A"},null,20,{"$error":"#N/A"}]
[10,{"$error":"#N/A"},{"$error":"#N/A"},{"$error":"#N/A"},10,{"$error":"#N/A"},{"$error":"#N/A"},null,10,{"$error":"#N/A"},{"$error":"#N/A"},null,10,{"$error":"#N/A"}]
[5,{"$error":"#N/A"},{"$error":"#N/A"},{"$error":"#N/A"},5,{"$error":"#N/A"},{"$error":"#N/A"},null,5,{"$error":"#N/A"},{"$error":"#N/A"},null,5,{"$error":"#N/A"}]
[1,{"$error":"#N/A"},{"$error":"#N/A"},{"$error":"#N/A"},1,{"$error":"#N/A"},{"$error":"#N/A"},null,1,{"$error":"#N/A"},{"$error":"#N/A"},null,1,{"$error":"#N/A"}]
[0.25,{"$error":"#N/A"},{"$error":"#N/A"},{"$error":"#N/A"},0.25,{"$error":"#N/A"},{"$error":"#N/A"},null,0.25,{"$error":"#N/A"},{"$error":"#N/A"},null,0.25,{"$error":"#N/A"}]
[null,null,{"$f":"C180*A180+C181*A181+C182*A182+C183*A183+C184*A184+C185*A185+C186*A186","v":{"$error":"#N/A"}},{"$f":"D180*A180+D181*A181+D182*A182+D183*A183+D184*A184+D185*A185+D186*A186","v":{"$error":"#N/A"}},null,null,{"$f":"G180*E180+G181*E181+G182*E182+G183*E183+G184*E184+G185*E185+G186*E186","v":{"$error":"#N/A"}},null,null,null,{"$f":"K180*I180+K181*I181+K182*I182+K183*I183+K184*I184+K185*I185+K186*I186","v":{"$error":"#N/A"}},null,null,{"$f":"N180*M180+N181*M181+N182*M182+N183*M183+N184*M184+N185*M185+N186*M186","v":{"$error":"#N/A"}}]
[81,8,null,null,82,null,null,null,83]
[{"$f":"\"Team \"&VLOOKUP(B188,Roster!$B$2:$AF$33,1)&\"  \"&VLOOKUP(B188,Roster!$B$2:$AF$33,2)","v":"Team 8  Brenda's Kitchen"}]
[{"$f":"_xlfn.IFNA(VLOOKUP($A188,Roster!$A$2:$AF$33,8,0),0)&IF(A205=\"\",\"\",\" / \"&VLOOKUP($A205,Roster!$A$2:$AF$33,8,0))","v":"Dan Imholte"},null,null,null,{"$f":"_xlfn.IFNA(VLOOKUP($E188,Roster!$A$2:$AF$33,8,0),0)&IF(E205=\"\",\"\",\" / \"&VLOOKUP($E205,Roster!$A$2:$AF$33,8,0))","v":"Terry Hamman"},null,null,null,{"$f":"_xlfn.IFNA(VLOOKUP($I188,Roster!$A$2:$AF$33,8,0),0)&IF(I205=\"\",\"\",\" / \"&VLOOKUP($I205,Roster!$A$2:$AF$33,8,0))","v":"Gary Bentley"},null,null,null,{"$f":"A189","v":"Team 8  Brenda's Kitchen"}]
["Award Category","Ref","Award",null,"Award Category","Ref","Award",null,"Award Category","Ref","Award",null,"Award Category","Award"]
["Bowler High Avg.",null,null,null,"Bowler High Avg.",null,null,null,"Bowler High Avg.",null,null,null,"Bowler High Avg.",{"$f":"C192+G192+K192","v":0}]
["Bowler High Points",null,null,null,"Bowler High Points",null,null,null,"Bowler High Points",null,null,null,"Bowler High Points",0]
["Bowler High Game",null,null,null,"Bowler High Game",null,null,null,"Bowler High Game",null,null,null,"Bowler High Game",0]
["Bowler High Series",null,null,null,"Bowler High Series",null,null,null,"Bowler High Series",null,null,null,"Bowler High Series",0]
["Team High Game",null,null,null,"Team High Game",{"$f":"$B196","v":0},{"$f":"$C196","v":0},null,"Team High Game",{"$f":"$B196","v":0},{"$f":"$C196","v":0},null,"Team High Game",0]
["Team High Series",null,null,null,"Team High Series",0,0,null,"Team High Series",0,0,null,"Team High Series",0]
["Segment 1 Points",{"$f":"VLOOKUP($B188,'Team Awards'!$B$6:$F$15,4,0)","v":{"$error":"#N/A"}},{"$f":"VLOOKUP($B188,'Team Awards'!$B$6:$F$15,3,0)","v":{"$error":"#N/A"}},null,"Segment 1 Points",{"$error":"#N/A"},{"$error":"#N/A"},null,"Segment 1 Points",{"$error":"#N/A"},{"$error":"#N/A"},null,"Segment 1 Points",{"$error":"#N/A"}]
["Segment 2 Points",{"$f":"VLOOKUP($B188,'Team Awards'!$G$6:$K$15,4,0)","v":{"$error":"#N/A"}},{"$f":"VLOOKUP($B188,'Team Awards'!$G$6:$K$15,3,0)","v":{"$error":"#N/A"}},null,"Segment 2 Points",{"$error":"#N/A"},{"$error":"#N/A"},null,"Segment 2 Points",{"$error":"#N/A"},{"$error":"#N/A"},null,"Segment 2 Points",{"$error":"#N/A"}]
["Segment 3 Points",{"$f":"VLOOKUP($B188,'Team Awards'!$L$6:$O$15,4,0)","v":{"$error":"#N/A"}},{"$f":"VLOOKUP($B188,'Team Awards'!$L$6:$O$15,3,0)","v":{"$error":"#N/A"}},null,"Segment 3 Points",{"$error":"#N/A"},{"$error":"#N/A"},null,"Segment 3 Points",{"$error":"#N/A"},{"$error":"#N/A"},null,"Segment 3 Points",{"$error":"#N/A"}]
["Season Team Points",null,null,null,"Season Team Points",0,0,null,"Season Team Points",0,0,null,"Season Team Points",0]
["League Championship",null,null,null,"League Championship",0,0,null,"League Championship",0,0,null,"League Championship",0]
["Over Avg. Sweeper",null,null,null,"Over Avg. Sweeper",null,null,null,"Over Avg. Sweeper",null,null,null,"Over Avg. Sweeper",0]
["Total",null,{"$f":"SUM(C192:C203)","v":{"$error":"#N/A"}},null,"Total",null,{"$f":"SUM(G192:G203)","v":{"$error":"#N/A"}},null,"Total",null,{"$f":"SUM(K192:K203)","v":{"$error":"#N/A"}},null,"Total",{"$f":"SUM(N192:N203)","v":{"$error":"#N/A"}},{"$f":"C198+C199+C200+G198+G199+G200+K198+K199+K200","v":{"$error":"#N/A"}}]
[]
[100,{"$f":"IF(C206*A206>0,C204-(C206*A206),C204)","v":{"$error":"#N/A"}},{"$f":"IF(C204>(A206-1),ROUNDDOWN(C204/A206,0),0)","v":{"$error":"#N/A"}},{"$f":"IF(D204>(A206-1),ROUNDDOWN(D204/A206,0),0)","v":0},100,{"$f":"IF(G206*E206>0,G204-(G206*E206),G204)","v":{"$error":"#N/A"}},{"$f":"IF(G204>(E206-1),ROUNDDOWN(G204/E206,0),0)","v":{"$error":"#N/A"}},null,100,{"$f":"IF(K206*I206>0,K204-(K206*I206),K204)","v":{"$error":"#N/A"}},{"$f":"IF(K204>(I206-1),ROUNDDOWN(K204/I206,0),0)","v":{"$error":"#N/A"}},null,100,{"$f":"C206+G206+K206","v":{"$error":"#N/A"}}]
[50,{"$f":"IF(C207*A207>0,B206-(C207*A207),B206)","v":{"$error":"#N/A"}},{"$f":"IF(B206>(A207-1),ROUNDDOWN(B206/A207,0),0)","v":{"$error":"#N/A"}},{"$f":"IF(C206>(A207-1),ROUNDDOWN(C206/A207,0),0)","v":{"$error":"#N/A"}},50,{"$f":"IF(G207*E207>0,F206-(G207*E207),F206)","v":{"$error":"#N/A"}},{"$f":"IF(F206>(E207-1),ROUNDDOWN(F206/E207,0),0)","v":{"$error":"#N/A"}},null,50,{"$f":"IF(K207*I207>0,J206-(K207*I207),J206)","v":{"$error":"#N/A"}},{"$f":"IF(J206>(I207-1),ROUNDDOWN(J206/I207,0),0)","v":{"$error":"#N/A"}},null,50,{"$error":"#N/A"}]
[20,{"$error":"#N/A"},{"$error":"#N/A"},{"$error":"#N/A"},20,{"$error":"#N/A"},{"$error":"#N/A"},null,20,{"$error":"#N/A"},{"$error":"#N/A"},null,20,{"$error":"#N/A"}]
[10,{"$error":"#N/A"},{"$error":"#N/A"},{"$error":"#N/A"},10,{"$error":"#N/A"},{"$error":"#N/A"},null,10,{"$error":"#N/A"},{"$error":"#N/A"},null,10,{"$error":"#N/A"}]
[5,{"$error":"#N/A"},{"$error":"#N/A"},{"$error":"#N/A"},5,{"$error":"#N/A"},{"$error":"#N/A"},null,5,{"$error":"#N/A"},{"$error":"#N/A"},null,5,{"$error":"#N/A"}]
[1,{"$error":"#N/A"},{"$error":"#N/A"},{"$error":"#N/A"},1,{"$error":"#N/A"},{"$error":"#N/A"},null,1,{"$error":"#N/A"},{"$error":"#N/A"},null,1,{"$error":"#N/A"}]
[0.25,{"$error":"#N/A"},{"$error":"#N/A"},{"$error":"#N/A"},0.25,{"$error":"#N/A"},{"$error":"#N/A"},null,0.25,{"$error":"#N/A"},{"$error":"#N/A"},null,0.25,{"$error":"#N/A"}]
[null,null,{"$f":"C206*A206+C207*A207+C208*A208+C209*A209+C210*A210+C211*A211+C212*A212","v":{"$error":"#N/A"}},{"$f":"D206*A206+D207*A207+D208*A208+D209*A209+D210*A210+D211*A211+D212*A212","v":{"$error":"#N/A"}},null,null,{"$f":"G206*E206+G207*E207+G208*E208+G209*E209+G210*E210+G211*E211+G212*E212","v":{"$error":"#N/A"}},null,null,null,{"$f":"K206*I206+K207*I207+K208*I208+K209*I209+K210*I210+K211*I211+K212*I212","v":{"$error":"#N/A"}},null,null,{"$f":"N206*M206+N207*M207+N208*M208+N209*M209+N210*M210+N211*M211+N212*M212","v":{"$error":"#N/A"}}]
[91,9,null,null,92,null,null,null,93]
[{"$f":"\"Team \"&VLOOKUP(B214,Roster!$B$2:$AF$33,1)&\"  \"&VLOOKUP(B214,Roster!$B$2:$AF$33,2)","v":"Team 9  "}]
[{"$f":"_xlfn.IFNA(VLOOKUP($A214,Roster!$A$2:$AF$33,8,0),0)&IF(A231=\"\",\"\",\" / \"&VLOOKUP($A231,Roster!$A$2:$AF$33,8,0))","v":"Joe Couch"},null,null,null,{"$f":"_xlfn.IFNA(VLOOKUP($E214,Roster!$A$2:$AF$33,8,0),0)&IF(E231=\"\",\"\",\" / \"&VLOOKUP($E231,Roster!$A$2:$AF$33,8,0))","v":"Paul Williams"},null,null,null,{"$f":"_xlfn.IFNA(VLOOKUP($I214,Roster!$A$2:$AF$33,8,0),0)&IF(I231=\"\",\"\",\" / \"&VLOOKUP($I231,Roster!$A$2:$AF$33,8,0))","v":"Ted Bogumil"},null,null,null,{"$f":"A215","v":"Team 9  "}]
["Award Category","Ref","Award",null,"Award Category","Ref","Award",null,"Award Category","Ref","Award",null,"Award Category","Award"]
["Bowler High Avg.",null,null,null,"Bowler High Avg.",null,null,null,"Bowler High Avg.",null,null,null,"Bowler High Avg.",{"$f":"C218+G218+K218","v":0}]
["Bowler High Points",null,null,null,"Bowler High Points",null,null,null,"Bowler High Points",null,null,null,"Bowler High Points",0]
["Bowler High Game",299,null,null,"Bowler High Game",null,null,null,"Bowler High Game",300,{"$f":"ROUNDUP(('Prize Fund'!$G$39+'Prize Fund'!$H$39)/4,0)","v":20},null,"Bowler High Game",20]
["Bowler High Series",null,null,null,"Bowler High Series",null,null,null,"Bowler High Series",null,null,null,"Bowler High Series",0]
["Team High Game",null,null,null,"Team High Game",{"$f":"$B222","v":0},{"$f":"$C222","v":0},null,"Team High Game",{"$f":"$B222","v":0},{"$f":"$C222","v":0},null,"Team High Game",0]
["Team High Series",null,null,null,"Team High Series",0,0,null,"Team High Series",0,0,null,"Team High Series",0]
["Segment 1 Points",{"$f":"VLOOKUP($B214,'Team Awards'!$B$6:$F$15,4,0)","v":{"$error":"#N/A"}},{"$f":"VLOOKUP($B214,'Team Awards'!$B$6:$F$15,3,0)","v":{"$error":"#N/A"}},null,"Segment 1 Points",{"$error":"#N/A"},{"$error":"#N/A"},null,"Segment 1 Points",{"$error":"#N/A"},{"$error":"#N/A"},null,"Segment 1 Points",{"$error":"#N/A"}]
["Segment 2 Points",{"$f":"VLOOKUP($B214,'Team Awards'!$G$6:$K$15,4,0)","v":{"$error":"#N/A"}},{"$f":"VLOOKUP($B214,'Team Awards'!$G$6:$K$15,3,0)","v":{"$error":"#N/A"}},null,"Segment 2 Points",{"$error":"#N/A"},{"$error":"#N/A"},null,"Segment 2 Points",{"$error":"#N/A"},{"$error":"#N/A"},null,"Segment 2 Points",{"$error":"#N/A"}]
["Segment 3 Points",{"$f":"VLOOKUP($B214,'Team Awards'!$L$6:$O$15,4,0)","v":{"$error":"#N/A"}},{"$f":"VLOOKUP($B214,'Team Awards'!$L$6:$O$15,3,0)","v":{"$error":"#N/A"}},null,"Segment 3 Points",{"$error":"#N/A"},{"$error":"#N/A"},null,"Segment 3 Points",{"$error":"#N/A"},{"$error":"#N/A"},null,"Segment 3 Points",{"$error":"#N/A"}]
["Season Team Points",null,null,null,"Season Team Points",0,0,null,"Season Team Points",0,0,null,"Season Team Points",0]
["League Championship",null,null,null,"League Championship",0,0,null,"League Championship",0,0,null,"League Championship",0]
["Over Avg. Sweeper",null,null,null,"Over Avg. Sweeper",null,null,null,"Over Avg. Sweeper",null,null,null,"Over Avg. Sweeper",0]
["Total",null,{"$f":"SUM(C218:C229)","v":{"$error":"#N/A"}},null,"Total",null,{"$f":"SUM(G218:G229)","v":{"$error":"#N/A"}},null,"Total",null,{"$f":"SUM(K218:K229)","v":{"$error":"#N/A"}},null,"Total",{"$f":"SUM(N218:N229)","v":{"$error":"#N/A"}},{"$f":"C224+C225+C226+G224+G225+G226+K224+K225+K226","v":{"$error":"#N/A"}}]
[]
[100,{"$f":"IF(C232*A232>0,C230-(C232*A232),C230)","v":{"$error":"#N/A"}},{"$f":"IF(C230>(A232-1),ROUNDDOWN(C230/A232,0),0)","v":{"$error":"#N/A"}},{"$f":"IF(D230>(A232-1),ROUNDDOWN(D230/A232,0),0)","v":0},100,{"$f":"IF(G232*E232>0,G230-(G232*E232),G230)","v":{"$error":"#N/A"}},{"$f":"IF(G230>(E232-1),ROUNDDOWN(G230/E232,0),0)","v":{"$error":"#N/A"}},null,100,{"$f":"IF(K232*I232>0,K230-(K232*I232),K230)","v":{"$error":"#N/A"}},{"$f":"IF(K230>(I232-1),ROUNDDOWN(K230/I232,0),0)","v":{"$error":"#N/A"}},null,100,{"$f":"C232+G232+K232","v":{"$error":"#N/A"}}]
[50,{"$f":"IF(C233*A233>0,B232-(C233*A233),B232)","v":{"$error":"#N/A"}},{"$f":"IF(B232>(A233-1),ROUNDDOWN(B232/A233,0),0)","v":{"$error":"#N/A"}},{"$f":"IF(C232>(A233-1),ROUNDDOWN(C232/A233,0),0)","v":{"$error":"#N/A"}},50,{"$f":"IF(G233*E233>0,F232-(G233*E233),F232)","v":{"$error":"#N/A"}},{"$f":"IF(F232>(E233-1),ROUNDDOWN(F232/E233,0),0)","v":{"$error":"#N/A"}},null,50,{"$f":"IF(K233*I233>0,J232-(K233*I233),J232)","v":{"$error":"#N/A"}},{"$f":"IF(J232>(I233-1),ROUNDDOWN(J232/I233,0),0)","v":{"$error":"#N/A"}},null,50,{"$error":"#N/A"}]
[20,{"$error":"#N/A"},{"$error":"#N/A"},{"$error":"#N/A"},20,{"$error":"#N/A"},{"$error":"#N/A"},null,20,{"$error":"#N/A"},{"$error":"#N/A"},null,20,{"$error":"#N/A"}]
[10,{"$error":"#N/A"},{"$error":"#N/A"},{"$error":"#N/A"},10,{"$error":"#N/A"},{"$error":"#N/A"},null,10,{"$error":"#N/A"},{"$error":"#N/A"},null,10,{"$error":"#N/A"}]
[5,{"$error":"#N/A"},{"$error":"#N/A"},{"$error":"#N/A"},5,{"$error":"#N/A"},{"$error":"#N/A"},null,5,{"$error":"#N/A"},{"$error":"#N/A"},null,5,{"$error":"#N/A"}]
[1,{"$error":"#N/A"},{"$error":"#N/A"},{"$error":"#N/A"},1,{"$error":"#N/A"},{"$error":"#N/A"},null,1,{"$error":"#N/A"},{"$error":"#N/A"},null,1,{"$error":"#N/A"}]
[0.25,{"$error":"#N/A"},{"$error":"#N/A"},{"$error":"#N/A"},0.25,{"$error":"#N/A"},{"$error":"#N/A"},null,0.25,{"$error":"#N/A"},{"$error":"#N/A"},null,0.25,{"$error":"#N/A"}]
[null,null,{"$f":"C232*A232+C233*A233+C234*A234+C235*A235+C236*A236+C237*A237+C238*A238","v":{"$error":"#N/A"}},{"$f":"D232*A232+D233*A233+D234*A234+D235*A235+D236*A236+D237*A237+D238*A238","v":{"$error":"#N/A"}},null,null,{"$f":"G232*E232+G233*E233+G234*E234+G235*E235+G236*E236+G237*E237+G238*E238","v":{"$error":"#N/A"}},null,null,null,{"$f":"K232*I232+K233*I233+K234*I234+K235*I235+K236*I236+K237*I237+K238*I238","v":{"$error":"#N/A"}},null,null,{"$f":"N232*M232+N233*M233+N234*M234+N235*M235+N236*M236+N237*M237+N238*M238","v":{"$error":"#N/A"}}]
[101,10,null,null,102,null,null,null,103]
[{"$f":"\"Team \"&VLOOKUP(B240,Roster!$B$2:$AF$33,1)&\"  \"&VLOOKUP(B240,Roster!$B$2:$AF$33,2)","v":"Team 10  Vital Care"}]
[{"$f":"_xlfn.IFNA(VLOOKUP($A240,Roster!$A$2:$AF$33,8,0),0)&IF(A257=\"\",\"\",\" / \"&VLOOKUP($A257,Roster!$A$2:$AF$33,8,0))","v":"Andy Lewis"},null,null,null,{"$f":"_xlfn.IFNA(VLOOKUP($E240,Roster!$A$2:$AF$33,8,0),0)&IF(E257=\"\",\"\",\" / \"&VLOOKUP($E257,Roster!$A$2:$AF$33,8,0))","v":"Dennis Barnes"},null,null,null,{"$f":"_xlfn.IFNA(VLOOKUP($I240,Roster!$A$2:$AF$33,8,0),0)&IF(I257=\"\",\"\",\" / \"&VLOOKUP($I257,Roster!$A$2:$AF$33,8,0))","v":"Gary McCoy"},null,null,null,{"$f":"A241","v":"Team 10  Vital Care"}]
["Award Category","Ref","Award",null,"Award Category","Ref","Award",null,"Award Category","Ref","Award",null,"Award Category","Award",null,null,null,null,null,null,null,null,null,null,"Bank",null,9393.81]
["Bowler High Avg.",null,null,null,"Bowler High Avg.",null,null,null,"Bowler High Avg.",null,null,null,"Bowler High Avg.",{"$f":"C244+G244+K244","v":0},null,null,null,null,null,null,null,null,null,null,"Lineage Due",null,{"$f":"3*247.5","v":742.5}]
["Bowler High Points",null,null,null,"Bowler High Points",null,null,null,"Bowler High Points",null,null,null,"Bowler High Points",0,null,null,null,null,null,null,null,null,null,null,"OA Lineage",null,{"$f":"30*4","v":120}]
["Bowler High Game",null,null,null,"Bowler High Game",null,null,null,"Bowler High Game",290,null,null,"Bowler High Game",0,null,null,null,null,null,null,null,null,null,null,"Available",null,{"$f":"AA243-AA244-AA245","v":8531.31}]
["Bowler High Series",null,null,null,"Bowler High Series",null,null,null,"Bowler High Series",null,null,null,"Bowler High Series",0]
["Team High Game",null,null,null,"Team High Game",{"$f":"$B248","v":0},{"$f":"$C248","v":0},null,"Team High Game",{"$f":"$B248","v":0},{"$f":"$C248","v":0},null,"Team High Game",0,null,null,null,null,null,null,null,null,null,null,"Admin Fee",null,465]
["Team High Series",null,null,null,"Team High Series",0,0,null,"Team High Series",0,0,null,"Team High Series",0,null,null,null,null,null,null,null,null,null,null,"Over Avg Tournment",null,390]
["Segment 1 Points",{"$f":"VLOOKUP($B240,'Team Awards'!$B$6:$F$15,4,0)","v":{"$error":"#N/A"}},{"$f":"VLOOKUP($B240,'Team Awards'!$B$6:$F$15,3,0)","v":{"$error":"#N/A"}},null,"Segment 1 Points",{"$error":"#N/A"},{"$error":"#N/A"},null,"Segment 1 Points",{"$error":"#N/A"},{"$error":"#N/A"},null,"Segment 1 Points",{"$error":"#N/A"},null,null,null,null,null,null,null,null,null,null,null,null,{"$f":"AA246-AA248-AA249","v":7676.3099999999995}]
["Segment 2 Points",{"$f":"VLOOKUP($B240,'Team Awards'!$G$6:$K$15,4,0)","v":{"$error":"#N/A"}},{"$f":"VLOOKUP($B240,'Team Awards'!$G$6:$K$15,3,0)","v":{"$error":"#N/A"}},null,"Segment 2 Points",{"$error":"#N/A"},{"$error":"#N/A"},null,"Segment 2 Points",{"$error":"#N/A"},{"$error":"#N/A"},null,"Segment 2 Points",{"$error":"#N/A"}]
["Segment 3 Points",{"$f":"VLOOKUP($B240,'Team Awards'!$L$6:$O$15,4,0)","v":{"$error":"#N/A"}},{"$f":"VLOOKUP($B240,'Team Awards'!$L$6:$O$15,3,0)","v":{"$error":"#N/A"}},null,"Segment 3 Points",{"$error":"#N/A"},{"$error":"#N/A"},null,"Segment 3 Points",{"$error":"#N/A"},{"$error":"#N/A"},null,"Segment 3 Points",{"$error":"#N/A"},null,null,null,null,null,null,null,null,null,null,"Weeks",null,31]
["Season Team Points",null,null,null,"Season Team Points",0,0,null,"Season Team Points",0,0,null,"Season Team Points",0,null,null,null,null,null,null,null,null,null,null,"Bowlers",null,30]
["League Championship",null,null,null,"League Championship",0,0,null,"League Championship",0,0,null,"League Championship",0,null,null,null,null,null,null,null,null,null,null,"League Fees",null,17,null,{"$f":"AA254*AA253*AA252","v":15810}]
["Over Avg. Sweeper",null,null,null,"Over Avg. Sweeper",null,null,null,"Over Avg. Sweeper",null,null,null,"Over Avg. Sweeper",0,null,null,null,null,null,null,null,null,null,null,"Lineage",null,7.25,null,{"$f":"AA255*AA253*AA252","v":6742.5}]
["Total",null,{"$f":"SUM(C244:C255)","v":{"$error":"#N/A"}},null,"Total",null,{"$f":"SUM(G244:G255)","v":{"$error":"#N/A"}},null,"Total",null,{"$f":"SUM(K244:K255)","v":{"$error":"#N/A"}},null,"Total",{"$f":"SUM(N244:N255)","v":{"$error":"#N/A"}},{"$f":"C250+C251+C252+G250+G251+G252+K250+K251+K252","v":{"$error":"#N/A"}},null,null,null,null,null,null,null,null,null,"Admin Fee",null,0.5,null,{"$f":"AA253*AA252*AA256","v":465},null,null,null,{"$f":"AC256","v":465}]
[]
[100,{"$f":"IF(C258*A258>0,C256-(C258*A258),C256)","v":{"$error":"#N/A"}},{"$f":"IF(C256>(A258-1),ROUNDDOWN(C256/A258,0),0)","v":{"$error":"#N/A"}},{"$f":"IF(D256>(A258-1),ROUNDDOWN(D256/A258,0),0)","v":0},100,{"$f":"IF(G258*E258>0,G256-(G258*E258),G256)","v":{"$error":"#N/A"}},{"$f":"IF(G256>(E258-1),ROUNDDOWN(G256/E258,0),0)","v":{"$error":"#N/A"}},null,100,{"$f":"IF(K258*I258>0,K256-(K258*I258),K256)","v":{"$error":"#N/A"}},{"$f":"IF(K256>(I258-1),ROUNDDOWN(K256/I258,0),0)","v":{"$error":"#N/A"}},null,100,{"$f":"C258+G258+K258","v":{"$error":"#N/A"}},{"$f":"O17+O45+O72+O99+O126+O152+O178+O204+O230+O256","v":{"$error":"#N/A"}},null,null,null,null,null,null,null,null,null,"Over Avg Tournament",null,{"$f":"(AA254-4)*AA253","v":390},null,{"$f":"AA258","v":390},null,null,null,{"$f":"AC258","v":390}]
[50,{"$f":"IF(C259*A259>0,B258-(C259*A259),B258)","v":{"$error":"#N/A"}},{"$f":"IF(B258>(A259-1),ROUNDDOWN(B258/A259,0),0)","v":{"$error":"#N/A"}},{"$f":"IF(C258>(A259-1),ROUNDDOWN(C258/A259,0),0)","v":{"$error":"#N/A"}},50,{"$f":"IF(G259*E259>0,F258-(G259*E259),F258)","v":{"$error":"#N/A"}},{"$f":"IF(F258>(E259-1),ROUNDDOWN(F258/E259,0),0)","v":{"$error":"#N/A"}},null,50,{"$f":"IF(K259*I259>0,J258-(K259*I259),J258)","v":{"$error":"#N/A"}},{"$f":"IF(J258>(I259-1),ROUNDDOWN(J258/I259,0),0)","v":{"$error":"#N/A"}},null,50,{"$error":"#N/A"},null,null,null,null,null,null,null,null,null,null,"Avail for Prize Fund",null,null,null,{"$f":"AC254-AC255-AC256-AC258","v":8212.5},null,null,null,{"$f":"AC259","v":8212.5}]
[20,{"$error":"#N/A"},{"$error":"#N/A"},{"$error":"#N/A"},20,{"$error":"#N/A"},{"$error":"#N/A"},null,20,{"$error":"#N/A"},{"$error":"#N/A"},null,20,{"$error":"#N/A"},null,null,null,null,null,null,null,null,null,null,null,null,null,null,{"$f":"SUM(AC255:AE259)","v":15810},null,null,null,{"$f":"SUM(AG256:AG259)","v":9067.5}]
[10,{"$error":"#N/A"},{"$error":"#N/A"},{"$error":"#N/A"},10,{"$error":"#N/A"},{"$error":"#N/A"},null,10,{"$error":"#N/A"},{"$error":"#N/A"},null,10,{"$error":"#N/A"}]
[5,{"$error":"#N/A"},{"$error":"#N/A"},{"$error":"#N/A"},5,{"$error":"#N/A"},{"$error":"#N/A"},null,5,{"$error":"#N/A"},{"$error":"#N/A"},null,5,{"$error":"#N/A"}]
[1,{"$error":"#N/A"},{"$error":"#N/A"},{"$error":"#N/A"},1,{"$error":"#N/A"},{"$error":"#N/A"},null,1,{"$error":"#N/A"},{"$error":"#N/A"},null,1,{"$error":"#N/A"}]
[0.25,{"$error":"#N/A"},{"$error":"#N/A"},{"$error":"#N/A"},0.25,{"$error":"#N/A"},{"$error":"#N/A"},null,0.25,{"$error":"#N/A"},{"$error":"#N/A"},null,0.25,{"$error":"#N/A"}]
[null,null,{"$f":"C258*A258+C259*A259+C260*A260+C261*A261+C262*A262+C263*A263+C264*A264","v":{"$error":"#N/A"}},{"$f":"D258*A258+D259*A259+D260*A260+D261*A261+D262*A262+D263*A263+D264*A264","v":{"$error":"#N/A"}},null,null,{"$f":"G258*E258+G259*E259+G260*E260+G261*E261+G262*E262+G263*E263+G264*E264","v":{"$error":"#N/A"}},null,null,null,{"$f":"K258*I258+K259*I259+K260*I260+K261*I261+K262*I262+K263*I263+K264*I264","v":{"$error":"#N/A"}},null,null,{"$f":"N258*M258+N259*M259+N260*M260+N261*M261+N262*M262+N263*M263+N264*M264","v":{"$error":"#N/A"}}]
[]
[null,null,null,null,null,null,null,null,null,null,null,null,"League  Summary",null,null,"Over Average Tournament",null,null,null,null,null,null,null,null,null,null,"Summary",null,null,null,null,null,null,null,"Check"]
[null,null,null,null,null,null,null,null,null,null,null,null,"Team High Hcp Game",null,null,null,null,null,null,"Pl","$$$","Pl","$$$","Pl","$$$"]
["Award Category","Ref","Amt",null,"Award Category","Ref","Amt",null,"Award Category","Ref","Amt",null,"Team High Hcp Series",null,null,null,null,null,null,1,16,11,13,21,10]
[null,null,null,null,null,null,null,null,null,null,null,null,"1st Half No-Tap",null,null,null,null,null,null,2,16,12,13,22,9]
[null,null,null,null,null,null,null,null,null,null,null,null,"2nd Half No-Tap",null,null,null,null,null,null,3,16,13,12,23,9]
[null,null,null,null,null,null,null,null,null,null,null,null,"1st Half Championship",null,null,null,null,null,null,4,15,14,12,24,9]
[null,null,null,null,null,null,null,null,null,null,null,null,"2nd Half Championship",null,null,null,null,null,null,5,15,15,12,25,8]
[null,null,null,null,null,null,null,null,null,null,null,null,"Women High Hcp Game",null,null,null,null,null,null,6,15,16,11,26,8]
[null,null,null,null,null,null,null,null,null,null,null,null,"Women High Hcp Series",null,null,null,null,null,null,7,14,17,11,27,8]
[null,null,null,null,null,null,null,null,null,null,null,null,"Women Most Improved Avg",null,null,null,null,null,null,8,14,18,11,28,7]
[null,null,null,null,null,null,null,null,null,null,null,null,"Mens High Hcp Game",null,null,null,null,null,null,9,14,19,10,29,7]
[null,null,null,null,null,null,null,null,null,null,null,null,"Mens High Hcp Series",null,null,null,null,null,null,10,13,20,10,30,7]
[null,null,null,null,null,null,null,null,null,null,null,null,"Mens Most Improved Avg",null,null,null,null,null,null,null,{"$f":"SUM(U269:U278)","v":148},null,{"$f":"SUM(W269:W278)","v":115},null,{"$f":"SUM(Y269:Y278)","v":82}]
[null,null,null,null,null,null,null,null,null,null,null,null,"Team 1st Half Position",null,null,null,null,null,null,null,null,null,"Total Over Avg Award",null,{"$f":"U279+W279+Y279","v":345}]
[null,null,null,null,null,null,null,null,null,null,null,null,"Team 2nd Half Position"]
[null,null,null,null,null,null,null,null,null,null,null,null,"League Champions"]
[]
[]
[]
[]
[]
[]
[]
[]
["Award Category","Ref","Amt",null,"Award Category","Ref","Amt",null,"Award Category","Ref","Amt"]
[41897,null,null,null,41897,null,null,null,41897]
[{"$f":"A292+7","v":41904},null,null,null,{"$f":"E292+7","v":41904},null,null,null,{"$f":"I292+7","v":41904}]
[41911,null,null,null,41911,null,null,null,41911]
[41918,null,null,null,41918,null,null,null,41918]
[41925,null,null,null,41925,null,null,null,41925]
[41932,null,null,null,41932,null,null,null,41932]
[41939,null,null,null,41939,null,null,null,41939]
[41946,null,null,null,41946,null,null,null,41946]
[41953,null,null,null,41953,null,null,null,41953]
[41960,null,null,null,41960,null,null,null,41960]
[41967,null,null,null,41967,null,null,null,41967]
[41974,null,null,null,41974,null,null,null,41974]
[41981,null,null,null,41981,null,null,null,41981]
[41988,null,null,null,41988,null,null,null,41988]
[41995,null,null,null,41995,null,null,null,41995]
[]
[]
[]
[]
[]
[]
[]
["Award Category","Ref","Amt",null,"Award Category","Ref","Amt",null,"Award Category","Ref","Amt"]
[41897,null,null,null,41897,null,null,null,41897]
[{"$f":"A315+7","v":41904},null,null,null,{"$f":"E315+7","v":41904},null,null,null,{"$f":"I315+7","v":41904}]
[41911,null,null,null,41911,null,null,null,41911]
[41918,null,null,null,41918,null,null,null,41918]
[41925,null,null,null,41925,null,null,null,41925]
[41932,null,null,null,41932,null,null,null,41932]
[41939,null,null,null,41939,null,null,null,41939]
[41946,null,null,null,41946,null,null,null,41946]
[41953,null,null,null,41953,null,null,null,41953]
[41960,null,null,null,41960,null,null,null,41960]
[41967,null,null,null,41967,null,null,null,41967]
[41974,null,null,null,41974,null,null,null,41974]
[41981,null,null,null,41981,null,null,null,41981]
[41988,null,null,null,41988,null,null,null,41988]
[41995,null,null,null,41995,null,null,null,41995]
[]
[]
[]
[]
[]
[]
[]
["Award Category","Ref","Amt",null,"Award Category","Ref","Amt",null,"Award Category","Ref","Amt"]
[41897,null,null,null,41897,null,null,null,41897]
[{"$f":"A338+7","v":41904},null,null,null,{"$f":"E338+7","v":41904},null,null,null,{"$f":"I338+7","v":41904}]
[41911,null,null,null,41911,null,null,null,41911]
[41918,null,null,null,41918,null,null,null,41918]
[41925,null,null,null,41925,null,null,null,41925]
[41932,null,null,null,41932,null,null,null,41932]
[41939,null,null,null,41939,null,null,null,41939]
[41946,null,null,null,41946,null,null,null,41946]
[41953,null,null,null,41953,null,null,null,41953]
[41960,null,null,null,41960,null,null,null,41960]
[41967,null,null,null,41967,null,null,null,41967]
[41974,null,null,null,41974,null,null,null,41974]
[41981,null,null,null,41981,null,null,null,41981]
[41988,null,null,null,41988,null,null,null,41988]
[41995,null,null,null,41995,null,null,null,41995]
[]
[]
[]
[]
[]
[]
[]
["Award Category","Ref","Amt",null,"Award Category","Ref","Amt",null,"Award Category","Ref","Amt"]
[41897,null,null,null,41897,null,null,null,41897]
[{"$f":"A361+7","v":41904},null,null,null,{"$f":"E361+7","v":41904},null,null,null,{"$f":"I361+7","v":41904}]
[41911,null,null,null,41911,null,null,null,41911]
[41918,null,null,null,41918,null,null,null,41918]
[41925,null,null,null,41925,null,null,null,41925]
[41932,null,null,null,41932,null,null,null,41932]
[41939,null,null,null,41939,null,null,null,41939]
[41946,null,null,null,41946,null,null,null,41946]
[41953,null,null,null,41953,null,null,null,41953]
[41960,null,null,null,41960,null,null,null,41960]
[41967,null,null,null,41967,null,null,null,41967]
[41974,null,null,null,41974,null,null,null,41974]
[41981,null,null,null,41981,null,null,null,41981]
[41988,null,null,null,41988,null,null,null,41988]
[41995,null,null,null,41995,null,null,null,41995]
[]
[]
[]
[]
[]
[]
[]
["Award Category","Ref","Amt",null,"Award Category","Ref","Amt",null,"Award Category","Ref","Amt"]
[41897,null,null,null,41897,null,null,null,41897]
[{"$f":"A384+7","v":41904},null,null,null,{"$f":"E384+7","v":41904},null,null,null,{"$f":"I384+7","v":41904}]
[41911,null,null,null,41911,null,null,null,41911]
[41918,null,null,null,41918,null,null,null,41918]
[41925,null,null,null,41925,null,null,null,41925]
[41932,null,null,null,41932,null,null,null,41932]
[41939,null,null,null,41939,null,null,null,41939]
[41946,null,null,null,41946,null,null,null,41946]
[41953,null,null,null,41953,null,null,null,41953]
[41960,null,null,null,41960,null,null,null,41960]
[41967,null,null,null,41967,null,null,null,41967]
[41974,null,null,null,41974,null,null,null,41974]
[41981,null,null,null,41981,null,null,null,41981]
[41988,null,null,null,41988,null,null,null,41988]
[41995,null,null,null,41995,null,null,null,41995]
[]
[]
[]
[]
[]
[]
[]
["Award Category","Ref","Amt",null,"Award Category","Ref","Amt",null,"Award Category","Ref","Amt"]
[41897,null,null,null,41897,null,null,null,41897]
[{"$f":"A407+7","v":41904},null,null,null,{"$f":"E407+7","v":41904},null,null,null,{"$f":"I407+7","v":41904}]
[41911,null,null,null,41911,null,null,null,41911]
[41918,null,null,null,41918,null,null,null,41918]
[41925,null,null,null,41925,null,null,null,41925]
[41932,null,null,null,41932,null,null,null,41932]
[41939,null,null,null,41939,null,null,null,41939]
[41946,null,null,null,41946,null,null,null,41946]
[41953,null,null,null,41953,null,null,null,41953]
[41960,null,null,null,41960,null,null,null,41960]
[41967,null,null,null,41967,null,null,null,41967]
[41974,null,null,null,41974,null,null,null,41974]
[41981,null,null,null,41981,null,null,null,41981]
[41988,null,null,null,41988,null,null,null,41988]
[41995,null,null,null,41995,null,null,null,41995]
[]
[]
[]
[]
[]
[]
[]
["Award Category","Ref","Amt",null,"Award Category","Ref","Amt",null,"Award Category","Ref","Amt"]
[41897,null,null,null,41897,null,null,null,41897]
[{"$f":"A430+7","v":41904},null,null,null,{"$f":"E430+7","v":41904},null,null,null,{"$f":"I430+7","v":41904}]
[41911,null,null,null,41911,null,null,null,41911]
[41918,null,null,null,41918,null,null,null,41918]
[41925,null,null,null,41925,null,null,null,41925]
[41932,null,null,null,41932,null,null,null,41932]
[41939,null,null,null,41939,null,null,null,41939]
[41946,null,null,null,41946,null,null,null,41946]
[41953,null,null,null,41953,null,null,null,41953]
[41960,null,null,null,41960,null,null,null,41960]
[41967,null,null,null,41967,null,null,null,41967]
[41974,null,null,null,41974,null,null,null,41974]
[41981,null,null,null,41981,null,null,null,41981]
[41988,null,null,null,41988,null,null,null,41988]
[41995,null,null,null,41995,null,null,null,41995]
[]
[]
[]
[]
[]
[]
[]
["Award Category","Ref","Amt",null,"Award Category","Ref","Amt",null,"Award Category","Ref","Amt"]
[41897,null,null,null,41897,null,null,null,41897]
[{"$f":"A453+7","v":41904},null,null,null,{"$f":"E453+7","v":41904},null,null,null,{"$f":"I453+7","v":41904}]
[41911,null,null,null,41911,null,null,null,41911]
[41918,null,null,null,41918,null,null,null,41918]
[41925,null,null,null,41925,null,null,null,41925]
[41932,null,null,null,41932,null,null,null,41932]
[41939,null,null,null,41939,null,null,null,41939]
[41946,null,null,null,41946,null,null,null,41946]
[41953,null,null,null,41953,null,null,null,41953]
[41960,null,null,null,41960,null,null,null,41960]
[41967,null,null,null,41967,null,null,null,41967]
[41974,null,null,null,41974,null,null,null,41974]
[41981,null,null,null,41981,null,null,null,41981]
[41988,null,null,null,41988,null,null,null,41988]
[41995,null,null,null,41995,null,null,null,41995]
[]
[]
[]
[]
[]
[]
[]
[]
[41897,null,null,null,41897,null,null,null,41897]
[{"$f":"A476+7","v":41904},null,null,null,{"$f":"E476+7","v":41904},null,null,null,{"$f":"I476+7","v":41904}]
[41911,null,null,null,41911,null,null,null,41911]
[41918,null,null,null,41918,null,null,null,41918]
[41925,null,null,null,41925,null,null,null,41925]
[41932,null,null,null,41932,null,null,null,41932]
[41939,null,null,null,41939,null,null,null,41939]
[41946,null,null,null,41946,null,null,null,41946]
[41953,null,null,null,41953,null,null,null,41953]
[41960,null,null,null,41960,null,null,null,41960]
[41967,null,null,null,41967,null,null,null,41967]
[41974,null,null,null,41974,null,null,null,41974]
[41981,null,null,null,41981,null,null,null,41981]
[41988,null,null,null,41988,null,null,null,41988]
[41995,null,null,null,41995,null,null,null,41995]
[]
[]
[]
[]
[]
[]
[]
["Award Category","Ref","Amt",null,"Award Category","Ref","Amt",null,"Award Category","Ref","Amt"]
[41897,null,null,null,41897,null,null,null,41897]
[{"$f":"A499+7","v":41904},null,null,null,{"$f":"E499+7","v":41904},null,null,null,{"$f":"I499+7","v":41904}]
[41911,null,null,null,41911,null,null,null,41911]
[41918,null,null,null,41918,null,null,null,41918]
[41925,null,null,null,41925,null,null,null,41925]
[41932,null,null,null,41932,null,null,null,41932]
[41939,null,null,null,41939,null,null,null,41939]
[41946,null,null,null,41946,null,null,null,41946]
[41953,null,null,null,41953,null,null,null,41953]
[41960,null,null,null,41960,null,null,null,41960]
[41967,null,null,null,41967,null,null,null,41967]
[41974,null,null,null,41974,null,null,null,41974]
[41981,null,null,null,41981,null,null,null,41981]
[41988,null,null,null,41988,null,null,null,41988]
[41995,null,null,null,41995,null,null,null,41995]
[]
[]
[]
[]
[]
[]
[]
["Award Category","Ref","Amt",null,"Award Category","Ref","Amt",null,"Award Category","Ref","Amt"]
[41897,null,null,null,41897,null,null,null,41897]
[{"$f":"A522+7","v":41904},null,null,null,{"$f":"E522+7","v":41904},null,null,null,{"$f":"I522+7","v":41904}]
[41911,null,null,null,41911,null,null,null,41911]
[41918,null,null,null,41918,null,null,null,41918]
[41925,null,null,null,41925,null,null,null,41925]
[41932,null,null,null,41932,null,null,null,41932]
[41939,null,null,null,41939,null,null,null,41939]
[41946,null,null,null,41946,null,null,null,41946]
[41953,null,null,null,41953,null,null,null,41953]
[41960,null,null,null,41960,null,null,null,41960]
[41967,null,null,null,41967,null,null,null,41967]
[41974,null,null,null,41974,null,null,null,41974]
[41981,null,null,null,41981,null,null,null,41981]
[41988,null,null,null,41988,null,null,null,41988]
[41995,null,null,null,41995,null,null,null,41995]
[]
[]
[]
[]
[]
[]
[]
["Award Category","Ref","Amt",null,"Award Category","Ref","Amt",null,"Award Category","Ref","Amt"]
[41897,null,null,null,41897,null,null,null,41897]
[{"$f":"A545+7","v":41904},null,null,null,{"$f":"E545+7","v":41904},null,null,null,{"$f":"I545+7","v":41904}]
[41911,null,null,null,41911,null,null,null,41911]
[41918,null,null,null,41918,null,null,null,41918]
[41925,null,null,null,41925,null,null,null,41925]
[41932,null,null,null,41932,null,null,null,41932]
[41939,null,null,null,41939,null,null,null,41939]
[41946,null,null,null,41946,null,null,null,41946]
[41953,null,null,null,41953,null,null,null,41953]
[41960,null,null,null,41960,null,null,null,41960]
[41967,null,null,null,41967,null,null,null,41967]
[41974,null,null,null,41974,null,null,null,41974]
[41981,null,null,null,41981,null,null,null,41981]
[41988,null,null,null,41988,null,null,null,41988]
[41995,null,null,null,41995,null,null,null,41995]
[]
[]
[]
[]
[]
[]
[]
["Award Category","Ref","Amt",null,"Award Category","Ref","Amt",null,"Award Category","Ref","Amt"]
[41897,null,null,null,41897,null,null,null,41897]
[{"$f":"A568+7","v":41904},null,null,null,{"$f":"E568+7","v":41904},null,null,null,{"$f":"I568+7","v":41904}]
[41911,null,null,null,41911,null,null,null,41911]
[41918,null,null,null,41918,null,null,null,41918]
[41925,null,null,null,41925,null,null,null,41925]
[41932,null,null,null,41932,null,null,null,41932]
[41939,null,null,null,41939,null,null,null,41939]
[41946,null,null,null,41946,null,null,null,41946]
[41953,null,null,null,41953,null,null,null,41953]
[41960,null,null,null,41960,null,null,null,41960]
[41967,null,null,null,41967,null,null,null,41967]
[41974,null,null,null,41974,null,null,null,41974]
[41981,null,null,null,41981,null,null,null,41981]
[41988,null,null,null,41988,null,null,null,41988]
[41995,null,null,null,41995,null,null,null,41995]
[]
[]
[]
[]
[]
[]
[]
["Award Category","Ref","Amt",null,"Award Category","Ref","Amt",null,"Award Category","Ref","Amt"]
[41897,null,null,null,41897,null,null,null,41897]
[{"$f":"A591+7","v":41904},null,null,null,{"$f":"E591+7","v":41904},null,null,null,{"$f":"I591+7","v":41904}]
[41911,null,null,null,41911,null,null,null,41911]
[41918,null,null,null,41918,null,null,null,41918]
[41925,null,null,null,41925,null,null,null,41925]
[41932,null,null,null,41932,null,null,null,41932]
[41939,null,null,null,41939,null,null,null,41939]
[41946,null,null,null,41946,null,null,null,41946]
[41953,null,null,null,41953,null,null,null,41953]
[41960,null,null,null,41960,null,null,null,41960]
[41967,null,null,null,41967,null,null,null,41967]
[41974,null,null,null,41974,null,null,null,41974]
[41981,null,null,null,41981,null,null,null,41981]
[41988,null,null,null,41988,null,null,null,41988]
[41995,null,null,null,41995,null,null,null,41995]
[]
[]
[]
[]
[]
[]
[]
["Award Category","Ref","Amt",null,"Award Category","Ref","Amt",null,"Award Category","Ref","Amt"]
[41897,null,null,null,41897,null,null,null,41897]
[{"$f":"A614+7","v":41904},null,null,null,{"$f":"E614+7","v":41904},null,null,null,{"$f":"I614+7","v":41904}]
[41911,null,null,null,41911,null,null,null,41911]
[41918,null,null,null,41918,null,null,null,41918]
[41925,null,null,null,41925,null,null,null,41925]
[41932,null,null,null,41932,null,null,null,41932]
[41939,null,null,null,41939,null,null,null,41939]
[41946,null,null,null,41946,null,null,null,41946]
[41953,null,null,null,41953,null,null,null,41953]
[41960,null,null,null,41960,null,null,null,41960]
[41967,null,null,null,41967,null,null,null,41967]
[41974,null,null,null,41974,null,null,null,41974]
[41981,null,null,null,41981,null,null,null,41981]
[41988,null,null,null,41988,null,null,null,41988]
[41995,null,null,null,41995,null,null,null,41995]
[]
[]
[]
[]
[]
[]
[]
["Award Category","Ref","Amt",null,"Award Category","Ref","Amt",null,"Award Category","Ref","Amt"]
[41897,null,null,null,41897,null,null,null,41897]
[{"$f":"A637+7","v":41904},null,null,null,{"$f":"E637+7","v":41904},null,null,null,{"$f":"I637+7","v":41904}]
[41911,null,null,null,41911,null,null,null,41911]
[41918,null,null,null,41918,null,null,null,41918]
[41925,null,null,null,41925,null,null,null,41925]
[41932,null,null,null,41932,null,null,null,41932]
[41939,null,null,null,41939,null,null,null,41939]
[41946,null,null,null,41946,null,null,null,41946]
[41953,null,null,null,41953,null,null,null,41953]
[41960,null,null,null,41960,null,null,null,41960]
[41967,null,null,null,41967,null,null,null,41967]
[41974,null,null,null,41974,null,null,null,41974]
[41981,null,null,null,41981,null,null,null,41981]
[41988,null,null,null,41988,null,null,null,41988]
[41995,null,null,null,41995,null,null,null,41995]
[]
[]
[]
[]
[]
[]
[]
["Award Category","Ref","Amt",null,"Award Category","Ref","Amt",null,"Award Category","Ref","Amt"]
[41897,null,null,null,41897,null,null,null,41897]
[{"$f":"A660+7","v":41904},null,null,null,{"$f":"E660+7","v":41904},null,null,null,{"$f":"I660+7","v":41904}]
[41911,null,null,null,41911,null,null,null,41911]
[41918,null,null,null,41918,null,null,null,41918]
[41925,null,null,null,41925,null,null,null,41925]
[41932,null,null,null,41932,null,null,null,41932]
[41939,null,null,null,41939,null,null,null,41939]
[41946,null,null,null,41946,null,null,null,41946]
[41953,null,null,null,41953,null,null,null,41953]
[41960,null,null,null,41960,null,null,null,41960]
[41967,null,null,null,41967,null,null,null,41967]
[41974,null,null,null,41974,null,null,null,41974]
[41981,null,null,null,41981,null,null,null,41981]
[41988,null,null,null,41988,null,null,null,41988]
[41995,null,null,null,41995,null,null,null,41995]
[]
[]
[]
[null,null,null,null,null,null,null,null,null,null,null,null,"Award Category",null,null,"Fund",null,13,null,"Pl","$$$","Pl","$$$","Pl","$$$",null,100,50,20,10,5,1,"Ref","$$$"]
[null,null,null,null,null,null,null,null,null,null,null,null,"Bowler High Avg.",{"$f":"'Prize Fund'!G37","v":50},null,"Bowlers",null,30,null,1,25,11,20,21,null,null,{"$f":"N19+N47+N74+N101+N128+N154+N180+N206+N232+N258","v":{"$error":"#N/A"}},{"$f":"N20+N48+N75+N102+N129+N155+N181+N207+N233+N259","v":{"$error":"#N/A"}},{"$f":"N21+N49+N76+N103+N130+N156+N182+N208+N234+N260","v":{"$error":"#N/A"}},{"$f":"N22+N50+N77+N104+N131+N157+N183+N209+N235+N261","v":{"$error":"#N/A"}},{"$f":"N23+N51+N78+N105+N132+N158+N184+N210+N236+N262","v":{"$error":"#N/A"}},{"$f":"N24+N52+N79+N106+N133+N159+N185+N211+N237+N263","v":{"$error":"#N/A"}},"Awards",{"$f":"AA679*AA$678+AB679*AB$678+AC679*AC$678+AD679*AD$678+AE679*AE$678+AF679*AF$678","v":{"$error":"#N/A"}},{"$f":"6670+AI680+AI681+AI682+AI683+AI684+AI685+AI688","v":7525},{"$f":"AH679","v":{"$error":"#N/A"}},7425,{"$f":"AJ679-AK679","v":{"$error":"#N/A"}}]
[null,null,null,null,null,null,null,null,null,null,null,null,"Bowler High Points",{"$f":"'Prize Fund'!G38+'Prize Fund'!H38","v":90},null,"Total ",null,{"$f":"R678*R679","v":390},null,2,24,12,19,22,null,null,null,null,null,null,null,null,"B Hi Avg",{"$f":"N5+N33+N60+N87+N114+N140+N166+N192+N218+N244","v":50},{"$f":"'Prize Fund'!G37","v":50},null,390]
[null,null,null,null,null,null,null,null,null,null,null,null,"Bowler High Game",{"$f":"'Prize Fund'!G39+'Prize Fund'!H39","v":80},null,null,null,null,null,3,24,13,19,23,null,null,null,null,null,null,null,null,"B Hi Pts",90,{"$f":"'Prize Fund'!G38+'Prize Fund'!H38","v":90},null,465]
[null,null,null,null,null,null,null,null,null,null,null,null,"Bowler High Series",{"$f":"'Prize Fund'!G40+'Prize Fund'!H40","v":80},null,null,null,null,null,4,23,14,18,24,null,null,null,null,null,null,null,null,"B Hi Gm",80,{"$f":"N681","v":80},null,{"$f":"SUM(AK679:AK681)","v":8280}]
[null,null,null,null,null,null,null,null,null,null,null,null,"Team High Game",{"$f":"'Prize Fund'!G43+'Prize Fund'!H43","v":90},null,null,null,null,null,5,23,15,17,25,null,null,null,null,null,null,null,null,"B Hi Ser",80,{"$f":"'Prize Fund'!G40+'Prize Fund'!H40","v":80},{"$f":"AI680+AI681+AI682+AI683","v":300}]
[null,null,null,null,null,null,null,null,null,null,null,null,"Team High Series",{"$f":"'Prize Fund'!G44+'Prize Fund'!H44","v":90},null,null,null,null,null,6,22,16,16,26,null,null,null,null,null,null,null,null,"T Hi Gm",90,{"$f":"'Prize Fund'!G43+'Prize Fund'!H43","v":90}]
[null,null,null,null,null,null,null,null,null,null,null,null,null,null,null,null,null,null,null,7,22,17,15,27,null,null,null,null,null,null,null,null,"T Hi Ser",90,{"$f":"'Prize Fund'!G44+'Prize Fund'!H44","v":90},90]
[null,null,null,null,null,null,null,null,null,null,null,null,null,null,null,null,null,null,null,8,21,18,14,28,null,null,null,null,11,9,7,45,"OA Tour",{"$f":"AC686*AC678+AD686*AD678+AE686*AE678+AF686*AF678","v":390},{"$f":"Y690","v":390},{"$f":"AH686","v":390}]
[null,null,null,null,null,null,null,null,null,null,null,null,null,null,null,null,null,null,null,9,21,19,14,29,null,null,4,1,null,1,1,null,"Admin",{"$f":"AA687*AA678+AB687*AB678+AC687*AC678+AD687*AD678+AE687*AE678+AF687*AF678","v":465},{"$f":"Y693","v":465},{"$f":"AH687","v":465}]
[null,null,null,null,null,null,null,null,null,null,null,null,null,null,null,null,null,null,null,10,20,20,13,30,null,null,null,null,{"$f":"AC700","v":15},{"$f":"AD700","v":6},{"$f":"AE700","v":3},null,"Champ",{"$f":"Z696","v":375},{"$f":"'Prize Fund'!H51","v":375},{"$f":"AH688","v":375}]
[null,null,null,null,null,null,null,null,null,null,null,null,null,null,null,null,null,null,null,null,{"$f":"SUM(U679:U688)","v":225},null,{"$f":"SUM(W679:W688)","v":165},null,{"$f":"SUM(Y679:Y688)","v":0},null,{"$f":"SUM(AA679:AA688)","v":{"$error":"#N/A"}},{"$error":"#N/A"},{"$error":"#N/A"},{"$error":"#N/A"},{"$error":"#N/A"},{"$error":"#N/A"},"Total",{"$f":"SUM(AH679:AH688)","v":{"$error":"#N/A"}},{"$f":"SUM(AI679:AI688)","v":9235},{"$f":"SUM(AJ679:AJ688)","v":{"$error":"#N/A"}}]
[null,null,null,null,null,null,null,null,null,null,null,null,null,null,null,null,null,null,null,null,null,null,"Total",null,{"$f":"U689+W689+Y689","v":390},null,{"$f":"AA689*AA678","v":{"$error":"#N/A"}},{"$error":"#N/A"},{"$error":"#N/A"},{"$error":"#N/A"},{"$error":"#N/A"},{"$error":"#N/A"},null,{"$f":"AH679+AH688","v":{"$error":"#N/A"}},{"$f":"AI689-AI680-AI681-AI682-AI683-AI684-AI685-AI686-AI687","v":7900},{"$f":"AJ689-AJ686-AJ687","v":{"$error":"#N/A"}}]
[null,null,null,null,null,null,null,null,null,null,null,null,null,null,null,null,null,null,null,null,null,null,null,null,null,null,null,null,null,null,null,null,null,null,{"$f":"AI689-AH689","v":{"$error":"#N/A"}},null,6000]
[null,null,null,null,null,null,null,null,null,null,null,null,null,null,null,null,null,null,null,null,null,null,"League Secretary",null,null,null,100,50,20,10,5,1,null,{"$f":"AG259-AH689","v":{"$error":"#N/A"}},null,null,950]
[null,null,null,null,null,null,null,null,null,null,null,null,null,null,null,null,null,null,null,"30*0.50*31",null,null,null,null,{"$f":"30*0.5*31","v":465},null,4,1,null,1,1,null,null,null,null,null,1260]
[null,null,null,null,null,null,null,null,null,null,null,null,null,null,null,null,null,null,null,null,null,null,null,null,null,null,null,null,null,null,null,null,null,null,null,null,320]
[null,null,null,null,null,null,null,null,null,null,null,null,null,null,null,null,null,null,null,null,null,null,null,null,null,null,null,null,20,10,5,null,null,null,null,null,160]
[null,null,null,null,null,null,null,null,null,null,null,null,null,null,null,null,null,null,null,null,null,"League Championship",null,null,null,{"$f":"'Prize Fund'!H51","v":375},{"$f":"'Prize Fund'!I47","v":40},1,{"$f":"2*3","v":6},null,null,null,null,null,null,null,51]
[null,null,null,null,null,null,null,null,null,null,null,null,null,null,null,null,null,null,null,null,null,null,null,null,null,null,{"$f":"'Prize Fund'!I48","v":35},2,3,3,3,null,null,null,null,null,0]
[null,null,null,null,null,null,null,null,null,null,null,null,null,null,null,null,null,null,null,null,null,null,null,null,null,null,{"$f":"'Prize Fund'!I49","v":30},3,3,3,null,null,null,null,null,null,8741]
[null,null,null,null,null,null,null,null,null,null,null,null,null,null,null,null,null,null,null,null,null,null,null,null,null,null,{"$f":"'Prize Fund'!I50","v":20},4,3]
[null,null,null,null,null,null,null,null,null,null,null,null,null,null,null,null,null,null,null,null,null,null,null,null,null,null,null,"Ttl",{"$f":"SUM(AC696:AC699)","v":15},{"$f":"SUM(AD696:AD699)","v":6},{"$f":"SUM(AE696:AE699)","v":3}]
[null,null,null,null,null,null,null,null,null,null,null,null,null,null,null,null,null,null,null,null,null,null,null,null,null,null,null,null,{"$f":"AC700*AC678","v":300},{"$f":"AD700*AD678","v":60},{"$f":"AE700*AE678","v":15},null,{"$f":"AC701+AD701+AE701","v":375}]
[]
[]
[]
[]
[]
[]
[]
[]
[]
[]
[]
[]
[]
[]
[]
[]
[]
[]
[]
[]
[]
[]
[]
[]
[]
[]
[]
[]
[]
[]
[]
[]
[]
[]
[]
[]
[]
[]
[]
[]
[]
[]
[]
[]
[]
[]
[]
[]
[]
[]
[]
[]
[]
[]
[]
[]
[]
[]
[]
[]
[]
[]
[]
[]
[]
[]
[]
[]
[]
[]
[]
[]
[]
[]
[]
[]
[]
[]
[]
[]
[]
[]
[]
[]
[]
[]
[]
[]
[]
[]
[]
[]
[]
[]
[]
[]
[]
[]
[]
[]
[]
[]
[]
[]
[]
[]
[]
[]
[]
[]
[]
[]
[]
[]
[]
[]
[]
[]
[]
[]
[]
[]
[]
[]
[]
[]
[]
[]
[]
[]
[]
[]
[]
[]
[]
[]
[]
[]
[]
[]
[]
[]
[]
[]
[]
[]
[]
[]
[]
[]
[]
[]
[]
[]
[]
[]
[]
[]
[]
[]
[]
[]
[]
[]
[]
[]
[]
[]
[]
[]
[]
[]
[]
[]
[]
[]
[]
[]
[]
[]
[]
[]
[]
[]
[]
[]
[]
[]
[]
[]
[]
[]
[]
[]
[]
[]
[]
[]
[]
[]
[]
[]
[]
[]
[]
[]
[]
[]
[]
[]
[]
[]
[]
[]
[]
[]
[]
[]
[]
[]
[]
[]
[]
[]
[]
[]
[]
[]
[]
[]
[]
[]
[]
[]
[]
[]
[]
[]
[]
[]
[]
[]
[]
[]
[]
[]
[]
[]
[]
[]
[]
[]
[]
[]
[]
[]
[]
[]
[]
[]
[]
[]
[]
[]
[]
[]
[]
[]
[]
[]
[]
[]
[]
[]
[]
[]
[]
[]
[]
[]
[]
[]
[]
[]
[]
[]
[]
[]
[]
[]
[]
[]
[]
[]
[]
[]
[]
[]
[]
[]
[]
[]
[]
[]
[]
[]
[]
[]
[]
[]
[]
[]
[]
[]
[]
[]
[]
[]
[]
[]
[]
[]
[]
[]
[]
[]
[]
[]
[]
[]
[]
[]
[]
[]
[]
[]
[]
[]
[]
[]
[]
[]
[]
[]
[]
[]
[]
[]
[]
[]
[]
[]
[]
[]
[]
[]
[]
[]
[]
[]
[]
[]
[]
[]
[]
[]
[]
[]
[]
[]
[]
[]
[]
[]
[]
[]
[]
[]
[]
[]
[]
[]
[]
[]
[]
[]
[]
[]
[]
[]
[]
[]
[null,null,null,null,null,null,null,null,null,null,null,null,null,null,null,null,null,null,null,null,null,null,null,null,null,null,null,null,null,3,1]
[null,null,null,null,null,null,null,null,null,null,null,null,null,null,null,null,null,null,null,null,null,null,null,null,null,null,null,null,null,2]
[null,null,null,null,null,null,null,null,null,null,null,null,null,null,null,null,null,null,null,null,null,null,null,null,null,null,null,null,null,2]
[null,null,null,null,null,null,null,null,null,null,null,null,null,null,null,null,null,null,null,null,null,null,null,null,null,null,null,null,null,2]
[null,null,null,null,null,null,null,null,null,null,null,null,null,null,null,null,null,null,null,null,null,null,null,null,null,null,null,null,null,2]
[null,null,null,null,null,null,null,null,null,null,null,null,null,null,null,null,null,null,null,null,null,null,null,null,null,null,null,null,null,2]
[null,null,null,null,null,null,null,null,null,null,null,null,null,null,null,null,null,null,null,null,null,null,null,null,null,null,null,null,null,2]
[null,null,null,null,null,null,null,null,null,null,null,null,null,null,null,null,null,null,null,null,null,null,null,null,null,null,null,null,null,2]
[null,null,null,null,null,null,null,null,null,null,null,null,null,null,null,null,null,null,null,null,null,null,null,null,null,null,null,null,null,2]
[null,null,null,null,null,null,null,null,null,null,null,null,null,null,null,null,null,null,null,null,null,null,null,null,null,null,null,null,null,2]
[null,null,null,null,null,null,null,null,null,null,null,null,null,null,null,null,null,null,null,null,null,null,null,null,null,null,null,null,null,2]

{"sheet":"Withdrawl","index":9,"n_rows":23,"n_cols":6,"rows_kept":23,"cut":false,"hidden":false,"merged":[[3,1,3,3],[2,1,2,3]]}
[]
[]
[null,"Men's Classic League"]
[null,"Acct: 2527430499"]
[null,"Denomination","Number","Amount"]
[null,100,{"$f":"'Distribution 2017'!AA689","v":{"$error":"#N/A"}},{"$f":"C6*B6","v":{"$error":"#N/A"}}]
[null,50,{"$f":"'Distribution 2017'!AB689","v":{"$error":"#N/A"}},{"$error":"#N/A"}]
[null,20,{"$f":"'Distribution 2017'!AC689","v":{"$error":"#N/A"}},{"$error":"#N/A"}]
[null,10,{"$f":"'Distribution 2017'!AD689","v":{"$error":"#N/A"}},{"$error":"#N/A"}]
[null,5,{"$f":"'Distribution 2017'!AE689","v":{"$error":"#N/A"}},{"$error":"#N/A"}]
[null,1,{"$f":"'Distribution 2017'!AF689","v":{"$error":"#N/A"}},{"$error":"#N/A"}]
[null,0.25,0,0]
[null,null,null,{"$f":"SUM(D6:D12)","v":{"$error":"#N/A"}},null,{"$f":"'Distribution 2017'!AH689","v":{"$error":"#N/A"}}]
[]
[]
[]
[null,null,null,120,"RCSCW"]
[null,null,null,217.5,"RCSCW"]
[null,null,null,10,"Placque"]
[null,null,null,{"$f":"SUM(D13:D19)","v":{"$error":"#N/A"}},"Amt Required"]
[]
[null,null,null,8563.18,"Bank"]
[null,null,null,{"$f":"D22-D20","v":{"$error":"#N/A"}},"Carried Over"]

{"sheet":"Lineup","index":10,"n_rows":137,"n_cols":26,"rows_kept":137,"cut":false,"hidden":false,"merged":[[53,1,53,21],[13,25,13,31],[21,25,21,31],[26,25,26,31],[15,2,15,7],[16,2,16,7],[17,2,17,7],[18,2,18,7],[19,2,19,7],[23,2,23,7],[24,2,24,7],[51,8,51,9],[51,13,51,18],[51,19,51,20],[51,21,51,22],[50,8,50,9],[50,13,50,18],[50,19,50,20],[50,21,50,22],[50,2,50,7],[51,2,51,7],[49,8,49,9],[49,13,49,18],[49,19,49,20],[133,8,133,9],[133,13,133,18],[133,19,133,20],[133,21,133,22],[132,8,132,9],[132,13,132,18],[132,19,132,20],[132,21,132,22],[132,2,132,7],[133,2,133,7],[131,8,131,9],[131,13,131,18],[131,19,131,20],[131,21,131,22],[130,8,130,9],[130,13,130,18],[130,19,130,20],[130,21,130,22],[130,2,130,7],[131,2,131,7],[129,8,129,9],[129,13,129,18],[129,19,129,20],[129,21,129,22],[127,19,127,20],[127,21,127,22],[128,1,128,3],[128,6,128,7],[128,8,128,9],[128,13,128,14],[128,15,128,18],[128,19,128,20],[128,21,128,22],[127,2,127,3],[127,4,127,5],[127,6,127,7],[127,8,127,9],[127,12,127,13],[127,15,127,18],[129,2,129,7],[125,8,125,9],[125,13,125,18],[125,19,125,20],[125,21,125,22],[124,8,124,9],[124,13,124,18],[124,19,124,20],[124,21,124,22],[124,2,124,7],[125,2,125,7],[123,8,123,9],[123,13,123,18],[123,19,123,20],[123,21,123,22],[122,8,122,9],[122,13,122,18],[122,19,122,20],[122,21,122,22],[122,2,122,7],[123,2,123,7],[121,8,121,9],[121,13,121,18],[121,19,121,20],[121,21,121,22],[119,19,119,20],[119,21,119,22],[120,1,120,3],[120,6,120,7],[120,8,120,9],[120,13,120,14],[120,15,120,18],[120,19,120,20],[120,21,120,22],[119,2,119,3],[119,4,119,5],[119,6,119,7],[119,8,119,9],[119,12,119,13],[119,15,119,18],[121,2,121,7],[117,8,117,9],[117,13,117,18],[117,19,117,20],[117,21,117,22],[116,8,116,9],[116,13,116,18],[116,19,116,20],[116,21,116,22],[116,2,116,7],[117,2,117,7],[115,8,115,9],[115,13,115,18],[115,19,115,20],[115,21,115,22],[114,8,114,9],[114,13,114,18],[114,19,114,20],[114,21,114,22],[114,2,114,7],[115,2,115,7],[113,8,113,9],[113,13,113,18],[113,19,113,20],[113,21,113,22],[111,19,111,20],[111,21,111,22],[112,1,112,3],[112,6,112,7],[112,8,112,9],[112,13,112,14],[112,15,112,18],[112,19,112,20],[112,21,112,22],[111,2,111,3],[111,4,111,5],[111,6,111,7],[111,8,111,9],[111,12,111,13],[111,15,111,18],[113,2,113,7],[110,8,110,9],[110,13,110,18],[110,19,110,20],[110,21,110,22],[109,8,109,9],[109,13,109,18],[109,19,109,20],[109,21,109,22],[109,2,109,7],[110,2,110,7],[108,8,108,9],[108,13,108,18],[108,19,108,20],[108,21,108,22],[107,8,107,9],[107,13,107,18],[107,19,107,20],[107,21,107,22],[107,2,107,7],[108,2,108,7],[105,21,105,22],[106,8,106,9],[106,13,106,18],[106,19,106,20],[106,21,106,22],[105,1,105,3],[105,6,105,7],[105,8,105,9],[105,13,105,14],[105,15,105,18],[105,19,105,20],[106,2,106,7],[102,1,102,21],[103,1,103,10],[104,2,104,3],[104,4,104,5],[104,6,104,7],[104,8,104,9],[104,12,104,13],[104,15,104,18],[104,19,104,20],[104,21,104,22],[100,8,100,9],[100,13,100,18],[100,19,100,20],[100,21,100,22],[99,8,99,9],[99,13,99,18],[99,19,99,20],[99,21,99,22],[99,2,99,7],[100,2,100,7],[98,8,98,9],[98,13,98,18],[98,19,98,20],[98,21,98,22],[97,8,97,9],[97,13,97,18],[97,19,97,20],[97,21,97,22],[97,2,97,7],[98,2,98,7],[96,8,96,9],[96,13,96,18],[96,19,96,20],[96,21,96,22],[94,19,94,20],[94,21,94,22],[95,1,95,3],[95,6,95,7],[95,8,95,9],[95,13,95,14],[95,15,95,18],[95,19,95,20],[95,21,95,22],[94,2,94,3],[94,4,94,5],[94,6,94,7],[94,8,94,9],[94,12,94,13],[94,15,94,18],[96,2,96,7],[92,8,92,9],[92,13,92,18],[92,19,92,20],[92,21,92,22],[91,8,91,9],[91,13,91,18],[91,19,91,20],[91,21,91,22],[91,2,91,7],[92,2,92,7],[90,8,90,9],[90,13,90,18],[90,19,90,20],[90,21,90,22],[89,8,89,9],[89,13,89,18],[89,19,89,20],[89,21,89,22],[89,2,89,7],[90,2,90,7],[88,8,88,9],[88,13,88,18],[88,19,88,20],[88,21,88,22],[86,19,86,20],[86,21,86,22],[87,1,87,3],[87,6,87,7],[87,8,87,9],[87,13,87,14],[87,15,87,18],[87,19,87,20],[87,21,87,22],[86,2,86,3],[86,4,86,5],[86,6,86,7],[86,8,86,9],[86,12,86,13],[86,15,86,18],[88,2,88,7],[85,8,85,9],[85,13,85,18],[85,19,85,20],[85,21,85,22],[84,8,84,9],[84,13,84,18],[84,19,84,20],[84,21,84,22],[84,2,84,7],[85,2,85,7],[83,8,83,9],[83,13,83,18],[83,19,83,20],[83,21,83,22],[82,8,82,9],[82,13,82,18],[82,19,82,20],[82,21,82,22],[82,2,82,7],[83,2,83,7],[81,8,81,9],[81,13,81,18],[81,19,81,20],[81,21,81,22],[79,19,79,20],[79,21,79,22],[80,1,80,3],[80,6,80,7],[80,8,80,9],[80,13,80,14],[80,15,80,18],[80,19,80,20],[80,21,80,22],[79,2,79,3],[79,4,79,5],[79,6,79,7],[79,8,79,9],[79,12,79,13],[79,15,79,18],[81,2,81,7],[77,8,77,9],[77,13,77,18],[77,19,77,20],[77,21,77,22],[76,8,76,9],[76,13,76,18],[76,19,76,20],[76,21,76,22],[76,2,76,7],[77,2,77,7],[75,8,75,9],[75,13,75,18],[75,19,75,20],[75,21,75,22],[74,8,74,9],[74,13,74,18],[74,19,74,20],[74,21,74,22],[74,2,74,7],[75,2,75,7],[72,21,72,22],[73,8,73,9],[73,13,73,18],[73,19,73,20],[73,21,73,22],[72,1,72,3],[72,6,72,7],[72,8,72,9],[72,13,72,14],[72,15,72,18],[72,19,72,20],[73,2,73,7],[69,1,69,21],[70,1,70,10],[71,2,71,3],[71,4,71,5],[71,6,71,7],[71,8,71,9],[71,12,71,13],[71,15,71,18],[71,19,71,20],[71,21,71,22],[67,8,67,9],[67,13,67,18],[67,19,67,20],[67,21,67,22],[66,8,66,9],[66,13,66,18],[66,19,66,20],[66,21,66,22],[66,2,66,7],[67,2,67,7],[65,8,65,9],[65,13,65,18],[65,19,65,20],[65,21,65,22],[64,8,64,9],[64,13,64,18],[64,19,64,20],[64,21,64,22],[64,2,64,7],[65,2,65,7],[63,8,63,9],[63,13,63,18],[63,19,63,20],[63,21,63,22],[61,19,61,20],[61,21,61,22],[62,1,62,3],[62,6,62,7],[62,8,62,9],[62,13,62,14],[62,15,62,18],[62,19,62,20],[62,21,62,22],[61,2,61,3],[61,4,61,5],[61,6,61,7],[61,8,61,9],[61,12,61,13],[61,15,61,18],[63,2,63,7],[60,8,60,9],[60,13,60,18],[60,19,60,20],[60,21,60,22],[59,8,59,9],[59,13,59,18],[59,19,59,20],[59,21,59,22],[59,2,59,7],[60,2,60,7],[58,8,58,9],[58,13,58,18],[58,19,58,20],[58,21,58,22],[57,8,57,9],[57,13,57,18],[57,19,57,20],[57,21,57,22],[57,2,57,7],[58,2,58,7],[56,8,56,9],[56,13,56,18],[56,19,56,20],[56,21,56,22],[54,19,54,20],[54,21,54,22],[55,1,55,3],[55,6,55,7],[55,8,55,9],[55,13,55,14],[55,15,55,18],[55,19,55,20],[55,21,55,22],[54,2,54,3],[54,4,54,5],[54,6,54,7],[54,8,54,9],[54,12,54,13],[54,15,54,18],[56,2,56,7],[49,21,49,22],[48,8,48,9],[48,13,48,18],[48,19,48,20],[48,21,48,22],[48,2,48,7],[49,2,49,7],[47,8,47,9],[47,13,47,18],[47,19,47,20],[47,21,47,22],[47,2,47,7],[45,19,45,20],[45,21,45,22],[46,1,46,3],[46,6,46,7],[46,8,46,9],[46,13,46,14],[46,15,46,18],[46,19,46,20],[46,21,46,22],[45,2,45,3],[45,4,45,5],[45,6,45,7],[45,8,45,9],[45,12,45,13],[45,15,45,18],[43,8,43,9],[43,13,43,18],[43,19,43,20],[43,21,43,22],[42,8,42,9],[42,13,42,18],[42,19,42,20],[42,21,42,22],[42,2,42,7],[43,2,43,7],[41,8,41,9],[41,13,41,18],[41,19,41,20],[41,21,41,22],[40,8,40,9],[40,13,40,18],[40,19,40,20],[40,21,40,22],[40,2,40,7],[41,2,41,7],[38,21,38,22],[39,8,39,9],[39,13,39,18],[39,19,39,20],[39,21,39,22],[38,1,38,3],[38,6,38,7],[38,8,38,9],[38,13,38,14],[38,15,38,18],[38,19,38,20],[39,2,39,7],[37,2,37,3],[37,4,37,5],[37,6,37,7],[37,8,37,9],[37,12,37,13],[37,15,37,18],[37,19,37,20],[37,21,37,22],[35,8,35,9],[35,13,35,18],[35,19,35,20],[35,21,35,22],[35,2,35,5],[35,6,35,7],[34,8,34,9],[34,13,34,18],[34,19,34,20],[34,21,34,22],[33,8,33,9],[33,13,33,18],[33,19,33,20],[33,21,33,22],[34,2,34,5],[33,2,33,5],[34,6,34,7],[33,6,33,7],[32,8,32,9],[32,13,32,18],[32,19,32,20],[32,21,32,22],[31,8,31,9],[31,13,31,18],[31,19,31,20],[31,21,31,22],[31,2,31,5],[31,6,31,7],[32,2,32,5],[32,6,32,7],[29,19,29,20],[29,21,29,22],[30,1,30,3],[30,6,30,7],[30,8,30,9],[30,13,30,14],[30,15,30,18],[30,19,30,20],[30,21,30,22],[29,2,29,3],[29,4,29,5],[29,6,29,7],[29,8,29,9],[29,12,29,13],[29,15,29,18],[27,8,27,9],[27,13,27,18],[27,19,27,20],[27,21,27,22],[26,8,26,9],[26,13,26,18],[26,19,26,20],[26,21,26,22],[26,2,26,7],[27,2,27,7],[25,8,25,9],[25,13,25,18],[25,19,25,20],[25,21,25,22],[24,8,24,9],[24,13,24,18],[24,19,24,20],[24,21,24,22],[25,2,25,7],[23,8,23,9],[23,13,23,18],[23,19,23,20],[23,21,23,22],[21,19,21,20],[21,21,21,22],[22,1,22,3],[22,6,22,7],[22,8,22,9],[22,13,22,14],[22,15,22,18],[22,19,22,20],[22,21,22,22],[21,2,21,3],[21,4,21,5],[21,6,21,7],[21,8,21,9],[21,12,21,13],[21,15,21,18],[19,8,19,9],[19,13,19,18],[19,19,19,20],[19,21,19,22],[18,8,18,9],[18,13,18,18],[18,19,18,20],[18,21,18,22],[17,8,17,9],[17,13,17,18],[17,19,17,20],[17,21,17,22],[16,8,16,9],[16,13,16,18],[16,19,16,20],[16,21,16,22],[15,8,15,9],[15,13,15,18],[15,19,15,20],[15,21,15,22],[13,19,13,20],[13,21,13,22],[14,1,14,3],[14,6,14,7],[14,8,14,9],[14,13,14,14],[14,15,14,18],[14,19,14,20],[14,21,14,22],[13,2,13,3],[13,4,13,5],[13,6,13,7],[13,8,13,9],[13,12,13,13],[13,15,13,18],[11,1,11,21],[12,1,12,10],[4,1,4,4],[5,4,6,4],[5,6,5,11],[5,12,5,22],[6,1,6,3],[7,1,7,4],[7,6,7,11],[7,12,7,22],[0,1,0,22],[1,1,1,22],[2,1,2,10],[3,1,3,4],[3,6,3,11],[3,12,3,22],[8,1,8,4],[9,5,9,6],[9,8,9,9],[9,12,9,14]]}
[null,"TEAM ROSTER LINEUP FORM"]
[null,"This form is DUE in the League Office a Minimum of 1 Week Prior to Start Date"]
[]
[null,null,null,null,null,null,"LEAGUE  :",null,null,null,null,null,"Classic"]
[null,"FOR HOUSE COMPUTER USE"]
[null,null,null,null,null,null,"SECRETARY  :",null,null,null,null,null,"Marty Bell"]
[null,"Date Received"]
[null,null,null,null,null,null,"START DATE  :",null,null,null,null,null,"2016-09-05"]
[]
[null,"CIRCLE APPROPRIATE FORMAT(S):                                     MEN          WOMEN          MIXED          NO-TAP",null,null,null,"MEN",null,null,"WOMEN",null,null,null,"MIXED",null,null,"NO TAP"]
[]
[null,"League Secretary if your bowlers start the season with a Book Average or an Entering Average enter the figure in the appropriate column. It will be assumed that columns left blank mean the bowlers start the season with NO AVERAGE."]
[]
[null,{"$f":"_xlfn.IFNA(VLOOKUP($A16,Roster!$A$2:$AF$34,2,0),0)","v":1},"TEAM",null,{"$f":"_xlfn.IFNA(VLOOKUP($A16,Roster!$A$2:$AF$34,3,0),0)","v":0},null,"BK",null,"AVG",null,null,null,{"$f":"_xlfn.IFNA(VLOOKUP($X16,Roster!$A$2:$AF$34,2,0),0)","v":2},null,"TEAM",{"$f":"_xlfn.IFNA(VLOOKUP($X16,Roster!$A$2:$AF$34,3,0),0)","v":"Rascals"},null,null,null,"BK",null,"AVG",null,null,null,"Team No. and Name  Formula (without the quotes)"]
[null,"BOWLER",null,null,null,null,null,null,null,null,null,null,null,"BOWLER",null,null,null,null,null,null,null,null,null,null,null,"\"=IFNA(VLOOKUP($A16,'2016'!$A$2:$AA$32,2,0),0)\""]
[11,1,{"$f":"_xlfn.IFNA(VLOOKUP($A16,Roster!$A$2:$AF$33,8,0),0)","v":"David Burke"},null,null,null,null,null,{"$f":"_xlfn.IFNA(VLOOKUP($A16,Roster!$A$2:$AF$34,29,0),0)","v":0},null,null,null,1,{"$f":"_xlfn.IFNA(VLOOKUP($X16,Roster!$A$2:$AF$33,8,0),0)","v":"Marty Bell"},null,null,null,null,null,null,null,{"$f":"_xlfn.IFNA(VLOOKUP($X16,Roster!$A$2:$AF$34,29,0),0)","v":204},null,21,null,"\"=IFNA(VLOOKUP($A16,'2016'!$A$2:$AA$32,3,0),0)\""]
[12,2,{"$f":"_xlfn.IFNA(VLOOKUP($A17,Roster!$A$2:$AF$33,8,0),0)","v":"Rich Matich"},null,null,null,null,null,{"$f":"_xlfn.IFNA(VLOOKUP($A17,Roster!$A$2:$AF$34,29,0),0)","v":222},null,null,null,2,{"$f":"_xlfn.IFNA(VLOOKUP($X17,Roster!$A$2:$AF$33,8,0),0)","v":"Alex Balok"},null,null,null,null,null,null,null,{"$f":"_xlfn.IFNA(VLOOKUP($X17,Roster!$A$2:$AF$34,29,0),0)","v":215},null,22,null,"\"=IFNA(VLOOKUP($X16,'2016'!$A$2:$AA$32,2,0),0)\""]
[13,3,{"$f":"_xlfn.IFNA(VLOOKUP($A18,Roster!$A$2:$AF$33,8,0),0)","v":"Cal Shirey"},null,null,null,null,null,{"$f":"_xlfn.IFNA(VLOOKUP($A18,Roster!$A$2:$AF$34,29,0),0)","v":228},null,null,null,3,{"$f":"_xlfn.IFNA(VLOOKUP($X18,Roster!$A$2:$AF$33,8,0),0)","v":"Johnny Gonzales"},null,null,null,null,null,null,null,{"$f":"_xlfn.IFNA(VLOOKUP($X18,Roster!$A$2:$AF$34,29,0),0)","v":220},null,23,null,"\"=IFNA(VLOOKUP($X16,'2016'!$A$2:$AA$32,3,0),0)\""]
[14,4,{"$f":"_xlfn.IFNA(VLOOKUP($A19,Roster!$A$2:$AF$33,8,0),0)","v":0},null,null,null,null,null,{"$f":"_xlfn.IFNA(VLOOKUP($A19,Roster!$A$2:$AF$34,29,0),0)","v":0},null,null,null,4,{"$f":"_xlfn.IFNA(VLOOKUP($X19,Roster!$A$2:$AF$33,8,0),0)","v":0},null,null,null,null,null,null,null,{"$f":"_xlfn.IFNA(VLOOKUP($X19,Roster!$A$2:$AF$34,29,0),0)","v":0},null,24]
[15,5,{"$f":"_xlfn.IFNA(VLOOKUP($A20,Roster!$A$2:$AF$33,8,0),0)","v":0},null,null,null,null,null,{"$f":"_xlfn.IFNA(VLOOKUP($A20,Roster!$A$2:$AF$34,25,0),0)","v":0},null,null,null,5,{"$f":"_xlfn.IFNA(VLOOKUP($X20,Roster!$A$2:$AF$33,8,0),0)","v":0},null,null,null,null,null,null,null,{"$f":"_xlfn.IFNA(VLOOKUP($X20,Roster!$A$2:$AF$34,25,0),0)","v":0},null,25]
[]
[null,{"$f":"_xlfn.IFNA(VLOOKUP($A24,Roster!$A$2:$AF$34,2,0),0)","v":3},"TEAM",null,{"$f":"_xlfn.IFNA(VLOOKUP($A24,Roster!$A$2:$AF$34,3,0),0)","v":0},null,"BK",null,"AVG",null,null,null,{"$f":"_xlfn.IFNA(VLOOKUP($X24,Roster!$A$2:$AF$34,2,0),0)","v":4},null,"TEAM",{"$f":"_xlfn.IFNA(VLOOKUP($X24,Roster!$A$2:$AF$34,3,0),0)","v":"Pro-Tech"},null,null,null,"BK",null,"AVG",null,null,null,"AVG Formula (without the quotes)"]
[null,"BOWLER",null,null,null,null,null,null,null,null,null,null,null,"BOWLER",null,null,null,null,null,null,null,null,null,null,null,"\"=IFNA(VLOOKUP($A18,'2016'!$A$2:$AA$32,25,0),0)\""]
[31,1,{"$f":"_xlfn.IFNA(VLOOKUP($A24,Roster!$A$2:$AF$33,8,0),0)","v":"Jeff Richard"},null,null,null,null,null,{"$f":"_xlfn.IFNA(VLOOKUP($A24,Roster!$A$2:$AF$34,29,0),0)","v":205},null,null,null,1,{"$f":"_xlfn.IFNA(VLOOKUP($X24,Roster!$A$2:$AF$33,8,0),0)","v":"Dave Schmitz"},null,null,null,null,null,null,null,{"$f":"_xlfn.IFNA(VLOOKUP($X24,Roster!$A$2:$AF$34,29,0),0)","v":199},null,41,null,"\"=IFNA(VLOOKUP($X18,'2016'!$A$2:$AA$32,25,0),0)\""]
[32,2,{"$f":"_xlfn.IFNA(VLOOKUP($A25,Roster!$A$2:$AF$33,8,0),0)","v":"Jerry Elsen"},null,null,null,null,null,{"$f":"_xlfn.IFNA(VLOOKUP($A25,Roster!$A$2:$AF$34,29,0),0)","v":216},null,null,null,2,{"$f":"_xlfn.IFNA(VLOOKUP($X25,Roster!$A$2:$AF$33,8,0),0)","v":"John Babbitt"},null,null,null,null,null,null,null,{"$f":"_xlfn.IFNA(VLOOKUP($X25,Roster!$A$2:$AF$34,29,0),0)","v":220},null,42]
[33,3,{"$f":"_xlfn.IFNA(VLOOKUP($A26,Roster!$A$2:$AF$33,8,0),0)","v":"Bill Poff"},null,null,null,null,null,{"$f":"_xlfn.IFNA(VLOOKUP($A26,Roster!$A$2:$AF$34,29,0),0)","v":221},null,null,null,3,{"$f":"_xlfn.IFNA(VLOOKUP($X26,Roster!$A$2:$AF$33,8,0),0)","v":"Larry Tolar"},null,null,null,null,null,null,null,{"$f":"_xlfn.IFNA(VLOOKUP($X26,Roster!$A$2:$AF$34,29,0),0)","v":226},null,43]
[34,4,{"$f":"_xlfn.IFNA(VLOOKUP($A27,Roster!$A$2:$AF$33,8,0),0)","v":0},null,null,null,null,null,{"$f":"_xlfn.IFNA(VLOOKUP($A27,Roster!$A$2:$AF$34,29,0),0)","v":0},null,null,null,4,{"$f":"_xlfn.IFNA(VLOOKUP($X27,Roster!$A$2:$AF$33,8,0),0)","v":0},null,null,null,null,null,null,null,{"$f":"_xlfn.IFNA(VLOOKUP($X27,Roster!$A$2:$AF$34,29,0),0)","v":0},null,44,null,"Name Formula (without the quotes)"]
[35,5,{"$f":"_xlfn.IFNA(VLOOKUP($A28,Roster!$A$2:$AF$33,8,0),0)","v":0},null,null,null,null,null,{"$f":"_xlfn.IFNA(VLOOKUP($A28,Roster!$A$2:$AF$34,25,0),0)","v":0},null,null,null,5,{"$f":"_xlfn.IFNA(VLOOKUP($X28,Roster!$A$2:$AF$33,8,0),0)","v":0},null,null,null,null,null,null,null,{"$f":"_xlfn.IFNA(VLOOKUP($X28,Roster!$A$2:$AF$34,25,0),0)","v":0},null,45,null,"\"=ifna(VLOOKUP($A24,'2016'!$A$2:$AA$31,6)&\" \"&VLOOKUP($A24,'2016'!$A$2:$AA$31,7,0),0)\""]
[null,null,null,null,null,null,null,null,null,null,null,null,null,null,null,null,null,null,null,null,null,null,null,null,null,"\"=ifna(VLOOKUP($X24,'2016'!$A$2:$AA$31,6)&\" \"&VLOOKUP($X24,'2016'!$A$2:$AA$31,7,0),0)\""]
[null,{"$f":"_xlfn.IFNA(VLOOKUP($A32,Roster!$A$2:$AF$34,2,0),0)","v":5},"TEAM",null,{"$f":"_xlfn.IFNA(VLOOKUP($A32,Roster!$A$2:$AF$34,3,0),0)","v":0},null,"BK",null,"AVG",null,null,null,{"$f":"_xlfn.IFNA(VLOOKUP($X32,Roster!$A$2:$AF$34,2,0),0)","v":6},null,"TEAM",{"$f":"_xlfn.IFNA(VLOOKUP($X32,Roster!$A$2:$AF$34,3,0),0)","v":"Your Strike Shop"},null,null,null,"BK",null,"AVG"]
[null,"BOWLER",null,null,null,null,null,null,null,null,null,null,null,"BOWLER"]
[51,1,{"$f":"_xlfn.IFNA(VLOOKUP($A32,Roster!$A$2:$AF$33,8,0),0)","v":"Dana Barrette"},null,null,null,null,null,{"$f":"_xlfn.IFNA(VLOOKUP($A32,Roster!$A$2:$AF$34,29,0),0)","v":213},null,null,null,1,{"$f":"_xlfn.IFNA(VLOOKUP($X32,Roster!$A$2:$AF$33,8,0),0)","v":"Ken Pavlik"},null,null,null,null,null,null,null,{"$f":"_xlfn.IFNA(VLOOKUP($X32,Roster!$A$2:$AF$34,29,0),0)","v":192},null,61]
[52,2,{"$f":"_xlfn.IFNA(VLOOKUP($A33,Roster!$A$2:$AF$33,8,0),0)","v":"Larry Latham"},null,null,null,null,null,{"$f":"_xlfn.IFNA(VLOOKUP($A33,Roster!$A$2:$AF$34,29,0),0)","v":215},null,null,null,2,{"$f":"_xlfn.IFNA(VLOOKUP($X33,Roster!$A$2:$AF$33,8,0),0)","v":"Mike Watt"},null,null,null,null,null,null,null,{"$f":"_xlfn.IFNA(VLOOKUP($X33,Roster!$A$2:$AF$34,29,0),0)","v":223},null,62]
[53,3,{"$f":"_xlfn.IFNA(VLOOKUP($A34,Roster!$A$2:$AF$33,8,0),0)","v":"Bob Reed"},null,null,null,null,null,{"$f":"_xlfn.IFNA(VLOOKUP($A34,Roster!$A$2:$AF$34,29,0),0)","v":200},null,null,null,3,{"$f":"_xlfn.IFNA(VLOOKUP($X34,Roster!$A$2:$AF$33,8,0),0)","v":0},null,null,null,null,null,null,null,{"$f":"_xlfn.IFNA(VLOOKUP($X34,Roster!$A$2:$AF$34,29,0),0)","v":0},null,63]
[54,4,{"$f":"_xlfn.IFNA(VLOOKUP($A35,Roster!$A$2:$AF$33,8,0),0)","v":0},null,null,null,null,null,{"$f":"_xlfn.IFNA(VLOOKUP($A35,Roster!$A$2:$AF$34,29,0),0)","v":0},null,null,null,4,{"$f":"_xlfn.IFNA(VLOOKUP($X35,Roster!$A$2:$AF$33,8,0),0)","v":0},null,null,null,null,null,null,null,{"$f":"_xlfn.IFNA(VLOOKUP($X35,Roster!$A$2:$AF$34,29,0),0)","v":0},null,64]
[55,5,{"$f":"_xlfn.IFNA(VLOOKUP($A36,Roster!$A$2:$AF$33,8,0),0)","v":0},null,null,null,null,null,{"$f":"_xlfn.IFNA(VLOOKUP($A36,Roster!$A$2:$AF$34,25,0),0)","v":0},null,null,null,5,{"$f":"_xlfn.IFNA(VLOOKUP($X36,Roster!$A$2:$AF$33,8,0),0)","v":0},null,null,null,null,null,null,null,{"$f":"_xlfn.IFNA(VLOOKUP($X36,Roster!$A$2:$AF$34,25,0),0)","v":0},null,65]
[]
[null,{"$f":"_xlfn.IFNA(VLOOKUP($A40,Roster!$A$2:$AF$34,2,0),0)","v":7},"TEAM",null,{"$f":"_xlfn.IFNA(VLOOKUP($A40,Roster!$A$2:$AF$34,3,0),0)","v":"Bitburgers"},null,"BK",null,"AVG",null,null,null,{"$f":"_xlfn.IFNA(VLOOKUP($X40,Roster!$A$2:$AF$34,2,0),0)","v":8},null,"TEAM",{"$f":"_xlfn.IFNA(VLOOKUP($X40,Roster!$A$2:$AF$34,3,0),0)","v":"Brenda's Kitchen"},null,null,null,"BK",null,"AVG"]
[null,"BOWLER",null,null,null,null,null,null,null,null,null,null,null,"BOWLER"]
[71,1,{"$f":"_xlfn.IFNA(VLOOKUP($A40,Roster!$A$2:$AF$33,8,0),0)","v":"Paul Kleckner"},null,null,null,null,null,{"$f":"_xlfn.IFNA(VLOOKUP($A40,Roster!$A$2:$AF$34,29,0),0)","v":218},null,null,null,1,{"$f":"_xlfn.IFNA(VLOOKUP($X40,Roster!$A$2:$AF$33,8,0),0)","v":"Dan Imholte"},null,null,null,null,null,null,null,{"$f":"_xlfn.IFNA(VLOOKUP($X40,Roster!$A$2:$AF$34,29,0),0)","v":205},null,81]
[72,2,{"$f":"_xlfn.IFNA(VLOOKUP($A41,Roster!$A$2:$AF$33,8,0),0)","v":"Bob Edge"},null,null,null,null,null,{"$f":"_xlfn.IFNA(VLOOKUP($A41,Roster!$A$2:$AF$34,29,0),0)","v":207},null,null,null,2,{"$f":"_xlfn.IFNA(VLOOKUP($X41,Roster!$A$2:$AF$33,8,0),0)","v":"Terry Hamman"},null,null,null,null,null,null,null,{"$f":"_xlfn.IFNA(VLOOKUP($X41,Roster!$A$2:$AF$34,29,0),0)","v":207},null,82]
[73,3,{"$f":"_xlfn.IFNA(VLOOKUP($A42,Roster!$A$2:$AF$33,8,0),0)","v":"Terry Camp"},null,null,null,null,null,{"$f":"_xlfn.IFNA(VLOOKUP($A42,Roster!$A$2:$AF$34,29,0),0)","v":219},null,null,null,3,{"$f":"_xlfn.IFNA(VLOOKUP($X42,Roster!$A$2:$AF$33,8,0),0)","v":"Gary Bentley"},null,null,null,null,null,null,null,{"$f":"_xlfn.IFNA(VLOOKUP($X42,Roster!$A$2:$AF$34,29,0),0)","v":209},null,83]
[74,4,{"$f":"_xlfn.IFNA(VLOOKUP($A43,Roster!$A$2:$AF$33,8,0),0)","v":0},null,null,null,null,null,{"$f":"_xlfn.IFNA(VLOOKUP($A43,Roster!$A$2:$AF$34,29,0),0)","v":0},null,null,null,4,{"$f":"_xlfn.IFNA(VLOOKUP($X43,Roster!$A$2:$AF$33,8,0),0)","v":0},null,null,null,null,null,null,null,{"$f":"_xlfn.IFNA(VLOOKUP($X43,Roster!$A$2:$AF$34,29,0),0)","v":0},null,84]
[75,5,{"$f":"_xlfn.IFNA(VLOOKUP($A44,Roster!$A$2:$AF$33,8,0),0)","v":0},null,null,null,null,null,{"$f":"_xlfn.IFNA(VLOOKUP($A44,Roster!$A$2:$AF$34,29,0),0)","v":0},null,null,null,5,{"$f":"_xlfn.IFNA(VLOOKUP($X44,Roster!$A$2:$AF$33,8,0),0)","v":0},null,null,null,null,null,null,null,{"$f":"_xlfn.IFNA(VLOOKUP($X44,Roster!$A$2:$AF$34,25,0),0)","v":0},null,85]
[]
[null,{"$f":"_xlfn.IFNA(VLOOKUP($A48,Roster!$A$2:$AF$34,2,0),0)","v":9},"TEAM",null,{"$f":"_xlfn.IFNA(VLOOKUP($A48,Roster!$A$2:$AF$34,3,0),0)","v":0},null,"BK",null,"AVG",null,null,null,{"$f":"_xlfn.IFNA(VLOOKUP($X48,Roster!$A$2:$AF$34,2,0),0)","v":10},null,"TEAM",{"$f":"_xlfn.IFNA(VLOOKUP($X48,Roster!$A$2:$AF$34,3,0),0)","v":"Vital Care"},null,null,null,"BK",null,"AVG"]
[null,"BOWLER",null,null,null,null,null,null,null,null,null,null,null,"BOWLER"]
[91,1,{"$f":"_xlfn.IFNA(VLOOKUP($A48,Roster!$A$2:$AF$33,8,0),0)","v":"Joe Couch"},null,null,null,null,null,{"$f":"_xlfn.IFNA(VLOOKUP($A48,Roster!$A$2:$AF$34,29,0),0)","v":205},null,null,null,1,{"$f":"_xlfn.IFNA(VLOOKUP($X48,Roster!$A$2:$AF$33,8,0),0)","v":"Andy Lewis"},null,null,null,null,null,null,null,{"$f":"_xlfn.IFNA(VLOOKUP($X48,Roster!$A$2:$AF$34,29,0),0)","v":203},null,101]
[92,2,{"$f":"_xlfn.IFNA(VLOOKUP($A49,Roster!$A$2:$AF$33,8,0),0)","v":"Paul Williams"},null,null,null,null,null,{"$f":"_xlfn.IFNA(VLOOKUP($A49,Roster!$A$2:$AF$34,29,0),0)","v":211},null,null,null,2,{"$f":"_xlfn.IFNA(VLOOKUP($X49,Roster!$A$2:$AF$33,8,0),0)","v":"Dennis Barnes"},null,null,null,null,null,null,null,{"$f":"_xlfn.IFNA(VLOOKUP($X49,Roster!$A$2:$AF$34,29,0),0)","v":211},null,102]
[93,3,{"$f":"_xlfn.IFNA(VLOOKUP($A50,Roster!$A$2:$AF$33,8,0),0)","v":"Ted Bogumil"},null,null,null,null,null,{"$f":"_xlfn.IFNA(VLOOKUP($A50,Roster!$A$2:$AF$34,29,0),0)","v":231},null,null,null,3,{"$f":"_xlfn.IFNA(VLOOKUP($X50,Roster!$A$2:$AF$33,8,0),0)","v":"Gary McCoy"},null,null,null,null,null,null,null,{"$f":"_xlfn.IFNA(VLOOKUP($X50,Roster!$A$2:$AF$34,29,0),0)","v":227},null,103]
[94,4,{"$f":"_xlfn.IFNA(VLOOKUP($A51,Roster!$A$2:$AF$33,8,0),0)","v":0},null,null,null,null,null,{"$f":"_xlfn.IFNA(VLOOKUP($A51,Roster!$A$2:$AF$34,29,0),0)","v":0},null,null,null,4,{"$f":"_xlfn.IFNA(VLOOKUP($X51,Roster!$A$2:$AF$33,8,0),0)","v":0},null,null,null,null,null,null,null,{"$f":"_xlfn.IFNA(VLOOKUP($X51,Roster!$A$2:$AF$34,29,0),0)","v":0},null,104]
[95,5,{"$f":"_xlfn.IFNA(VLOOKUP($A52,Roster!$A$2:$AF$33,8,0),0)","v":0},null,null,null,null,null,{"$f":"_xlfn.IFNA(VLOOKUP($A52,Roster!$A$2:$AF$34,29,0),0)","v":0},null,null,null,5,{"$f":"_xlfn.IFNA(VLOOKUP($X52,Roster!$A$2:$AF$33,8,0),0)","v":0},null,null,null,null,null,null,null,{"$f":"_xlfn.IFNA(VLOOKUP($X52,Roster!$A$2:$AF$34,25,0),0)","v":0},null,105]
[]
[null,"League Secretary if your bowlers start the season with a Book Average or an Entering Average enter the figure in the \nappropriate column. It will be assumed that columns left blank mean the bowlers start the season with NO AVERAGE."]
[null,{"$f":"_xlfn.IFNA(VLOOKUP($A57,Roster!$A$2:$AF$34,2,0),0)","v":11},"TEAM",null,{"$f":"_xlfn.IFNA(VLOOKUP($A57,Roster!$A$2:$AF$34,3,0),0)","v":0},null,"BK",null,"AVG",null,null,null,{"$f":"_xlfn.IFNA(VLOOKUP($X57,Roster!$A$2:$AF$34,2,0),0)","v":0},null,"TEAM",{"$f":"_xlfn.IFNA(VLOOKUP($X57,Roster!$A$2:$AF$34,3,0),0)","v":0},null,null,null,"BK",null,"AVG"]
[null,"BOWLER",null,null,null,null,null,null,null,null,null,null,null,"BOWLER"]
[111,1,{"$f":"_xlfn.IFNA(VLOOKUP($A57,Roster!$A$2:$AF$33,6)&\" \"&VLOOKUP($A57,Roster!$A$2:$AF$33,7,0),0)","v":0},null,null,null,null,null,{"$f":"_xlfn.IFNA(VLOOKUP($A57,Roster!$A$2:$AF$34,25,0),0)","v":191},null,null,null,1,{"$f":"_xlfn.IFNA(VLOOKUP($X57,Roster!$A$2:$AF$33,6)&\" \"&VLOOKUP($X57,Roster!$A$2:$AF$33,7,0),0)","v":0},null,null,null,null,null,null,null,{"$f":"_xlfn.IFNA(VLOOKUP($X57,Roster!$A$2:$AF$34,25,0),0)","v":0},null,121]
[112,2,{"$f":"_xlfn.IFNA(VLOOKUP($A58,Roster!$A$2:$AF$33,6)&\" \"&VLOOKUP($A58,Roster!$A$2:$AF$33,7,0),0)","v":0},null,null,null,null,null,{"$f":"_xlfn.IFNA(VLOOKUP($A58,Roster!$A$2:$AF$34,25,0),0)","v":0},null,null,null,2,{"$f":"_xlfn.IFNA(VLOOKUP($X58,Roster!$A$2:$AF$33,6)&\" \"&VLOOKUP($X58,Roster!$A$2:$AF$33,7,0),0)","v":0},null,null,null,null,null,null,null,{"$f":"_xlfn.IFNA(VLOOKUP($X58,Roster!$A$2:$AF$34,25,0),0)","v":0},null,122]
[113,3,{"$f":"_xlfn.IFNA(VLOOKUP($A59,Roster!$A$2:$AF$33,6)&\" \"&VLOOKUP($A59,Roster!$A$2:$AF$33,7,0),0)","v":0},null,null,null,null,null,{"$f":"_xlfn.IFNA(VLOOKUP($A59,Roster!$A$2:$AF$34,25,0),0)","v":0},null,null,null,3,{"$f":"_xlfn.IFNA(VLOOKUP($X59,Roster!$A$2:$AF$33,6)&\" \"&VLOOKUP($X59,Roster!$A$2:$AF$33,7,0),0)","v":0},null,null,null,null,null,null,null,{"$f":"_xlfn.IFNA(VLOOKUP($X59,Roster!$A$2:$AF$34,25,0),0)","v":0},null,123]
[114,4,{"$f":"_xlfn.IFNA(VLOOKUP($A60,Roster!$A$2:$AF$33,6)&\" \"&VLOOKUP($A60,Roster!$A$2:$AF$33,7,0),0)","v":0},null,null,null,null,null,{"$f":"_xlfn.IFNA(VLOOKUP($A60,Roster!$A$2:$AF$34,25,0),0)","v":0},null,null,null,4,{"$f":"_xlfn.IFNA(VLOOKUP($X60,Roster!$A$2:$AF$33,6)&\" \"&VLOOKUP($X60,Roster!$A$2:$AF$33,7,0),0)","v":0},null,null,null,null,null,null,null,{"$f":"_xlfn.IFNA(VLOOKUP($X60,Roster!$A$2:$AF$34,25,0),0)","v":0},null,124]
[115,5,{"$f":"_xlfn.IFNA(VLOOKUP($A61,Roster!$A$2:$AF$33,6)&\" \"&VLOOKUP($A61,Roster!$A$2:$AF$33,7,0),0)","v":0},null,null,null,null,null,{"$f":"_xlfn.IFNA(VLOOKUP($A61,Roster!$A$2:$AF$34,25,0),0)","v":0},null,null,null,5,{"$f":"_xlfn.IFNA(VLOOKUP($X61,Roster!$A$2:$AF$33,6)&\" \"&VLOOKUP($X61,Roster!$A$2:$AF$33,7,0),0)","v":0},null,null,null,null,null,null,null,{"$f":"_xlfn.IFNA(VLOOKUP($X61,Roster!$A$2:$AF$34,25,0),0)","v":0},null,125]
[null,{"$f":"_xlfn.IFNA(VLOOKUP($A64,Roster!$A$2:$AF$34,2,0),0)","v":0},"TEAM",null,{"$f":"_xlfn.IFNA(VLOOKUP($A64,Roster!$A$2:$AF$34,3,0),0)","v":0},null,"BK",null,"AVG",null,null,null,{"$f":"_xlfn.IFNA(VLOOKUP($X64,Roster!$A$2:$AF$34,2,0),0)","v":0},null,"TEAM",{"$f":"_xlfn.IFNA(VLOOKUP($X64,Roster!$A$2:$AF$34,3,0),0)","v":0},null,null,null,"BK",null,"AVG"]
[null,"BOWLER",null,null,null,null,null,null,null,null,null,null,null,"BOWLER"]
[131,1,{"$f":"_xlfn.IFNA(VLOOKUP($A64,Roster!$A$2:$AF$33,6)&\" \"&VLOOKUP($A64,Roster!$A$2:$AF$33,7,0),0)","v":0},null,null,null,null,null,{"$f":"_xlfn.IFNA(VLOOKUP($A64,Roster!$A$2:$AF$34,25,0),0)","v":0},null,null,null,1,null,null,null,null,null,null,null,null,{"$f":"_xlfn.IFNA(VLOOKUP($X64,Roster!$A$2:$AF$34,25,0),0)","v":0},null,141]
[132,2,{"$f":"_xlfn.IFNA(VLOOKUP($A65,Roster!$A$2:$AF$33,6)&\" \"&VLOOKUP($A65,Roster!$A$2:$AF$33,7,0),0)","v":0},null,null,null,null,null,{"$f":"_xlfn.IFNA(VLOOKUP($A65,Roster!$A$2:$AF$34,25,0),0)","v":0},null,null,null,2,null,null,null,null,null,null,null,null,{"$f":"_xlfn.IFNA(VLOOKUP($X65,Roster!$A$2:$AF$34,25,0),0)","v":0},null,142]
[133,3,{"$f":"_xlfn.IFNA(VLOOKUP($A66,Roster!$A$2:$AF$33,6)&\" \"&VLOOKUP($A66,Roster!$A$2:$AF$33,7,0),0)","v":0},null,null,null,null,null,{"$f":"_xlfn.IFNA(VLOOKUP($A66,Roster!$A$2:$AF$34,25,0),0)","v":0},null,null,null,3,null,null,null,null,null,null,null,null,{"$f":"_xlfn.IFNA(VLOOKUP($X66,Roster!$A$2:$AF$34,25,0),0)","v":0},null,143]
[134,4,{"$f":"_xlfn.IFNA(VLOOKUP($A67,Roster!$A$2:$AF$33,6)&\" \"&VLOOKUP($A67,Roster!$A$2:$AF$33,7,0),0)","v":0},null,null,null,null,null,{"$f":"_xlfn.IFNA(VLOOKUP($A67,Roster!$A$2:$AF$34,25,0),0)","v":0},null,null,null,4,null,null,null,null,null,null,null,null,{"$f":"_xlfn.IFNA(VLOOKUP($X67,Roster!$A$2:$AF$34,25,0),0)","v":0},null,144]
[135,5,{"$f":"_xlfn.IFNA(VLOOKUP($A68,Roster!$A$2:$AF$33,6)&\" \"&VLOOKUP($A68,Roster!$A$2:$AF$33,7,0),0)","v":0},null,null,null,null,null,{"$f":"_xlfn.IFNA(VLOOKUP($A68,Roster!$A$2:$AF$34,25,0),0)","v":0},null,null,null,5,null,null,null,null,null,null,null,null,{"$f":"_xlfn.IFNA(VLOOKUP($X68,Roster!$A$2:$AF$34,25,0),0)","v":0},null,145]
[]
[null,"League Secretary if your bowlers start the season with a Book Average or an Entering Average enter the figure in the \nappropriate column. It will be assumed that columns left blank mean the bowlers start the season with NO AVERAGE."]
[]
[null,{"$f":"_xlfn.IFNA(VLOOKUP($A74,Roster!$A$2:$AF$34,2,0),0)","v":0},"TEAM",null,{"$f":"_xlfn.IFNA(VLOOKUP($A74,Roster!$A$2:$AF$34,3,0),0)","v":0},null,"BK",null,"AVG",null,null,null,{"$f":"_xlfn.IFNA(VLOOKUP($X74,Roster!$A$2:$AF$34,2,0),0)","v":0},null,"TEAM",{"$f":"_xlfn.IFNA(VLOOKUP($X74,Roster!$A$2:$AF$34,3,0),0)","v":0},null,null,null,"BK",null,"AVG"]
[null,"BOWLER",null,null,null,null,null,null,null,null,null,null,null,"BOWLER"]
[151,1,{"$f":"_xlfn.IFNA(VLOOKUP($A74,Roster!$A$2:$AF$33,6)&\" \"&VLOOKUP($A74,Roster!$A$2:$AF$33,7,0),0)","v":0},null,null,null,null,null,{"$f":"_xlfn.IFNA(VLOOKUP($A74,Roster!$A$2:$AF$34,25,0),0)","v":0},null,null,null,1,{"$f":"_xlfn.IFNA(VLOOKUP($X74,Roster!$A$2:$AF$33,6)&\" \"&VLOOKUP($X74,Roster!$A$2:$AF$33,7,0),0)","v":0},null,null,null,null,null,null,null,{"$f":"_xlfn.IFNA(VLOOKUP($X74,Roster!$A$2:$AF$34,25,0),0)","v":0},null,161]
[152,2,{"$f":"_xlfn.IFNA(VLOOKUP($A75,Roster!$A$2:$AF$33,6)&\" \"&VLOOKUP($A75,Roster!$A$2:$AF$33,7,0),0)","v":0},null,null,null,null,null,{"$f":"_xlfn.IFNA(VLOOKUP($A75,Roster!$A$2:$AF$34,25,0),0)","v":0},null,null,null,2,{"$f":"_xlfn.IFNA(VLOOKUP($X75,Roster!$A$2:$AF$33,6)&\" \"&VLOOKUP($X75,Roster!$A$2:$AF$33,7,0),0)","v":0},null,null,null,null,null,null,null,{"$f":"_xlfn.IFNA(VLOOKUP($X75,Roster!$A$2:$AF$34,25,0),0)","v":0},null,162]
[153,3,{"$f":"_xlfn.IFNA(VLOOKUP($A76,Roster!$A$2:$AF$33,6)&\" \"&VLOOKUP($A76,Roster!$A$2:$AF$33,7,0),0)","v":0},null,null,null,null,null,{"$f":"_xlfn.IFNA(VLOOKUP($A76,Roster!$A$2:$AF$34,25,0),0)","v":0},null,null,null,3,{"$f":"_xlfn.IFNA(VLOOKUP($X76,Roster!$A$2:$AF$33,6)&\" \"&VLOOKUP($X76,Roster!$A$2:$AF$33,7,0),0)","v":0},null,null,null,null,null,null,null,{"$f":"_xlfn.IFNA(VLOOKUP($X76,Roster!$A$2:$AF$34,25,0),0)","v":0},null,163]
[154,4,{"$f":"_xlfn.IFNA(VLOOKUP($A77,Roster!$A$2:$AF$33,6)&\" \"&VLOOKUP($A77,Roster!$A$2:$AF$33,7,0),0)","v":0},null,null,null,null,null,{"$f":"_xlfn.IFNA(VLOOKUP($A77,Roster!$A$2:$AF$34,25,0),0)","v":0},null,null,null,4,{"$f":"_xlfn.IFNA(VLOOKUP($X77,Roster!$A$2:$AF$33,6)&\" \"&VLOOKUP($X77,Roster!$A$2:$AF$33,7,0),0)","v":0},null,null,null,null,null,null,null,{"$f":"_xlfn.IFNA(VLOOKUP($X77,Roster!$A$2:$AF$34,25,0),0)","v":0},null,164]
[155,5,{"$f":"_xlfn.IFNA(VLOOKUP($A78,Roster!$A$2:$AF$33,6)&\" \"&VLOOKUP($A78,Roster!$A$2:$AF$33,7,0),0)","v":0},null,null,null,null,null,{"$f":"_xlfn.IFNA(VLOOKUP($A78,Roster!$A$2:$AF$34,25,0),0)","v":0},null,null,null,5,{"$f":"_xlfn.IFNA(VLOOKUP($X78,Roster!$A$2:$AF$33,6)&\" \"&VLOOKUP($X78,Roster!$A$2:$AF$33,7,0),0)","v":0},null,null,null,null,null,null,null,{"$f":"_xlfn.IFNA(VLOOKUP($X78,Roster!$A$2:$AF$34,25,0),0)","v":0},null,165]
[]
[null,{"$f":"_xlfn.IFNA(VLOOKUP($A82,Roster!$A$2:$AF$34,2,0),0)","v":0},"TEAM",null,{"$f":"_xlfn.IFNA(VLOOKUP($A82,Roster!$A$2:$AF$34,3,0),0)","v":0},null,"BK",null,"AVG",null,null,null,{"$f":"_xlfn.IFNA(VLOOKUP($X82,Roster!$A$2:$AF$34,2,0),0)","v":0},null,"TEAM",{"$f":"_xlfn.IFNA(VLOOKUP($X82,Roster!$A$2:$AF$34,3,0),0)","v":0},null,null,null,"BK",null,"AVG"]
[null,"BOWLER",null,null,null,null,null,null,null,null,null,null,null,"BOWLER"]
[171,1,{"$f":"_xlfn.IFNA(VLOOKUP($A82,Roster!$A$2:$AF$33,6)&\" \"&VLOOKUP($A82,Roster!$A$2:$AF$33,7,0),0)","v":0},null,null,null,null,null,{"$f":"_xlfn.IFNA(VLOOKUP($A82,Roster!$A$2:$AF$34,25,0),0)","v":0},null,null,null,1,{"$f":"_xlfn.IFNA(VLOOKUP($X82,Roster!$A$2:$AF$33,6)&\" \"&VLOOKUP($X82,Roster!$A$2:$AF$33,7,0),0)","v":0},null,null,null,null,null,null,null,{"$f":"_xlfn.IFNA(VLOOKUP($X82,Roster!$A$2:$AF$34,25,0),0)","v":0},null,181]
[172,2,{"$f":"_xlfn.IFNA(VLOOKUP($A83,Roster!$A$2:$AF$33,6)&\" \"&VLOOKUP($A83,Roster!$A$2:$AF$33,7,0),0)","v":0},null,null,null,null,null,{"$f":"_xlfn.IFNA(VLOOKUP($A83,Roster!$A$2:$AF$34,25,0),0)","v":0},null,null,null,2,{"$f":"_xlfn.IFNA(VLOOKUP($X83,Roster!$A$2:$AF$33,6)&\" \"&VLOOKUP($X83,Roster!$A$2:$AF$33,7,0),0)","v":0},null,null,null,null,null,null,null,{"$f":"_xlfn.IFNA(VLOOKUP($X83,Roster!$A$2:$AF$34,25,0),0)","v":0},null,182]
[173,3,{"$f":"_xlfn.IFNA(VLOOKUP($A84,Roster!$A$2:$AF$33,6)&\" \"&VLOOKUP($A84,Roster!$A$2:$AF$33,7,0),0)","v":0},null,null,null,null,null,{"$f":"_xlfn.IFNA(VLOOKUP($A84,Roster!$A$2:$AF$34,25,0),0)","v":0},null,null,null,3,{"$f":"_xlfn.IFNA(VLOOKUP($X84,Roster!$A$2:$AF$33,6)&\" \"&VLOOKUP($X84,Roster!$A$2:$AF$33,7,0),0)","v":0},null,null,null,null,null,null,null,{"$f":"_xlfn.IFNA(VLOOKUP($X84,Roster!$A$2:$AF$34,25,0),0)","v":0},null,183]
[174,4,{"$f":"_xlfn.IFNA(VLOOKUP($A85,Roster!$A$2:$AF$33,6)&\" \"&VLOOKUP($A85,Roster!$A$2:$AF$33,7,0),0)","v":0},null,null,null,null,null,{"$f":"_xlfn.IFNA(VLOOKUP($A85,Roster!$A$2:$AF$34,25,0),0)","v":0},null,null,null,4,{"$f":"_xlfn.IFNA(VLOOKUP($X85,Roster!$A$2:$AF$33,6)&\" \"&VLOOKUP($X85,Roster!$A$2:$AF$33,7,0),0)","v":0},null,null,null,null,null,null,null,{"$f":"_xlfn.IFNA(VLOOKUP($X85,Roster!$A$2:$AF$34,25,0),0)","v":0},null,184]
[175,5,{"$f":"_xlfn.IFNA(VLOOKUP($A86,Roster!$A$2:$AF$33,6)&\" \"&VLOOKUP($A86,Roster!$A$2:$AF$33,7,0),0)","v":0},null,null,null,null,null,{"$f":"_xlfn.IFNA(VLOOKUP($A86,Roster!$A$2:$AF$34,25,0),0)","v":0},null,null,null,5,{"$f":"_xlfn.IFNA(VLOOKUP($X86,Roster!$A$2:$AF$33,6)&\" \"&VLOOKUP($X86,Roster!$A$2:$AF$33,7,0),0)","v":0},null,null,null,null,null,null,null,{"$f":"_xlfn.IFNA(VLOOKUP($X86,Roster!$A$2:$AF$34,25,0),0)","v":0},null,185]
[null,{"$f":"_xlfn.IFNA(VLOOKUP($A89,Roster!$A$2:$AF$34,2,0),0)","v":0},"TEAM",null,{"$f":"_xlfn.IFNA(VLOOKUP($A89,Roster!$A$2:$AF$34,3,0),0)","v":0},null,"BK",null,"AVG",null,null,null,{"$f":"_xlfn.IFNA(VLOOKUP($X89,Roster!$A$2:$AF$34,2,0),0)","v":0},null,"TEAM",{"$f":"_xlfn.IFNA(VLOOKUP($X89,Roster!$A$2:$AF$34,3,0),0)","v":0},null,null,null,"BK",null,"AVG"]
[null,"BOWLER",null,null,null,null,null,null,null,null,null,null,null,"BOWLER"]
[191,1,{"$f":"_xlfn.IFNA(VLOOKUP($A89,Roster!$A$2:$AF$33,6)&\" \"&VLOOKUP($A89,Roster!$A$2:$AF$33,7,0),0)","v":0},null,null,null,null,null,{"$f":"_xlfn.IFNA(VLOOKUP($A89,Roster!$A$2:$AF$34,25,0),0)","v":0},null,null,null,1,{"$f":"_xlfn.IFNA(VLOOKUP($X89,Roster!$A$2:$AF$33,6)&\" \"&VLOOKUP($X89,Roster!$A$2:$AF$33,7,0),0)","v":0},null,null,null,null,null,null,null,{"$f":"_xlfn.IFNA(VLOOKUP($X89,Roster!$A$2:$AF$34,25,0),0)","v":0},null,201]
[192,2,{"$f":"_xlfn.IFNA(VLOOKUP($A90,Roster!$A$2:$AF$33,6)&\" \"&VLOOKUP($A90,Roster!$A$2:$AF$33,7,0),0)","v":0},null,null,null,null,null,{"$f":"_xlfn.IFNA(VLOOKUP($A90,Roster!$A$2:$AF$34,25,0),0)","v":0},null,null,null,2,{"$f":"_xlfn.IFNA(VLOOKUP($X90,Roster!$A$2:$AF$33,6)&\" \"&VLOOKUP($X90,Roster!$A$2:$AF$33,7,0),0)","v":0},null,null,null,null,null,null,null,{"$f":"_xlfn.IFNA(VLOOKUP($X90,Roster!$A$2:$AF$34,25,0),0)","v":0},null,202]
[193,3,{"$f":"_xlfn.IFNA(VLOOKUP($A91,Roster!$A$2:$AF$33,6)&\" \"&VLOOKUP($A91,Roster!$A$2:$AF$33,7,0),0)","v":0},null,null,null,null,null,{"$f":"_xlfn.IFNA(VLOOKUP($A91,Roster!$A$2:$AF$34,25,0),0)","v":0},null,null,null,3,{"$f":"_xlfn.IFNA(VLOOKUP($X91,Roster!$A$2:$AF$33,6)&\" \"&VLOOKUP($X91,Roster!$A$2:$AF$33,7,0),0)","v":0},null,null,null,null,null,null,null,{"$f":"_xlfn.IFNA(VLOOKUP($X91,Roster!$A$2:$AF$34,25,0),0)","v":0},null,203]
[194,4,{"$f":"_xlfn.IFNA(VLOOKUP($A92,Roster!$A$2:$AF$33,6)&\" \"&VLOOKUP($A92,Roster!$A$2:$AF$33,7,0),0)","v":0},null,null,null,null,null,{"$f":"_xlfn.IFNA(VLOOKUP($A92,Roster!$A$2:$AF$34,25,0),0)","v":0},null,null,null,4,{"$f":"_xlfn.IFNA(VLOOKUP($X92,Roster!$A$2:$AF$33,6)&\" \"&VLOOKUP($X92,Roster!$A$2:$AF$33,7,0),0)","v":0},null,null,null,null,null,null,null,{"$f":"_xlfn.IFNA(VLOOKUP($X92,Roster!$A$2:$AF$34,25,0),0)","v":0},null,204]
[195,5,{"$f":"_xlfn.IFNA(VLOOKUP($A93,Roster!$A$2:$AF$33,6)&\" \"&VLOOKUP($A93,Roster!$A$2:$AF$33,7,0),0)","v":0},null,null,null,null,null,{"$f":"_xlfn.IFNA(VLOOKUP($A93,Roster!$A$2:$AF$34,25,0),0)","v":0},null,null,null,5,{"$f":"_xlfn.IFNA(VLOOKUP($X93,Roster!$A$2:$AF$33,6)&\" \"&VLOOKUP($X93,Roster!$A$2:$AF$33,7,0),0)","v":0},null,null,null,null,null,null,null,{"$f":"_xlfn.IFNA(VLOOKUP($X93,Roster!$A$2:$AF$34,25,0),0)","v":0},null,205]
[]
[null,{"$f":"_xlfn.IFNA(VLOOKUP($A97,Roster!$A$2:$AF$34,2,0),0)","v":0},"TEAM",null,{"$f":"_xlfn.IFNA(VLOOKUP($A97,Roster!$A$2:$AF$34,3,0),0)","v":0},null,"BK",null,"AVG",null,null,null,{"$f":"_xlfn.IFNA(VLOOKUP($X97,Roster!$A$2:$AF$34,2,0),0)","v":0},null,"TEAM",{"$f":"_xlfn.IFNA(VLOOKUP($X97,Roster!$A$2:$AF$34,3,0),0)","v":0},null,null,null,"BK",null,"AVG"]
[null,"BOWLER",null,null,null,null,null,null,null,null,null,null,null,"BOWLER"]
[211,1,{"$f":"_xlfn.IFNA(VLOOKUP($A97,Roster!$A$2:$AF$33,6)&\" \"&VLOOKUP($A97,Roster!$A$2:$AF$33,7,0),0)","v":0},null,null,null,null,null,{"$f":"_xlfn.IFNA(VLOOKUP($A97,Roster!$A$2:$AF$34,25,0),0)","v":0},null,null,null,1,{"$f":"_xlfn.IFNA(VLOOKUP($X97,Roster!$A$2:$AF$33,6)&\" \"&VLOOKUP($X97,Roster!$A$2:$AF$33,7,0),0)","v":0},null,null,null,null,null,null,null,{"$f":"_xlfn.IFNA(VLOOKUP($X97,Roster!$A$2:$AF$34,25,0),0)","v":0},null,221]
[212,2,{"$f":"_xlfn.IFNA(VLOOKUP($A98,Roster!$A$2:$AF$33,6)&\" \"&VLOOKUP($A98,Roster!$A$2:$AF$33,7,0),0)","v":0},null,null,null,null,null,{"$f":"_xlfn.IFNA(VLOOKUP($A98,Roster!$A$2:$AF$34,25,0),0)","v":0},null,null,null,2,{"$f":"_xlfn.IFNA(VLOOKUP($X98,Roster!$A$2:$AF$33,6)&\" \"&VLOOKUP($X98,Roster!$A$2:$AF$33,7,0),0)","v":0},null,null,null,null,null,null,null,{"$f":"_xlfn.IFNA(VLOOKUP($X98,Roster!$A$2:$AF$34,25,0),0)","v":0},null,222]
[213,3,{"$f":"_xlfn.IFNA(VLOOKUP($A99,Roster!$A$2:$AF$33,6)&\" \"&VLOOKUP($A99,Roster!$A$2:$AF$33,7,0),0)","v":0},null,null,null,null,null,{"$f":"_xlfn.IFNA(VLOOKUP($A99,Roster!$A$2:$AF$34,25,0),0)","v":0},null,null,null,3,{"$f":"_xlfn.IFNA(VLOOKUP($X99,Roster!$A$2:$AF$33,6)&\" \"&VLOOKUP($X99,Roster!$A$2:$AF$33,7,0),0)","v":0},null,null,null,null,null,null,null,{"$f":"_xlfn.IFNA(VLOOKUP($X99,Roster!$A$2:$AF$34,25,0),0)","v":0},null,223]
[214,4,{"$f":"_xlfn.IFNA(VLOOKUP($A100,Roster!$A$2:$AF$33,6)&\" \"&VLOOKUP($A100,Roster!$A$2:$AF$33,7,0),0)","v":0},null,null,null,null,null,{"$f":"_xlfn.IFNA(VLOOKUP($A100,Roster!$A$2:$AF$34,25,0),0)","v":0},null,null,null,4,{"$f":"_xlfn.IFNA(VLOOKUP($X100,Roster!$A$2:$AF$33,6)&\" \"&VLOOKUP($X100,Roster!$A$2:$AF$33,7,0),0)","v":0},null,null,null,null,null,null,null,{"$f":"_xlfn.IFNA(VLOOKUP($X100,Roster!$A$2:$AF$34,25,0),0)","v":0},null,224]
[215,5,{"$f":"_xlfn.IFNA(VLOOKUP($A101,Roster!$A$2:$AF$33,6)&\" \"&VLOOKUP($A101,Roster!$A$2:$AF$33,7,0),0)","v":0},null,null,null,null,null,{"$f":"_xlfn.IFNA(VLOOKUP($A101,Roster!$A$2:$AF$34,25,0),0)","v":0},null,null,null,5,{"$f":"_xlfn.IFNA(VLOOKUP($X101,Roster!$A$2:$AF$33,6)&\" \"&VLOOKUP($X101,Roster!$A$2:$AF$33,7,0),0)","v":0},null,null,null,null,null,null,null,{"$f":"_xlfn.IFNA(VLOOKUP($X101,Roster!$A$2:$AF$34,25,0),0)","v":0},null,225]
[]
[null,"League Secretary if your bowlers start the season with a Book Average or an Entering Average enter the figure in the \nappropriate column. It will be assumed that columns left blank mean the bowlers start the season with NO AVERAGE."]
[]
[null,{"$f":"_xlfn.IFNA(VLOOKUP($A107,Roster!$A$2:$AF$34,2,0),0)","v":0},"TEAM",null,{"$f":"_xlfn.IFNA(VLOOKUP($A107,Roster!$A$2:$AF$34,3,0),0)","v":0},null,"BK",null,"AVG",null,null,null,{"$f":"_xlfn.IFNA(VLOOKUP($X107,Roster!$A$2:$AF$34,2,0),0)","v":0},null,"TEAM",{"$f":"_xlfn.IFNA(VLOOKUP($X107,Roster!$A$2:$AF$34,3,0),0)","v":0},null,null,null,"BK",null,"AVG"]
[null,"BOWLER",null,null,null,null,null,null,null,null,null,null,null,"BOWLER"]
[231,1,{"$f":"_xlfn.IFNA(VLOOKUP($A107,Roster!$A$2:$AF$33,6)&\" \"&VLOOKUP($A107,Roster!$A$2:$AF$33,7,0),0)","v":0},null,null,null,null,null,{"$f":"_xlfn.IFNA(VLOOKUP($A107,Roster!$A$2:$AF$34,25,0),0)","v":0},null,null,null,1,{"$f":"_xlfn.IFNA(VLOOKUP($X107,Roster!$A$2:$AF$33,6)&\" \"&VLOOKUP($X107,Roster!$A$2:$AF$33,7,0),0)","v":0},null,null,null,null,null,null,null,{"$f":"_xlfn.IFNA(VLOOKUP($X107,Roster!$A$2:$AF$34,25,0),0)","v":0},null,241]
[232,2,{"$f":"_xlfn.IFNA(VLOOKUP($A108,Roster!$A$2:$AF$33,6)&\" \"&VLOOKUP($A108,Roster!$A$2:$AF$33,7,0),0)","v":0},null,null,null,null,null,{"$f":"_xlfn.IFNA(VLOOKUP($A108,Roster!$A$2:$AF$34,25,0),0)","v":0},null,null,null,2,{"$f":"_xlfn.IFNA(VLOOKUP($X108,Roster!$A$2:$AF$33,6)&\" \"&VLOOKUP($X108,Roster!$A$2:$AF$33,7,0),0)","v":0},null,null,null,null,null,null,null,{"$f":"_xlfn.IFNA(VLOOKUP($X108,Roster!$A$2:$AF$34,25,0),0)","v":0},null,242]
[233,3,{"$f":"_xlfn.IFNA(VLOOKUP($A109,Roster!$A$2:$AF$33,6)&\" \"&VLOOKUP($A109,Roster!$A$2:$AF$33,7,0),0)","v":0},null,null,null,null,null,{"$f":"_xlfn.IFNA(VLOOKUP($A109,Roster!$A$2:$AF$34,25,0),0)","v":0},null,null,null,3,{"$f":"_xlfn.IFNA(VLOOKUP($X109,Roster!$A$2:$AF$33,6)&\" \"&VLOOKUP($X109,Roster!$A$2:$AF$33,7,0),0)","v":0},null,null,null,null,null,null,null,{"$f":"_xlfn.IFNA(VLOOKUP($X109,Roster!$A$2:$AF$34,25,0),0)","v":0},null,243]
[234,4,{"$f":"_xlfn.IFNA(VLOOKUP($A110,Roster!$A$2:$AF$33,6)&\" \"&VLOOKUP($A110,Roster!$A$2:$AF$33,7,0),0)","v":0},null,null,null,null,null,{"$f":"_xlfn.IFNA(VLOOKUP($A110,Roster!$A$2:$AF$34,25,0),0)","v":0},null,null,null,4,{"$f":"_xlfn.IFNA(VLOOKUP($X110,Roster!$A$2:$AF$33,6)&\" \"&VLOOKUP($X110,Roster!$A$2:$AF$33,7,0),0)","v":0},null,null,null,null,null,null,null,{"$f":"_xlfn.IFNA(VLOOKUP($X110,Roster!$A$2:$AF$34,25,0),0)","v":0},null,244]
[235,5,{"$f":"_xlfn.IFNA(VLOOKUP($A111,Roster!$A$2:$AF$33,6)&\" \"&VLOOKUP($A111,Roster!$A$2:$AF$33,7,0),0)","v":0},null,null,null,null,null,{"$f":"_xlfn.IFNA(VLOOKUP($A111,Roster!$A$2:$AF$34,25,0),0)","v":0},null,null,null,5,{"$f":"_xlfn.IFNA(VLOOKUP($X111,Roster!$A$2:$AF$33,6)&\" \"&VLOOKUP($X111,Roster!$A$2:$AF$33,7,0),0)","v":0},null,null,null,null,null,null,null,{"$f":"_xlfn.IFNA(VLOOKUP($X111,Roster!$A$2:$AF$34,25,0),0)","v":0},null,245]
[null,{"$f":"_xlfn.IFNA(VLOOKUP($A114,Roster!$A$2:$AF$34,2,0),0)","v":0},"TEAM",null,{"$f":"_xlfn.IFNA(VLOOKUP($A114,Roster!$A$2:$AF$34,3,0),0)","v":0},null,"BK",null,"AVG",null,null,null,{"$f":"_xlfn.IFNA(VLOOKUP($X114,Roster!$A$2:$AF$34,2,0),0)","v":0},null,"TEAM",{"$f":"_xlfn.IFNA(VLOOKUP($X114,Roster!$A$2:$AF$34,3,0),0)","v":0},null,null,null,"BK",null,"AVG"]
[null,"BOWLER",null,null,null,null,null,null,null,null,null,null,null,"BOWLER"]
[251,1,{"$f":"_xlfn.IFNA(VLOOKUP($A114,Roster!$A$2:$AF$33,6)&\" \"&VLOOKUP($A114,Roster!$A$2:$AF$33,7,0),0)","v":0},null,null,null,null,null,{"$f":"_xlfn.IFNA(VLOOKUP($A114,Roster!$A$2:$AF$34,25,0),0)","v":0},null,null,null,1,{"$f":"_xlfn.IFNA(VLOOKUP($X114,Roster!$A$2:$AF$33,6)&\" \"&VLOOKUP($X114,Roster!$A$2:$AF$33,7,0),0)","v":0},null,null,null,null,null,null,null,{"$f":"_xlfn.IFNA(VLOOKUP($X114,Roster!$A$2:$AF$34,25,0),0)","v":0},null,261]
[252,2,{"$f":"_xlfn.IFNA(VLOOKUP($A115,Roster!$A$2:$AF$33,6)&\" \"&VLOOKUP($A115,Roster!$A$2:$AF$33,7,0),0)","v":0},null,null,null,null,null,{"$f":"_xlfn.IFNA(VLOOKUP($A115,Roster!$A$2:$AF$34,25,0),0)","v":0},null,null,null,2,{"$f":"_xlfn.IFNA(VLOOKUP($X115,Roster!$A$2:$AF$33,6)&\" \"&VLOOKUP($X115,Roster!$A$2:$AF$33,7,0),0)","v":0},null,null,null,null,null,null,null,{"$f":"_xlfn.IFNA(VLOOKUP($X115,Roster!$A$2:$AF$34,25,0),0)","v":0},null,262]
[253,3,{"$f":"_xlfn.IFNA(VLOOKUP($A116,Roster!$A$2:$AF$33,6)&\" \"&VLOOKUP($A116,Roster!$A$2:$AF$33,7,0),0)","v":0},null,null,null,null,null,{"$f":"_xlfn.IFNA(VLOOKUP($A116,Roster!$A$2:$AF$34,25,0),0)","v":0},null,null,null,3,{"$f":"_xlfn.IFNA(VLOOKUP($X116,Roster!$A$2:$AF$33,6)&\" \"&VLOOKUP($X116,Roster!$A$2:$AF$33,7,0),0)","v":0},null,null,null,null,null,null,null,{"$f":"_xlfn.IFNA(VLOOKUP($X116,Roster!$A$2:$AF$34,25,0),0)","v":0},null,263]
[254,4,{"$f":"_xlfn.IFNA(VLOOKUP($A117,Roster!$A$2:$AF$33,6)&\" \"&VLOOKUP($A117,Roster!$A$2:$AF$33,7,0),0)","v":0},null,null,null,null,null,{"$f":"_xlfn.IFNA(VLOOKUP($A117,Roster!$A$2:$AF$34,25,0),0)","v":0},null,null,null,4,{"$f":"_xlfn.IFNA(VLOOKUP($X117,Roster!$A$2:$AF$33,6)&\" \"&VLOOKUP($X117,Roster!$A$2:$AF$33,7,0),0)","v":0},null,null,null,null,null,null,null,{"$f":"_xlfn.IFNA(VLOOKUP($X117,Roster!$A$2:$AF$34,25,0),0)","v":0},null,264]
[255,5,{"$f":"_xlfn.IFNA(VLOOKUP($A118,Roster!$A$2:$AF$33,6)&\" \"&VLOOKUP($A118,Roster!$A$2:$AF$33,7,0),0)","v":0},null,null,null,null,null,{"$f":"_xlfn.IFNA(VLOOKUP($A118,Roster!$A$2:$AF$34,25,0),0)","v":0},null,null,null,5,{"$f":"_xlfn.IFNA(VLOOKUP($X118,Roster!$A$2:$AF$33,6)&\" \"&VLOOKUP($X118,Roster!$A$2:$AF$33,7,0),0)","v":0},null,null,null,null,null,null,null,{"$f":"_xlfn.IFNA(VLOOKUP($X118,Roster!$A$2:$AF$34,25,0),0)","v":0},null,265]
[]
[null,{"$f":"_xlfn.IFNA(VLOOKUP($A122,Roster!$A$2:$AF$34,2,0),0)","v":0},"TEAM",null,{"$f":"_xlfn.IFNA(VLOOKUP($A122,Roster!$A$2:$AF$34,3,0),0)","v":0},null,"BK",null,"AVG",null,null,null,{"$f":"_xlfn.IFNA(VLOOKUP($X122,Roster!$A$2:$AF$34,2,0),0)","v":0},null,"TEAM",{"$f":"_xlfn.IFNA(VLOOKUP($X122,Roster!$A$2:$AF$34,3,0),0)","v":0},null,null,null,"BK",null,"AVG"]
[null,"BOWLER",null,null,null,null,null,null,null,null,null,null,null,"BOWLER"]
[271,1,{"$f":"_xlfn.IFNA(VLOOKUP($A122,Roster!$A$2:$AF$33,6)&\" \"&VLOOKUP($A122,Roster!$A$2:$AF$33,7,0),0)","v":0},null,null,null,null,null,{"$f":"_xlfn.IFNA(VLOOKUP($A122,Roster!$A$2:$AF$34,25,0),0)","v":0},null,null,null,1,{"$f":"_xlfn.IFNA(VLOOKUP($X122,Roster!$A$2:$AF$33,6)&\" \"&VLOOKUP($X122,Roster!$A$2:$AF$33,7,0),0)","v":0},null,null,null,null,null,null,null,{"$f":"_xlfn.IFNA(VLOOKUP($X122,Roster!$A$2:$AF$34,25,0),0)","v":0},null,281]
[272,2,{"$f":"_xlfn.IFNA(VLOOKUP($A123,Roster!$A$2:$AF$33,6)&\" \"&VLOOKUP($A123,Roster!$A$2:$AF$33,7,0),0)","v":0},null,null,null,null,null,{"$f":"_xlfn.IFNA(VLOOKUP($A123,Roster!$A$2:$AF$34,25,0),0)","v":0},null,null,null,2,{"$f":"_xlfn.IFNA(VLOOKUP($X123,Roster!$A$2:$AF$33,6)&\" \"&VLOOKUP($X123,Roster!$A$2:$AF$33,7,0),0)","v":0},null,null,null,null,null,null,null,{"$f":"_xlfn.IFNA(VLOOKUP($X123,Roster!$A$2:$AF$34,25,0),0)","v":0},null,282]
[273,3,{"$f":"_xlfn.IFNA(VLOOKUP($A124,Roster!$A$2:$AF$33,6)&\" \"&VLOOKUP($A124,Roster!$A$2:$AF$33,7,0),0)","v":0},null,null,null,null,null,{"$f":"_xlfn.IFNA(VLOOKUP($A124,Roster!$A$2:$AF$34,25,0),0)","v":0},null,null,null,3,{"$f":"_xlfn.IFNA(VLOOKUP($X124,Roster!$A$2:$AF$33,6)&\" \"&VLOOKUP($X124,Roster!$A$2:$AF$33,7,0),0)","v":0},null,null,null,null,null,null,null,{"$f":"_xlfn.IFNA(VLOOKUP($X124,Roster!$A$2:$AF$34,25,0),0)","v":0},null,283]
[274,4,{"$f":"_xlfn.IFNA(VLOOKUP($A125,Roster!$A$2:$AF$33,6)&\" \"&VLOOKUP($A125,Roster!$A$2:$AF$33,7,0),0)","v":0},null,null,null,null,null,{"$f":"_xlfn.IFNA(VLOOKUP($A125,Roster!$A$2:$AF$34,25,0),0)","v":0},null,null,null,4,{"$f":"_xlfn.IFNA(VLOOKUP($X125,Roster!$A$2:$AF$33,6)&\" \"&VLOOKUP($X125,Roster!$A$2:$AF$33,7,0),0)","v":0},null,null,null,null,null,null,null,{"$f":"_xlfn.IFNA(VLOOKUP($X125,Roster!$A$2:$AF$34,25,0),0)","v":0},null,284]
[275,5,{"$f":"_xlfn.IFNA(VLOOKUP($A126,Roster!$A$2:$AF$33,6)&\" \"&VLOOKUP($A126,Roster!$A$2:$AF$33,7,0),0)","v":0},null,null,null,null,null,{"$f":"_xlfn.IFNA(VLOOKUP($A126,Roster!$A$2:$AF$34,25,0),0)","v":0},null,null,null,5,{"$f":"_xlfn.IFNA(VLOOKUP($X126,Roster!$A$2:$AF$33,6)&\" \"&VLOOKUP($X126,Roster!$A$2:$AF$33,7,0),0)","v":0},null,null,null,null,null,null,null,{"$f":"_xlfn.IFNA(VLOOKUP($X126,Roster!$A$2:$AF$34,25,0),0)","v":0},null,285]
[]
[null,{"$f":"_xlfn.IFNA(VLOOKUP($A130,Roster!$A$2:$AF$34,2,0),0)","v":0},"TEAM",null,{"$f":"_xlfn.IFNA(VLOOKUP($A130,Roster!$A$2:$AF$34,3,0),0)","v":0},null,"BK",null,"AVG",null,null,null,{"$f":"_xlfn.IFNA(VLOOKUP($X130,Roster!$A$2:$AF$34,2,0),0)","v":0},null,"TEAM",{"$f":"_xlfn.IFNA(VLOOKUP($X130,Roster!$A$2:$AF$34,3,0),0)","v":0},null,null,null,"BK",null,"AVG"]
[null,"BOWLER",null,null,null,null,null,null,null,null,null,null,null,"BOWLER"]
[291,1,{"$f":"_xlfn.IFNA(VLOOKUP($A130,Roster!$A$2:$AF$33,6)&\" \"&VLOOKUP($A130,Roster!$A$2:$AF$33,7,0),0)","v":0},null,null,null,null,null,{"$f":"_xlfn.IFNA(VLOOKUP($A130,Roster!$A$2:$AF$34,25,0),0)","v":0},null,null,null,1,{"$f":"_xlfn.IFNA(VLOOKUP($X130,Roster!$A$2:$AF$33,6)&\" \"&VLOOKUP($X130,Roster!$A$2:$AF$33,7,0),0)","v":0},null,null,null,null,null,null,null,{"$f":"_xlfn.IFNA(VLOOKUP($X130,Roster!$A$2:$AF$34,25,0),0)","v":0},null,301]
[292,2,{"$f":"_xlfn.IFNA(VLOOKUP($A131,Roster!$A$2:$AF$33,6)&\" \"&VLOOKUP($A131,Roster!$A$2:$AF$33,7,0),0)","v":0},null,null,null,null,null,{"$f":"_xlfn.IFNA(VLOOKUP($A131,Roster!$A$2:$AF$34,25,0),0)","v":0},null,null,null,2,{"$f":"_xlfn.IFNA(VLOOKUP($X131,Roster!$A$2:$AF$33,6)&\" \"&VLOOKUP($X131,Roster!$A$2:$AF$33,7,0),0)","v":0},null,null,null,null,null,null,null,{"$f":"_xlfn.IFNA(VLOOKUP($X131,Roster!$A$2:$AF$34,25,0),0)","v":0},null,302]
[293,3,{"$f":"_xlfn.IFNA(VLOOKUP($A132,Roster!$A$2:$AF$33,6)&\" \"&VLOOKUP($A132,Roster!$A$2:$AF$33,7,0),0)","v":0},null,null,null,null,null,{"$f":"_xlfn.IFNA(VLOOKUP($A132,Roster!$A$2:$AF$34,25,0),0)","v":0},null,null,null,3,{"$f":"_xlfn.IFNA(VLOOKUP($X132,Roster!$A$2:$AF$33,6)&\" \"&VLOOKUP($X132,Roster!$A$2:$AF$33,7,0),0)","v":0},null,null,null,null,null,null,null,{"$f":"_xlfn.IFNA(VLOOKUP($X132,Roster!$A$2:$AF$34,25,0),0)","v":0},null,303]
[294,4,{"$f":"_xlfn.IFNA(VLOOKUP($A133,Roster!$A$2:$AF$33,6)&\" \"&VLOOKUP($A133,Roster!$A$2:$AF$33,7,0),0)","v":0},null,null,null,null,null,{"$f":"_xlfn.IFNA(VLOOKUP($A133,Roster!$A$2:$AF$34,25,0),0)","v":0},null,null,null,4,{"$f":"_xlfn.IFNA(VLOOKUP($X133,Roster!$A$2:$AF$33,6)&\" \"&VLOOKUP($X133,Roster!$A$2:$AF$33,7,0),0)","v":0},null,null,null,null,null,null,null,{"$f":"_xlfn.IFNA(VLOOKUP($X133,Roster!$A$2:$AF$34,25,0),0)","v":0},null,304]
[295,5,{"$f":"_xlfn.IFNA(VLOOKUP($A134,Roster!$A$2:$AF$33,6)&\" \"&VLOOKUP($A134,Roster!$A$2:$AF$33,7,0),0)","v":0},null,null,null,null,null,{"$f":"_xlfn.IFNA(VLOOKUP($A134,Roster!$A$2:$AF$34,25,0),0)","v":0},null,null,null,5,{"$f":"_xlfn.IFNA(VLOOKUP($X134,Roster!$A$2:$AF$33,6)&\" \"&VLOOKUP($X134,Roster!$A$2:$AF$33,7,0),0)","v":0},null,null,null,null,null,null,null,{"$f":"_xlfn.IFNA(VLOOKUP($X134,Roster!$A$2:$AF$34,25,0),0)","v":0},null,305]
[]
[]
[null,"rev 6/1/13"]

{"sheet":"Verification","index":11,"n_rows":220,"n_cols":16,"rows_kept":220,"cut":false,"hidden":false,"merged":[[6,1,6,11],[7,8,8,8],[7,9,8,9],[25,8,26,8],[25,9,26,9],[5,1,5,9],[0,1,0,9],[1,1,1,9],[2,1,2,9],[3,2,3,9],[4,1,4,9]]}
[null,"MEMO"]
[null,"To All League Secretaries:"]
[null,"From: Johnson Lanes Sports Pavilion Manager"]
[null,"Date:","2017-09-05"]
[null,"Subject: League Bowlers Verification"]
[null,"League Name:  Classic                     League Secretary:  Marty Bell                   Sanctioned League USBC Cert #:  "]
[null,"It is the responsibility of each League Secretary to check individual league bowlers SCW Rec Cards or CNP Cards to verify they are valid.  Please complete the following and return it to the Sports Pavilion Manager by the beginning of the 3rd Week of Bowling"]
[null,null,null,null,null,null,"SCW Resident","Non-SCW Resident","Sanctioned\nBowler USBC #","E-mail"]
[null,"FirstName","LastName","Address","Tm","Phone","SCW Rec Card","CNP Card",null,null,null,null,"B Day",null,"Tm","ID"]
[1,{"$f":"_xlfn.IFNA(VLOOKUP($P10,Roster!$A$2:$AF$34,6,0),0)","v":"David"},{"$f":"_xlfn.IFNA(VLOOKUP($P10,Roster!$A$2:$AF$34,7,0),0)","v":"Burke"},"15808 W Falcon Ridge Dr",{"$f":"_xlfn.IFNA(VLOOKUP($P10,Roster!$A$2:$AF$34,2,0),0)","v":1},{"$f":"_xlfn.IFNA(VLOOKUP($P10,Roster!$A$2:$AF$34,18,0),0)","v":0},{"$f":"_xlfn.IFNA(VLOOKUP($P10,Roster!$A$2:$AF$34,21,0),0)","v":0},{"$f":"_xlfn.IFNA(VLOOKUP($P10,Roster!$A$2:$AF$34,22,0),0)","v":0},{"$f":"_xlfn.IFNA(VLOOKUP($P10,Roster!$A$2:$AF$34,20,0),0)","v":0},{"$f":"_xlfn.IFNA(VLOOKUP($P10,Roster!$A$2:$AF$34,17,0),0)","v":0},null,null,{"$f":"_xlfn.IFNA(VLOOKUP($P10,Roster!$A$2:$AF$34,16,0),0)","v":"00:00:00"},null,1,11]
[{"$f":"A10+1","v":2},{"$f":"_xlfn.IFNA(VLOOKUP($P11,Roster!$A$2:$AF$34,6,0),0)","v":"Rich"},{"$f":"_xlfn.IFNA(VLOOKUP($P11,Roster!$A$2:$AF$34,7,0),0)","v":"Matich"},"15808 W Falcon Ridge Dr",{"$f":"_xlfn.IFNA(VLOOKUP($P11,Roster!$A$2:$AF$34,2,0),0)","v":1},{"$f":"_xlfn.IFNA(VLOOKUP($P11,Roster!$A$2:$AF$34,18,0),0)","v":"(623) 535-1886"},{"$f":"_xlfn.IFNA(VLOOKUP($P11,Roster!$A$2:$AF$34,21,0),0)","v":0},{"$f":"_xlfn.IFNA(VLOOKUP($P11,Roster!$A$2:$AF$34,22,0),0)","v":3041},{"$f":"_xlfn.IFNA(VLOOKUP($P11,Roster!$A$2:$AF$34,20,0),0)","v":"157-13981"},{"$f":"_xlfn.IFNA(VLOOKUP($P11,Roster!$A$2:$AF$34,17,0),0)","v":"avdenise@aol.com"},null,null,{"$f":"_xlfn.IFNA(VLOOKUP($P11,Roster!$A$2:$AF$34,16,0),0)","v":"1948-11-07"},null,1,12]
[3,{"$f":"_xlfn.IFNA(VLOOKUP($P12,Roster!$A$2:$AF$34,6,0),0)","v":"Cal"},{"$f":"_xlfn.IFNA(VLOOKUP($P12,Roster!$A$2:$AF$34,7,0),0)","v":"Shirey"},"15808 W Falcon Ridge Dr",{"$f":"_xlfn.IFNA(VLOOKUP($P12,Roster!$A$2:$AF$34,2,0),0)","v":1},{"$f":"_xlfn.IFNA(VLOOKUP($P12,Roster!$A$2:$AF$34,18,0),0)","v":"(623) 214-3295"},{"$f":"_xlfn.IFNA(VLOOKUP($P12,Roster!$A$2:$AF$34,21,0),0)","v":107243},{"$f":"_xlfn.IFNA(VLOOKUP($P12,Roster!$A$2:$AF$34,22,0),0)","v":0},{"$f":"_xlfn.IFNA(VLOOKUP($P12,Roster!$A$2:$AF$34,20,0),0)","v":"2398-593"},{"$f":"_xlfn.IFNA(VLOOKUP($P12,Roster!$A$2:$AF$34,17,0),0)","v":"howardhs@outlook.com"},null,null,{"$f":"_xlfn.IFNA(VLOOKUP($P12,Roster!$A$2:$AF$34,16,0),0)","v":"1944-02-04"},null,1,13]
[4,{"$f":"_xlfn.IFNA(VLOOKUP($P13,Roster!$A$2:$AF$34,6,0),0)","v":"Marty"},{"$f":"_xlfn.IFNA(VLOOKUP($P13,Roster!$A$2:$AF$34,7,0),0)","v":"Bell"},"15808 W Falcon Ridge Dr",{"$f":"_xlfn.IFNA(VLOOKUP($P13,Roster!$A$2:$AF$34,2,0),0)","v":2},{"$f":"_xlfn.IFNA(VLOOKUP($P13,Roster!$A$2:$AF$34,18,0),0)","v":"(623) 584-9459"},{"$f":"_xlfn.IFNA(VLOOKUP($P13,Roster!$A$2:$AF$34,21,0),0)","v":72029},{"$f":"_xlfn.IFNA(VLOOKUP($P13,Roster!$A$2:$AF$34,22,0),0)","v":0},{"$f":"_xlfn.IFNA(VLOOKUP($P13,Roster!$A$2:$AF$34,20,0),0)","v":"157-21502"},{"$f":"_xlfn.IFNA(VLOOKUP($P13,Roster!$A$2:$AF$34,17,0),0)","v":"ezbowling@cox.net"},null,null,{"$f":"_xlfn.IFNA(VLOOKUP($P13,Roster!$A$2:$AF$34,16,0),0)","v":"1940-01-26"},null,2,21]
[5,{"$f":"_xlfn.IFNA(VLOOKUP($P14,Roster!$A$2:$AF$34,6,0),0)","v":"Alex"},{"$f":"_xlfn.IFNA(VLOOKUP($P14,Roster!$A$2:$AF$34,7,0),0)","v":"Balok"},"15808 W Falcon Ridge Dr",{"$f":"_xlfn.IFNA(VLOOKUP($P14,Roster!$A$2:$AF$34,2,0),0)","v":2},{"$f":"_xlfn.IFNA(VLOOKUP($P14,Roster!$A$2:$AF$34,18,0),0)","v":"(928) 699-4481"},{"$f":"_xlfn.IFNA(VLOOKUP($P14,Roster!$A$2:$AF$34,21,0),0)","v":0},{"$f":"_xlfn.IFNA(VLOOKUP($P14,Roster!$A$2:$AF$34,22,0),0)","v":3004},{"$f":"_xlfn.IFNA(VLOOKUP($P14,Roster!$A$2:$AF$34,20,0),0)","v":"8833-64090"},{"$f":"_xlfn.IFNA(VLOOKUP($P14,Roster!$A$2:$AF$34,17,0),0)","v":"balok9@aol.com"},null,null,{"$f":"_xlfn.IFNA(VLOOKUP($P14,Roster!$A$2:$AF$34,16,0),0)","v":"1953-06-28"},null,2,22]
[6,{"$f":"_xlfn.IFNA(VLOOKUP($P15,Roster!$A$2:$AF$34,6,0),0)","v":"Johnny"},{"$f":"_xlfn.IFNA(VLOOKUP($P15,Roster!$A$2:$AF$34,7,0),0)","v":"Gonzales"},"15808 W Falcon Ridge Dr",{"$f":"_xlfn.IFNA(VLOOKUP($P15,Roster!$A$2:$AF$34,2,0),0)","v":2},{"$f":"_xlfn.IFNA(VLOOKUP($P15,Roster!$A$2:$AF$34,18,0),0)","v":"(623) 687-7498"},{"$f":"_xlfn.IFNA(VLOOKUP($P15,Roster!$A$2:$AF$34,21,0),0)","v":0},{"$f":"_xlfn.IFNA(VLOOKUP($P15,Roster!$A$2:$AF$34,22,0),0)","v":0},{"$f":"_xlfn.IFNA(VLOOKUP($P15,Roster!$A$2:$AF$34,20,0),0)","v":"157-872"},{"$f":"_xlfn.IFNA(VLOOKUP($P15,Roster!$A$2:$AF$34,17,0),0)","v":0},null,null,{"$f":"_xlfn.IFNA(VLOOKUP($P15,Roster!$A$2:$AF$34,16,0),0)","v":"00:00:00"},null,2,23]
[7,{"$f":"_xlfn.IFNA(VLOOKUP($P16,Roster!$A$2:$AF$34,6,0),0)","v":"Jeff"},{"$f":"_xlfn.IFNA(VLOOKUP($P16,Roster!$A$2:$AF$34,7,0),0)","v":"Richard"},"15808 W Falcon Ridge Dr",{"$f":"_xlfn.IFNA(VLOOKUP($P16,Roster!$A$2:$AF$34,2,0),0)","v":3},{"$f":"_xlfn.IFNA(VLOOKUP($P16,Roster!$A$2:$AF$34,18,0),0)","v":"(623)362-8248"},{"$f":"_xlfn.IFNA(VLOOKUP($P16,Roster!$A$2:$AF$34,21,0),0)","v":0},{"$f":"_xlfn.IFNA(VLOOKUP($P16,Roster!$A$2:$AF$34,22,0),0)","v":3072},{"$f":"_xlfn.IFNA(VLOOKUP($P16,Roster!$A$2:$AF$34,20,0),0)","v":"8833-55870"},{"$f":"_xlfn.IFNA(VLOOKUP($P16,Roster!$A$2:$AF$34,17,0),0)","v":"lephty123@cox.net"},null,null,{"$f":"_xlfn.IFNA(VLOOKUP($P16,Roster!$A$2:$AF$34,16,0),0)","v":"1949-04-09"},null,3,31]
[8,{"$f":"_xlfn.IFNA(VLOOKUP($P17,Roster!$A$2:$AF$34,6,0),0)","v":"Jerry"},{"$f":"_xlfn.IFNA(VLOOKUP($P17,Roster!$A$2:$AF$34,7,0),0)","v":"Elsen"},"15808 W Falcon Ridge Dr",{"$f":"_xlfn.IFNA(VLOOKUP($P17,Roster!$A$2:$AF$34,2,0),0)","v":3},{"$f":"_xlfn.IFNA(VLOOKUP($P17,Roster!$A$2:$AF$34,18,0),0)","v":"(262) 412-0433"},{"$f":"_xlfn.IFNA(VLOOKUP($P17,Roster!$A$2:$AF$34,21,0),0)","v":0},{"$f":"_xlfn.IFNA(VLOOKUP($P17,Roster!$A$2:$AF$34,22,0),0)","v":3113},{"$f":"_xlfn.IFNA(VLOOKUP($P17,Roster!$A$2:$AF$34,20,0),0)","v":"2468-4618"},{"$f":"_xlfn.IFNA(VLOOKUP($P17,Roster!$A$2:$AF$34,17,0),0)","v":"jbbuyers@aol.com"},null,null,{"$f":"_xlfn.IFNA(VLOOKUP($P17,Roster!$A$2:$AF$34,16,0),0)","v":"1953-07-21"},null,3,32]
[9,{"$f":"_xlfn.IFNA(VLOOKUP($P18,Roster!$A$2:$AF$34,6,0),0)","v":"Bill"},{"$f":"_xlfn.IFNA(VLOOKUP($P18,Roster!$A$2:$AF$34,7,0),0)","v":"Poff"},"15808 W Falcon Ridge Dr",{"$f":"_xlfn.IFNA(VLOOKUP($P18,Roster!$A$2:$AF$34,2,0),0)","v":3},{"$f":"_xlfn.IFNA(VLOOKUP($P18,Roster!$A$2:$AF$34,18,0),0)","v":"(615) 423-4196"},{"$f":"_xlfn.IFNA(VLOOKUP($P18,Roster!$A$2:$AF$34,21,0),0)","v":109950},{"$f":"_xlfn.IFNA(VLOOKUP($P18,Roster!$A$2:$AF$34,22,0),0)","v":0},{"$f":"_xlfn.IFNA(VLOOKUP($P18,Roster!$A$2:$AF$34,20,0),0)","v":"263-133"},{"$f":"_xlfn.IFNA(VLOOKUP($P18,Roster!$A$2:$AF$34,17,0),0)","v":"bill.poff@hotmail.com "},null,null,{"$f":"_xlfn.IFNA(VLOOKUP($P18,Roster!$A$2:$AF$34,16,0),0)","v":"1945-06-25"},null,3,33]
[10,{"$f":"_xlfn.IFNA(VLOOKUP($P19,Roster!$A$2:$AF$34,6,0),0)","v":"Dave"},{"$f":"_xlfn.IFNA(VLOOKUP($P19,Roster!$A$2:$AF$34,7,0),0)","v":"Schmitz"},"15808 W Falcon Ridge Dr",{"$f":"_xlfn.IFNA(VLOOKUP($P19,Roster!$A$2:$AF$34,2,0),0)","v":4},{"$f":"_xlfn.IFNA(VLOOKUP($P19,Roster!$A$2:$AF$34,18,0),0)","v":"(602) 621-0447"},{"$f":"_xlfn.IFNA(VLOOKUP($P19,Roster!$A$2:$AF$34,21,0),0)","v":64331},{"$f":"_xlfn.IFNA(VLOOKUP($P19,Roster!$A$2:$AF$34,22,0),0)","v":0},{"$f":"_xlfn.IFNA(VLOOKUP($P19,Roster!$A$2:$AF$34,20,0),0)","v":"2374-592"},{"$f":"_xlfn.IFNA(VLOOKUP($P19,Roster!$A$2:$AF$34,17,0),0)","v":"sfpagolf@msn.com "},null,null,{"$f":"_xlfn.IFNA(VLOOKUP($P19,Roster!$A$2:$AF$34,16,0),0)","v":"1957-06-08"},null,4,41]
[11,{"$f":"_xlfn.IFNA(VLOOKUP($P20,Roster!$A$2:$AF$34,6,0),0)","v":"John"},{"$f":"_xlfn.IFNA(VLOOKUP($P20,Roster!$A$2:$AF$34,7,0),0)","v":"Babbitt"},"15808 W Falcon Ridge Dr",{"$f":"_xlfn.IFNA(VLOOKUP($P20,Roster!$A$2:$AF$34,2,0),0)","v":4},{"$f":"_xlfn.IFNA(VLOOKUP($P20,Roster!$A$2:$AF$34,18,0),0)","v":"470.535.6926"},{"$f":"_xlfn.IFNA(VLOOKUP($P20,Roster!$A$2:$AF$34,21,0),0)","v":0},{"$f":"_xlfn.IFNA(VLOOKUP($P20,Roster!$A$2:$AF$34,22,0),0)","v":3165},{"$f":"_xlfn.IFNA(VLOOKUP($P20,Roster!$A$2:$AF$34,20,0),0)","v":"389-1053"},{"$f":"_xlfn.IFNA(VLOOKUP($P20,Roster!$A$2:$AF$34,17,0),0)","v":"johnbabbitt@hotmail.com "},null,null,{"$f":"_xlfn.IFNA(VLOOKUP($P20,Roster!$A$2:$AF$34,16,0),0)","v":"1953-05-17"},null,4,42]
[12,{"$f":"_xlfn.IFNA(VLOOKUP($P21,Roster!$A$2:$AF$34,6,0),0)","v":"Larry"},{"$f":"_xlfn.IFNA(VLOOKUP($P21,Roster!$A$2:$AF$34,7,0),0)","v":"Tolar"},"15808 W Falcon Ridge Dr",{"$f":"_xlfn.IFNA(VLOOKUP($P21,Roster!$A$2:$AF$34,2,0),0)","v":4},{"$f":"_xlfn.IFNA(VLOOKUP($P21,Roster!$A$2:$AF$34,18,0),0)","v":"(623) 544-3529"},{"$f":"_xlfn.IFNA(VLOOKUP($P21,Roster!$A$2:$AF$34,21,0),0)","v":0},{"$f":"_xlfn.IFNA(VLOOKUP($P21,Roster!$A$2:$AF$34,22,0),0)","v":3036},{"$f":"_xlfn.IFNA(VLOOKUP($P21,Roster!$A$2:$AF$34,20,0),0)","v":"157-42400"},{"$f":"_xlfn.IFNA(VLOOKUP($P21,Roster!$A$2:$AF$34,17,0),0)","v":"ldt0747@yahoo.com "},null,null,{"$f":"_xlfn.IFNA(VLOOKUP($P21,Roster!$A$2:$AF$34,16,0),0)","v":"1947-07-28"},null,4,43]
[13,{"$f":"_xlfn.IFNA(VLOOKUP($P22,Roster!$A$2:$AF$34,6,0),0)","v":"Dana"},{"$f":"_xlfn.IFNA(VLOOKUP($P22,Roster!$A$2:$AF$34,7,0),0)","v":"Barrette"},"15808 W Falcon Ridge Dr",{"$f":"_xlfn.IFNA(VLOOKUP($P22,Roster!$A$2:$AF$34,2,0),0)","v":5},{"$f":"_xlfn.IFNA(VLOOKUP($P22,Roster!$A$2:$AF$34,18,0),0)","v":"(623) 383-3909"},{"$f":"_xlfn.IFNA(VLOOKUP($P22,Roster!$A$2:$AF$34,21,0),0)","v":4011789},{"$f":"_xlfn.IFNA(VLOOKUP($P22,Roster!$A$2:$AF$34,22,0),0)","v":0},{"$f":"_xlfn.IFNA(VLOOKUP($P22,Roster!$A$2:$AF$34,20,0),0)","v":"8833-57886"},{"$f":"_xlfn.IFNA(VLOOKUP($P22,Roster!$A$2:$AF$34,17,0),0)","v":"djbarrette@gmail.com "},null,null,{"$f":"_xlfn.IFNA(VLOOKUP($P22,Roster!$A$2:$AF$34,16,0),0)","v":"1953-08-23"},null,5,51]
[14,{"$f":"_xlfn.IFNA(VLOOKUP($P23,Roster!$A$2:$AF$34,6,0),0)","v":"Larry"},{"$f":"_xlfn.IFNA(VLOOKUP($P23,Roster!$A$2:$AF$34,7,0),0)","v":"Latham"},"15808 W Falcon Ridge Dr",{"$f":"_xlfn.IFNA(VLOOKUP($P23,Roster!$A$2:$AF$34,2,0),0)","v":5},{"$f":"_xlfn.IFNA(VLOOKUP($P23,Roster!$A$2:$AF$34,18,0),0)","v":"(206) 992-7540"},{"$f":"_xlfn.IFNA(VLOOKUP($P23,Roster!$A$2:$AF$34,21,0),0)","v":110788},{"$f":"_xlfn.IFNA(VLOOKUP($P23,Roster!$A$2:$AF$34,22,0),0)","v":0},{"$f":"_xlfn.IFNA(VLOOKUP($P23,Roster!$A$2:$AF$34,20,0),0)","v":"8833-52304"},{"$f":"_xlfn.IFNA(VLOOKUP($P23,Roster!$A$2:$AF$34,17,0),0)","v":"larryd329@gmail.com "},null,null,{"$f":"_xlfn.IFNA(VLOOKUP($P23,Roster!$A$2:$AF$34,16,0),0)","v":"1954-03-29"},null,5,52]
[15,{"$f":"_xlfn.IFNA(VLOOKUP($P24,Roster!$A$2:$AF$34,6,0),0)","v":"Bob"},{"$f":"_xlfn.IFNA(VLOOKUP($P24,Roster!$A$2:$AF$34,7,0),0)","v":"Reed"},"15808 W Falcon Ridge Dr",{"$f":"_xlfn.IFNA(VLOOKUP($P24,Roster!$A$2:$AF$34,2,0),0)","v":5},{"$f":"_xlfn.IFNA(VLOOKUP($P24,Roster!$A$2:$AF$34,18,0),0)","v":"(623) 556-2476"},{"$f":"_xlfn.IFNA(VLOOKUP($P24,Roster!$A$2:$AF$34,21,0),0)","v":71020},{"$f":"_xlfn.IFNA(VLOOKUP($P24,Roster!$A$2:$AF$34,22,0),0)","v":0},{"$f":"_xlfn.IFNA(VLOOKUP($P24,Roster!$A$2:$AF$34,20,0),0)","v":"8833-56045"},{"$f":"_xlfn.IFNA(VLOOKUP($P24,Roster!$A$2:$AF$34,17,0),0)","v":"hotrodreed53@hotmail.com"},null,null,{"$f":"_xlfn.IFNA(VLOOKUP($P24,Roster!$A$2:$AF$34,16,0),0)","v":"00:00:00"},null,5,53]
[null,{"$f":"IF($O25>0,OFFSET(#REF!,$O25,),0)","v":0},{"$f":"IF($O25>0,OFFSET(#REF!,$O25,),0)","v":0},"15808 W Falcon Ridge Dr",{"$f":"IF($O25>0,OFFSET(#REF!,$O25,),0)","v":0},{"$f":"IF($O25>0,OFFSET(#REF!,$O25,),0)","v":0},{"$f":"IF($O25>0,OFFSET(#REF!,$O25,),0)","v":0},{"$f":"IF($O25>0,OFFSET(#REF!,$O25,),0)","v":0},{"$f":"IF($O25>0,OFFSET(#REF!,$O25,),0)","v":0},{"$f":"IF($O25>0,OFFSET(#REF!,$O25,),0)","v":0}]
[null,null,null,null,null,null,"SCW Resident","Non-SCW Resident","Sanctioned\nBowler USBC #","E-mail"]
[null,"FirstName","LastName","Address","Tm","Phone","SCW Rec Card","CNP Card"]
[{"$f":"A24+1","v":16},{"$f":"_xlfn.IFNA(VLOOKUP($P28,Roster!$A$2:$AF$34,6,0),0)","v":"Ken"},{"$f":"_xlfn.IFNA(VLOOKUP($P28,Roster!$A$2:$AF$34,7,0),0)","v":"Pavlik"},"15808 W Falcon Ridge Dr",{"$f":"_xlfn.IFNA(VLOOKUP($P28,Roster!$A$2:$AF$34,2,0),0)","v":6},{"$f":"_xlfn.IFNA(VLOOKUP($P28,Roster!$A$2:$AF$34,18,0),0)","v":"(623) 214-8637"},{"$f":"_xlfn.IFNA(VLOOKUP($P28,Roster!$A$2:$AF$34,21,0),0)","v":57675},{"$f":"_xlfn.IFNA(VLOOKUP($P28,Roster!$A$2:$AF$34,22,0),0)","v":0},{"$f":"_xlfn.IFNA(VLOOKUP($P28,Roster!$A$2:$AF$34,20,0),0)","v":"157-11953"},{"$f":"_xlfn.IFNA(VLOOKUP($P28,Roster!$A$2:$AF$34,17,0),0)","v":"kpo91060@cox.net "},null,null,null,null,6,61]
[17,{"$f":"_xlfn.IFNA(VLOOKUP($P29,Roster!$A$2:$AF$34,6,0),0)","v":"Mike"},{"$f":"_xlfn.IFNA(VLOOKUP($P29,Roster!$A$2:$AF$34,7,0),0)","v":"Watt"},"15808 W Falcon Ridge Dr",{"$f":"_xlfn.IFNA(VLOOKUP($P29,Roster!$A$2:$AF$34,2,0),0)","v":6},{"$f":"_xlfn.IFNA(VLOOKUP($P29,Roster!$A$2:$AF$34,18,0),0)","v":"972.989.2208"},{"$f":"_xlfn.IFNA(VLOOKUP($P29,Roster!$A$2:$AF$34,21,0),0)","v":17692},{"$f":"_xlfn.IFNA(VLOOKUP($P29,Roster!$A$2:$AF$34,22,0),0)","v":0},{"$f":"_xlfn.IFNA(VLOOKUP($P29,Roster!$A$2:$AF$34,20,0),0)","v":"2243-755"},{"$f":"_xlfn.IFNA(VLOOKUP($P29,Roster!$A$2:$AF$34,17,0),0)","v":"mlwatt99@gmail.com"},null,null,null,null,6,62]
[18,{"$f":"_xlfn.IFNA(VLOOKUP($P30,Roster!$A$2:$AF$34,6,0),0)","v":0},{"$f":"_xlfn.IFNA(VLOOKUP($P30,Roster!$A$2:$AF$34,7,0),0)","v":0},"15808 W Falcon Ridge Dr",{"$f":"_xlfn.IFNA(VLOOKUP($P30,Roster!$A$2:$AF$34,2,0),0)","v":0},{"$f":"_xlfn.IFNA(VLOOKUP($P30,Roster!$A$2:$AF$34,18,0),0)","v":0},{"$f":"_xlfn.IFNA(VLOOKUP($P30,Roster!$A$2:$AF$34,21,0),0)","v":0},{"$f":"_xlfn.IFNA(VLOOKUP($P30,Roster!$A$2:$AF$34,22,0),0)","v":0},{"$f":"_xlfn.IFNA(VLOOKUP($P30,Roster!$A$2:$AF$34,20,0),0)","v":0},{"$f":"_xlfn.IFNA(VLOOKUP($P30,Roster!$A$2:$AF$34,17,0),0)","v":0},null,null,null,null,6,63]
[19,{"$f":"_xlfn.IFNA(VLOOKUP($P31,Roster!$A$2:$AF$34,6,0),0)","v":"Paul"},{"$f":"_xlfn.IFNA(VLOOKUP($P31,Roster!$A$2:$AF$34,7,0),0)","v":"Kleckner"},"15808 W Falcon Ridge Dr",{"$f":"_xlfn.IFNA(VLOOKUP($P31,Roster!$A$2:$AF$34,2,0),0)","v":7},{"$f":"_xlfn.IFNA(VLOOKUP($P31,Roster!$A$2:$AF$34,18,0),0)","v":"(719) 246-0371"},{"$f":"_xlfn.IFNA(VLOOKUP($P31,Roster!$A$2:$AF$34,21,0),0)","v":128508},{"$f":"_xlfn.IFNA(VLOOKUP($P31,Roster!$A$2:$AF$34,22,0),0)","v":0},{"$f":"_xlfn.IFNA(VLOOKUP($P31,Roster!$A$2:$AF$34,20,0),0)","v":"296-2878"},{"$f":"_xlfn.IFNA(VLOOKUP($P31,Roster!$A$2:$AF$34,17,0),0)","v":"chiefkco@gmail.com"},null,null,null,null,7,71]
[20,{"$f":"_xlfn.IFNA(VLOOKUP($P32,Roster!$A$2:$AF$34,6,0),0)","v":"Bob"},{"$f":"_xlfn.IFNA(VLOOKUP($P32,Roster!$A$2:$AF$34,7,0),0)","v":"Edge"},"15808 W Falcon Ridge Dr",{"$f":"_xlfn.IFNA(VLOOKUP($P32,Roster!$A$2:$AF$34,2,0),0)","v":7},{"$f":"_xlfn.IFNA(VLOOKUP($P32,Roster!$A$2:$AF$34,18,0),0)","v":"(224-772-3066"},{"$f":"_xlfn.IFNA(VLOOKUP($P32,Roster!$A$2:$AF$34,21,0),0)","v":125901},{"$f":"_xlfn.IFNA(VLOOKUP($P32,Roster!$A$2:$AF$34,22,0),0)","v":0},{"$f":"_xlfn.IFNA(VLOOKUP($P32,Roster!$A$2:$AF$34,20,0),0)","v":"522-328"},{"$f":"_xlfn.IFNA(VLOOKUP($P32,Roster!$A$2:$AF$34,17,0),0)","v":"deadeyebob@aol.com"},null,null,null,null,7,72]
[21,{"$f":"_xlfn.IFNA(VLOOKUP($P33,Roster!$A$2:$AF$34,6,0),0)","v":"Terry"},{"$f":"_xlfn.IFNA(VLOOKUP($P33,Roster!$A$2:$AF$34,7,0),0)","v":"Camp"},"15808 W Falcon Ridge Dr",{"$f":"_xlfn.IFNA(VLOOKUP($P33,Roster!$A$2:$AF$34,2,0),0)","v":7},{"$f":"_xlfn.IFNA(VLOOKUP($P33,Roster!$A$2:$AF$34,18,0),0)","v":"(970) 744-0809"},{"$f":"_xlfn.IFNA(VLOOKUP($P33,Roster!$A$2:$AF$34,21,0),0)","v":0},{"$f":"_xlfn.IFNA(VLOOKUP($P33,Roster!$A$2:$AF$34,22,0),0)","v":3049},{"$f":"_xlfn.IFNA(VLOOKUP($P33,Roster!$A$2:$AF$34,20,0),0)","v":"1675-43393 "},{"$f":"_xlfn.IFNA(VLOOKUP($P33,Roster!$A$2:$AF$34,17,0),0)","v":"tlcclu7@yahoo.com"},null,null,null,null,7,73]
[22,{"$f":"_xlfn.IFNA(VLOOKUP($P34,Roster!$A$2:$AF$34,6,0),0)","v":"Dan"},{"$f":"_xlfn.IFNA(VLOOKUP($P34,Roster!$A$2:$AF$34,7,0),0)","v":"Imholte"},"15808 W Falcon Ridge Dr",{"$f":"_xlfn.IFNA(VLOOKUP($P34,Roster!$A$2:$AF$34,2,0),0)","v":8},{"$f":"_xlfn.IFNA(VLOOKUP($P34,Roster!$A$2:$AF$34,18,0),0)","v":"(623) 975-0139"},{"$f":"_xlfn.IFNA(VLOOKUP($P34,Roster!$A$2:$AF$34,21,0),0)","v":0},{"$f":"_xlfn.IFNA(VLOOKUP($P34,Roster!$A$2:$AF$34,22,0),0)","v":0},{"$f":"_xlfn.IFNA(VLOOKUP($P34,Roster!$A$2:$AF$34,20,0),0)","v":"8833-49996"},{"$f":"_xlfn.IFNA(VLOOKUP($P34,Roster!$A$2:$AF$34,17,0),0)","v":"dimholte1@gmail.com"},null,null,null,null,8,81]
[23,{"$f":"_xlfn.IFNA(VLOOKUP($P35,Roster!$A$2:$AF$34,6,0),0)","v":"Terry"},{"$f":"_xlfn.IFNA(VLOOKUP($P35,Roster!$A$2:$AF$34,7,0),0)","v":"Hamman"},"15808 W Falcon Ridge Dr",{"$f":"_xlfn.IFNA(VLOOKUP($P35,Roster!$A$2:$AF$34,2,0),0)","v":8},{"$f":"_xlfn.IFNA(VLOOKUP($P35,Roster!$A$2:$AF$34,18,0),0)","v":"(623) 243-7666"},{"$f":"_xlfn.IFNA(VLOOKUP($P35,Roster!$A$2:$AF$34,21,0),0)","v":108533},{"$f":"_xlfn.IFNA(VLOOKUP($P35,Roster!$A$2:$AF$34,22,0),0)","v":0},{"$f":"_xlfn.IFNA(VLOOKUP($P35,Roster!$A$2:$AF$34,20,0),0)","v":"2443-2227"},{"$f":"_xlfn.IFNA(VLOOKUP($P35,Roster!$A$2:$AF$34,17,0),0)","v":"terryhamman@hotmail.com "},null,null,null,null,8,82]
[24,{"$f":"_xlfn.IFNA(VLOOKUP($P36,Roster!$A$2:$AF$34,6,0),0)","v":"Gary"},{"$f":"_xlfn.IFNA(VLOOKUP($P36,Roster!$A$2:$AF$34,7,0),0)","v":"Bentley"},"15808 W Falcon Ridge Dr",{"$f":"_xlfn.IFNA(VLOOKUP($P36,Roster!$A$2:$AF$34,2,0),0)","v":8},{"$f":"_xlfn.IFNA(VLOOKUP($P36,Roster!$A$2:$AF$34,18,0),0)","v":"(701) 400-6400"},{"$f":"_xlfn.IFNA(VLOOKUP($P36,Roster!$A$2:$AF$34,21,0),0)","v":0},{"$f":"_xlfn.IFNA(VLOOKUP($P36,Roster!$A$2:$AF$34,22,0),0)","v":3083},{"$f":"_xlfn.IFNA(VLOOKUP($P36,Roster!$A$2:$AF$34,20,0),0)","v":"1749-41"},{"$f":"_xlfn.IFNA(VLOOKUP($P36,Roster!$A$2:$AF$34,17,0),0)","v":"debgary1991@gmail.com "},null,null,null,null,8,83]
[25,{"$f":"_xlfn.IFNA(VLOOKUP($P37,Roster!$A$2:$AF$34,6,0),0)","v":"Joe"},{"$f":"_xlfn.IFNA(VLOOKUP($P37,Roster!$A$2:$AF$34,7,0),0)","v":"Couch"},"15808 W Falcon Ridge Dr",{"$f":"_xlfn.IFNA(VLOOKUP($P37,Roster!$A$2:$AF$34,2,0),0)","v":9},{"$f":"_xlfn.IFNA(VLOOKUP($P37,Roster!$A$2:$AF$34,18,0),0)","v":"(562) 367-3629"},{"$f":"_xlfn.IFNA(VLOOKUP($P37,Roster!$A$2:$AF$34,21,0),0)","v":0},{"$f":"_xlfn.IFNA(VLOOKUP($P37,Roster!$A$2:$AF$34,22,0),0)","v":0},{"$f":"_xlfn.IFNA(VLOOKUP($P37,Roster!$A$2:$AF$34,20,0),0)","v":"235-135"},{"$f":"_xlfn.IFNA(VLOOKUP($P37,Roster!$A$2:$AF$34,17,0),0)","v":"easyjoe300@aol.com"},null,null,null,null,9,91]
[26,{"$f":"_xlfn.IFNA(VLOOKUP($P38,Roster!$A$2:$AF$34,6,0),0)","v":"Paul"},{"$f":"_xlfn.IFNA(VLOOKUP($P38,Roster!$A$2:$AF$34,7,0),0)","v":"Williams"},"15808 W Falcon Ridge Dr",{"$f":"_xlfn.IFNA(VLOOKUP($P38,Roster!$A$2:$AF$34,2,0),0)","v":9},{"$f":"_xlfn.IFNA(VLOOKUP($P38,Roster!$A$2:$AF$34,18,0),0)","v":"(517 304-1448"},{"$f":"_xlfn.IFNA(VLOOKUP($P38,Roster!$A$2:$AF$34,21,0),0)","v":0},{"$f":"_xlfn.IFNA(VLOOKUP($P38,Roster!$A$2:$AF$34,22,0),0)","v":0},{"$f":"_xlfn.IFNA(VLOOKUP($P38,Roster!$A$2:$AF$34,20,0),0)","v":"150-18093"},{"$f":"_xlfn.IFNA(VLOOKUP($P38,Roster!$A$2:$AF$34,17,0),0)","v":"paulrwilliams60@gmail.com"},null,null,null,null,9,92]
[27,{"$f":"_xlfn.IFNA(VLOOKUP($P39,Roster!$A$2:$AF$34,6,0),0)","v":"Ted"},{"$f":"_xlfn.IFNA(VLOOKUP($P39,Roster!$A$2:$AF$34,7,0),0)","v":"Bogumil"},"15808 W Falcon Ridge Dr",{"$f":"_xlfn.IFNA(VLOOKUP($P39,Roster!$A$2:$AF$34,2,0),0)","v":9},{"$f":"_xlfn.IFNA(VLOOKUP($P39,Roster!$A$2:$AF$34,18,0),0)","v":"(602) 820-0853"},{"$f":"_xlfn.IFNA(VLOOKUP($P39,Roster!$A$2:$AF$34,21,0),0)","v":0},{"$f":"_xlfn.IFNA(VLOOKUP($P39,Roster!$A$2:$AF$34,22,0),0)","v":0},{"$f":"_xlfn.IFNA(VLOOKUP($P39,Roster!$A$2:$AF$34,20,0),0)","v":"1369-14316"},{"$f":"_xlfn.IFNA(VLOOKUP($P39,Roster!$A$2:$AF$34,17,0),0)","v":"nascarted@att.com"},null,null,null,null,9,93]
[28,{"$f":"_xlfn.IFNA(VLOOKUP($P40,Roster!$A$2:$AF$34,6,0),0)","v":"Andy"},{"$f":"_xlfn.IFNA(VLOOKUP($P40,Roster!$A$2:$AF$34,7,0),0)","v":"Lewis"},"15808 W Falcon Ridge Dr",{"$f":"_xlfn.IFNA(VLOOKUP($P40,Roster!$A$2:$AF$34,2,0),0)","v":10},{"$f":"_xlfn.IFNA(VLOOKUP($P40,Roster!$A$2:$AF$34,18,0),0)","v":"(602) 882-9228"},{"$f":"_xlfn.IFNA(VLOOKUP($P40,Roster!$A$2:$AF$34,21,0),0)","v":0},{"$f":"_xlfn.IFNA(VLOOKUP($P40,Roster!$A$2:$AF$34,22,0),0)","v":3164},{"$f":"_xlfn.IFNA(VLOOKUP($P40,Roster!$A$2:$AF$34,20,0),0)","v":"2786-15403"},{"$f":"_xlfn.IFNA(VLOOKUP($P40,Roster!$A$2:$AF$34,17,0),0)","v":"azadlewis@cox.net"},null,null,null,null,10,101]
[29,{"$f":"_xlfn.IFNA(VLOOKUP($P41,Roster!$A$2:$AF$34,6,0),0)","v":"Dennis"},{"$f":"_xlfn.IFNA(VLOOKUP($P41,Roster!$A$2:$AF$34,7,0),0)","v":"Barnes"},"15808 W Falcon Ridge Dr",{"$f":"_xlfn.IFNA(VLOOKUP($P41,Roster!$A$2:$AF$34,2,0),0)","v":10},{"$f":"_xlfn.IFNA(VLOOKUP($P41,Roster!$A$2:$AF$34,18,0),0)","v":"(623) 229-2010"},{"$f":"_xlfn.IFNA(VLOOKUP($P41,Roster!$A$2:$AF$34,21,0),0)","v":109510},{"$f":"_xlfn.IFNA(VLOOKUP($P41,Roster!$A$2:$AF$34,22,0),0)","v":0},{"$f":"_xlfn.IFNA(VLOOKUP($P41,Roster!$A$2:$AF$34,20,0),0)","v":"8833-49320"},{"$f":"_xlfn.IFNA(VLOOKUP($P41,Roster!$A$2:$AF$34,17,0),0)","v":"dbarnes1946@cox.net "},null,null,null,null,10,102]
[30,{"$f":"_xlfn.IFNA(VLOOKUP($P42,Roster!$A$2:$AF$34,6,0),0)","v":"Gary"},{"$f":"_xlfn.IFNA(VLOOKUP($P42,Roster!$A$2:$AF$34,7,0),0)","v":"McCoy"},"15808 W Falcon Ridge Dr",{"$f":"_xlfn.IFNA(VLOOKUP($P42,Roster!$A$2:$AF$34,2,0),0)","v":10},{"$f":"_xlfn.IFNA(VLOOKUP($P42,Roster!$A$2:$AF$34,18,0),0)","v":"(206) 909-6672"},{"$f":"_xlfn.IFNA(VLOOKUP($P42,Roster!$A$2:$AF$34,21,0),0)","v":124548},{"$f":"_xlfn.IFNA(VLOOKUP($P42,Roster!$A$2:$AF$34,22,0),0)","v":0},{"$f":"_xlfn.IFNA(VLOOKUP($P42,Roster!$A$2:$AF$34,20,0),0)","v":"5033-2008"},{"$f":"_xlfn.IFNA(VLOOKUP($P42,Roster!$A$2:$AF$34,17,0),0)","v":"gandsmccoy@cox.net"},null,null,null,null,10,103]
[31,{"$f":"_xlfn.IFNA(VLOOKUP($P43,Roster!$A$2:$AF$34,6,0),0)","v":"Phil"},{"$f":"_xlfn.IFNA(VLOOKUP($P43,Roster!$A$2:$AF$34,7,0),0)","v":"Jameson"},"15808 W Falcon Ridge Dr",{"$f":"_xlfn.IFNA(VLOOKUP($P43,Roster!$A$2:$AF$34,2,0),0)","v":11},{"$f":"_xlfn.IFNA(VLOOKUP($P43,Roster!$A$2:$AF$34,18,0),0)","v":"(480) 544-5467"},{"$f":"_xlfn.IFNA(VLOOKUP($P43,Roster!$A$2:$AF$34,21,0),0)","v":112103},{"$f":"_xlfn.IFNA(VLOOKUP($P43,Roster!$A$2:$AF$34,22,0),0)","v":0},{"$f":"_xlfn.IFNA(VLOOKUP($P43,Roster!$A$2:$AF$34,20,0),0)","v":"8833-62408"},{"$f":"_xlfn.IFNA(VLOOKUP($P43,Roster!$A$2:$AF$34,17,0),0)","v":"pajameson@cox.net"},null,null,null,null,11,111]
[32,{"$f":"_xlfn.IFNA(VLOOKUP($P44,Roster!$A$2:$AF$34,6,0),0)","v":0},{"$f":"_xlfn.IFNA(VLOOKUP($P44,Roster!$A$2:$AF$34,7,0),0)","v":0},"15808 W Falcon Ridge Dr",{"$f":"_xlfn.IFNA(VLOOKUP($P44,Roster!$A$2:$AF$34,2,0),0)","v":0},{"$f":"_xlfn.IFNA(VLOOKUP($P44,Roster!$A$2:$AF$34,18,0),0)","v":0},{"$f":"_xlfn.IFNA(VLOOKUP($P44,Roster!$A$2:$AF$34,21,0),0)","v":0},{"$f":"_xlfn.IFNA(VLOOKUP($P44,Roster!$A$2:$AF$34,22,0),0)","v":0},{"$f":"_xlfn.IFNA(VLOOKUP($P44,Roster!$A$2:$AF$34,20,0),0)","v":0},{"$f":"_xlfn.IFNA(VLOOKUP($P44,Roster!$A$2:$AF$34,17,0),0)","v":0},null,null,null,null,11,112]
[33,{"$f":"_xlfn.IFNA(VLOOKUP($P45,Roster!$A$2:$AF$34,6,0),0)","v":0},{"$f":"_xlfn.IFNA(VLOOKUP($P45,Roster!$A$2:$AF$34,7,0),0)","v":0},"15808 W Falcon Ridge Dr",{"$f":"_xlfn.IFNA(VLOOKUP($P45,Roster!$A$2:$AF$34,2,0),0)","v":0},{"$f":"_xlfn.IFNA(VLOOKUP($P45,Roster!$A$2:$AF$34,18,0),0)","v":0},{"$f":"_xlfn.IFNA(VLOOKUP($P45,Roster!$A$2:$AF$34,21,0),0)","v":0},{"$f":"_xlfn.IFNA(VLOOKUP($P45,Roster!$A$2:$AF$34,22,0),0)","v":0},{"$f":"_xlfn.IFNA(VLOOKUP($P45,Roster!$A$2:$AF$34,20,0),0)","v":0},{"$f":"_xlfn.IFNA(VLOOKUP($P45,Roster!$A$2:$AF$34,17,0),0)","v":0},null,null,null,null,11,113]
[34,{"$f":"_xlfn.IFNA(VLOOKUP($P46,Roster!$A$2:$AF$34,6,0),0)","v":0},{"$f":"_xlfn.IFNA(VLOOKUP($P46,Roster!$A$2:$AF$34,7,0),0)","v":0},"15808 W Falcon Ridge Dr",{"$f":"_xlfn.IFNA(VLOOKUP($P46,Roster!$A$2:$AF$34,2,0),0)","v":0},{"$f":"_xlfn.IFNA(VLOOKUP($P46,Roster!$A$2:$AF$34,18,0),0)","v":0},{"$f":"_xlfn.IFNA(VLOOKUP($P46,Roster!$A$2:$AF$34,21,0),0)","v":0},{"$f":"_xlfn.IFNA(VLOOKUP($P46,Roster!$A$2:$AF$34,22,0),0)","v":0},{"$f":"_xlfn.IFNA(VLOOKUP($P46,Roster!$A$2:$AF$34,20,0),0)","v":0},{"$f":"_xlfn.IFNA(VLOOKUP($P46,Roster!$A$2:$AF$34,17,0),0)","v":0},null,null,null,null,12,121]
[35,{"$f":"_xlfn.IFNA(VLOOKUP($P47,Roster!$A$2:$AF$34,6,0),0)","v":0},{"$f":"_xlfn.IFNA(VLOOKUP($P47,Roster!$A$2:$AF$34,7,0),0)","v":0},"15808 W Falcon Ridge Dr",{"$f":"_xlfn.IFNA(VLOOKUP($P47,Roster!$A$2:$AF$34,2,0),0)","v":0},{"$f":"_xlfn.IFNA(VLOOKUP($P47,Roster!$A$2:$AF$34,18,0),0)","v":0},{"$f":"_xlfn.IFNA(VLOOKUP($P47,Roster!$A$2:$AF$34,21,0),0)","v":0},{"$f":"_xlfn.IFNA(VLOOKUP($P47,Roster!$A$2:$AF$34,22,0),0)","v":0},{"$f":"_xlfn.IFNA(VLOOKUP($P47,Roster!$A$2:$AF$34,20,0),0)","v":0},{"$f":"_xlfn.IFNA(VLOOKUP($P47,Roster!$A$2:$AF$34,17,0),0)","v":0},null,null,null,null,12,122]
[36,{"$f":"_xlfn.IFNA(VLOOKUP($P48,Roster!$A$2:$AF$34,6,0),0)","v":0},{"$f":"_xlfn.IFNA(VLOOKUP($P48,Roster!$A$2:$AF$34,7,0),0)","v":0},"15808 W Falcon Ridge Dr",{"$f":"_xlfn.IFNA(VLOOKUP($P48,Roster!$A$2:$AF$34,2,0),0)","v":0},{"$f":"_xlfn.IFNA(VLOOKUP($P48,Roster!$A$2:$AF$34,18,0),0)","v":0},{"$f":"_xlfn.IFNA(VLOOKUP($P48,Roster!$A$2:$AF$34,21,0),0)","v":0},{"$f":"_xlfn.IFNA(VLOOKUP($P48,Roster!$A$2:$AF$34,22,0),0)","v":0},{"$f":"_xlfn.IFNA(VLOOKUP($P48,Roster!$A$2:$AF$34,20,0),0)","v":0},{"$f":"_xlfn.IFNA(VLOOKUP($P48,Roster!$A$2:$AF$34,17,0),0)","v":0},null,null,null,null,12,123]
[37,{"$f":"_xlfn.IFNA(VLOOKUP($P49,Roster!$A$2:$AF$34,6,0),0)","v":0},{"$f":"_xlfn.IFNA(VLOOKUP($P49,Roster!$A$2:$AF$34,7,0),0)","v":0},"15808 W Falcon Ridge Dr",{"$f":"_xlfn.IFNA(VLOOKUP($P49,Roster!$A$2:$AF$34,2,0),0)","v":0},{"$f":"_xlfn.IFNA(VLOOKUP($P49,Roster!$A$2:$AF$34,18,0),0)","v":0},{"$f":"_xlfn.IFNA(VLOOKUP($P49,Roster!$A$2:$AF$34,21,0),0)","v":0},{"$f":"_xlfn.IFNA(VLOOKUP($P49,Roster!$A$2:$AF$34,22,0),0)","v":0},{"$f":"_xlfn.IFNA(VLOOKUP($P49,Roster!$A$2:$AF$34,20,0),0)","v":0},{"$f":"_xlfn.IFNA(VLOOKUP($P49,Roster!$A$2:$AF$34,17,0),0)","v":0},null,null,null,null,13,131]
[38,{"$f":"_xlfn.IFNA(VLOOKUP($P50,Roster!$A$2:$AF$34,6,0),0)","v":0},{"$f":"_xlfn.IFNA(VLOOKUP($P50,Roster!$A$2:$AF$34,7,0),0)","v":0},"15808 W Falcon Ridge Dr",{"$f":"_xlfn.IFNA(VLOOKUP($P50,Roster!$A$2:$AF$34,2,0),0)","v":0},{"$f":"_xlfn.IFNA(VLOOKUP($P50,Roster!$A$2:$AF$34,18,0),0)","v":0},{"$f":"_xlfn.IFNA(VLOOKUP($P50,Roster!$A$2:$AF$34,21,0),0)","v":0},{"$f":"_xlfn.IFNA(VLOOKUP($P50,Roster!$A$2:$AF$34,22,0),0)","v":0},{"$f":"_xlfn.IFNA(VLOOKUP($P50,Roster!$A$2:$AF$34,20,0),0)","v":0},{"$f":"_xlfn.IFNA(VLOOKUP($P50,Roster!$A$2:$AF$34,17,0),0)","v":0},null,null,null,null,13,132]
[39,{"$f":"_xlfn.IFNA(VLOOKUP($P51,Roster!$A$2:$AF$34,6,0),0)","v":0},{"$f":"_xlfn.IFNA(VLOOKUP($P51,Roster!$A$2:$AF$34,7,0),0)","v":0},"15808 W Falcon Ridge Dr",{"$f":"_xlfn.IFNA(VLOOKUP($P51,Roster!$A$2:$AF$34,2,0),0)","v":0},{"$f":"_xlfn.IFNA(VLOOKUP($P51,Roster!$A$2:$AF$34,18,0),0)","v":0},{"$f":"_xlfn.IFNA(VLOOKUP($P51,Roster!$A$2:$AF$34,21,0),0)","v":0},{"$f":"_xlfn.IFNA(VLOOKUP($P51,Roster!$A$2:$AF$34,22,0),0)","v":0},{"$f":"_xlfn.IFNA(VLOOKUP($P51,Roster!$A$2:$AF$34,20,0),0)","v":0},{"$f":"_xlfn.IFNA(VLOOKUP($P51,Roster!$A$2:$AF$34,17,0),0)","v":0},null,null,null,null,13,133]
[40,{"$f":"_xlfn.IFNA(VLOOKUP($P52,Roster!$A$2:$AF$34,6,0),0)","v":0},{"$f":"_xlfn.IFNA(VLOOKUP($P52,Roster!$A$2:$AF$34,7,0),0)","v":0},"15808 W Falcon Ridge Dr",{"$f":"_xlfn.IFNA(VLOOKUP($P52,Roster!$A$2:$AF$34,2,0),0)","v":0},{"$f":"_xlfn.IFNA(VLOOKUP($P52,Roster!$A$2:$AF$34,18,0),0)","v":0},{"$f":"_xlfn.IFNA(VLOOKUP($P52,Roster!$A$2:$AF$34,21,0),0)","v":0},{"$f":"_xlfn.IFNA(VLOOKUP($P52,Roster!$A$2:$AF$34,22,0),0)","v":0},{"$f":"_xlfn.IFNA(VLOOKUP($P52,Roster!$A$2:$AF$34,20,0),0)","v":0},{"$f":"_xlfn.IFNA(VLOOKUP($P52,Roster!$A$2:$AF$34,17,0),0)","v":0},null,null,null,null,14,141]
[41,{"$f":"_xlfn.IFNA(VLOOKUP($P53,Roster!$A$2:$AF$34,6,0),0)","v":0},{"$f":"_xlfn.IFNA(VLOOKUP($P53,Roster!$A$2:$AF$34,7,0),0)","v":0},"15808 W Falcon Ridge Dr",{"$f":"_xlfn.IFNA(VLOOKUP($P53,Roster!$A$2:$AF$34,2,0),0)","v":0},{"$f":"_xlfn.IFNA(VLOOKUP($P53,Roster!$A$2:$AF$34,18,0),0)","v":0},{"$f":"_xlfn.IFNA(VLOOKUP($P53,Roster!$A$2:$AF$34,21,0),0)","v":0},{"$f":"_xlfn.IFNA(VLOOKUP($P53,Roster!$A$2:$AF$34,22,0),0)","v":0},{"$f":"_xlfn.IFNA(VLOOKUP($P53,Roster!$A$2:$AF$34,20,0),0)","v":0},{"$f":"_xlfn.IFNA(VLOOKUP($P53,Roster!$A$2:$AF$34,17,0),0)","v":0},null,null,null,null,14,142]
[42,{"$f":"_xlfn.IFNA(VLOOKUP($P54,Roster!$A$2:$AF$34,6,0),0)","v":0},{"$f":"_xlfn.IFNA(VLOOKUP($P54,Roster!$A$2:$AF$34,7,0),0)","v":0},"15808 W Falcon Ridge Dr",{"$f":"_xlfn.IFNA(VLOOKUP($P54,Roster!$A$2:$AF$34,2,0),0)","v":0},{"$f":"_xlfn.IFNA(VLOOKUP($P54,Roster!$A$2:$AF$34,18,0),0)","v":0},{"$f":"_xlfn.IFNA(VLOOKUP($P54,Roster!$A$2:$AF$34,21,0),0)","v":0},{"$f":"_xlfn.IFNA(VLOOKUP($P54,Roster!$A$2:$AF$34,22,0),0)","v":0},{"$f":"_xlfn.IFNA(VLOOKUP($P54,Roster!$A$2:$AF$34,20,0),0)","v":0},{"$f":"_xlfn.IFNA(VLOOKUP($P54,Roster!$A$2:$AF$34,17,0),0)","v":0},null,null,null,null,14,143]
[43,{"$f":"_xlfn.IFNA(VLOOKUP($P55,Roster!$A$2:$AF$34,6,0),0)","v":0},{"$f":"_xlfn.IFNA(VLOOKUP($P55,Roster!$A$2:$AF$34,7,0),0)","v":0},"15808 W Falcon Ridge Dr",{"$f":"_xlfn.IFNA(VLOOKUP($P55,Roster!$A$2:$AF$34,2,0),0)","v":0},{"$f":"_xlfn.IFNA(VLOOKUP($P55,Roster!$A$2:$AF$34,18,0),0)","v":0},{"$f":"_xlfn.IFNA(VLOOKUP($P55,Roster!$A$2:$AF$34,21,0),0)","v":0},{"$f":"_xlfn.IFNA(VLOOKUP($P55,Roster!$A$2:$AF$34,22,0),0)","v":0},{"$f":"_xlfn.IFNA(VLOOKUP($P55,Roster!$A$2:$AF$34,20,0),0)","v":0},{"$f":"_xlfn.IFNA(VLOOKUP($P55,Roster!$A$2:$AF$34,17,0),0)","v":0},null,null,null,null,15,151]
[44,{"$f":"_xlfn.IFNA(VLOOKUP($P56,Roster!$A$2:$AF$34,6,0),0)","v":0},{"$f":"_xlfn.IFNA(VLOOKUP($P56,Roster!$A$2:$AF$34,7,0),0)","v":0},"15808 W Falcon Ridge Dr",{"$f":"_xlfn.IFNA(VLOOKUP($P56,Roster!$A$2:$AF$34,2,0),0)","v":0},{"$f":"_xlfn.IFNA(VLOOKUP($P56,Roster!$A$2:$AF$34,18,0),0)","v":0},{"$f":"_xlfn.IFNA(VLOOKUP($P56,Roster!$A$2:$AF$34,21,0),0)","v":0},{"$f":"_xlfn.IFNA(VLOOKUP($P56,Roster!$A$2:$AF$34,22,0),0)","v":0},{"$f":"_xlfn.IFNA(VLOOKUP($P56,Roster!$A$2:$AF$34,20,0),0)","v":0},{"$f":"_xlfn.IFNA(VLOOKUP($P56,Roster!$A$2:$AF$34,17,0),0)","v":0},null,null,null,null,15,152]
[45,{"$f":"_xlfn.IFNA(VLOOKUP($P57,Roster!$A$2:$AF$34,6,0),0)","v":0},{"$f":"_xlfn.IFNA(VLOOKUP($P57,Roster!$A$2:$AF$34,7,0),0)","v":0},"15808 W Falcon Ridge Dr",{"$f":"_xlfn.IFNA(VLOOKUP($P57,Roster!$A$2:$AF$34,2,0),0)","v":0},{"$f":"_xlfn.IFNA(VLOOKUP($P57,Roster!$A$2:$AF$34,18,0),0)","v":0},{"$f":"_xlfn.IFNA(VLOOKUP($P57,Roster!$A$2:$AF$34,21,0),0)","v":0},{"$f":"_xlfn.IFNA(VLOOKUP($P57,Roster!$A$2:$AF$34,22,0),0)","v":0},{"$f":"_xlfn.IFNA(VLOOKUP($P57,Roster!$A$2:$AF$34,20,0),0)","v":0},{"$f":"_xlfn.IFNA(VLOOKUP($P57,Roster!$A$2:$AF$34,17,0),0)","v":0},null,null,null,null,15,153]
[46,{"$f":"_xlfn.IFNA(VLOOKUP($P58,Roster!$A$2:$AF$34,6,0),0)","v":0},{"$f":"_xlfn.IFNA(VLOOKUP($P58,Roster!$A$2:$AF$34,7,0),0)","v":0},"15808 W Falcon Ridge Dr",{"$f":"_xlfn.IFNA(VLOOKUP($P58,Roster!$A$2:$AF$34,2,0),0)","v":0},{"$f":"_xlfn.IFNA(VLOOKUP($P58,Roster!$A$2:$AF$34,18,0),0)","v":0},{"$f":"_xlfn.IFNA(VLOOKUP($P58,Roster!$A$2:$AF$34,21,0),0)","v":0},{"$f":"_xlfn.IFNA(VLOOKUP($P58,Roster!$A$2:$AF$34,22,0),0)","v":0},{"$f":"_xlfn.IFNA(VLOOKUP($P58,Roster!$A$2:$AF$34,20,0),0)","v":0},{"$f":"_xlfn.IFNA(VLOOKUP($P58,Roster!$A$2:$AF$34,17,0),0)","v":0},null,null,null,null,16,161]
[47,{"$f":"_xlfn.IFNA(VLOOKUP($P59,Roster!$A$2:$AF$34,6,0),0)","v":0},{"$f":"_xlfn.IFNA(VLOOKUP($P59,Roster!$A$2:$AF$34,7,0),0)","v":0},"15808 W Falcon Ridge Dr",{"$f":"_xlfn.IFNA(VLOOKUP($P59,Roster!$A$2:$AF$34,2,0),0)","v":0},{"$f":"_xlfn.IFNA(VLOOKUP($P59,Roster!$A$2:$AF$34,18,0),0)","v":0},{"$f":"_xlfn.IFNA(VLOOKUP($P59,Roster!$A$2:$AF$34,21,0),0)","v":0},{"$f":"_xlfn.IFNA(VLOOKUP($P59,Roster!$A$2:$AF$34,22,0),0)","v":0},{"$f":"_xlfn.IFNA(VLOOKUP($P59,Roster!$A$2:$AF$34,20,0),0)","v":0},{"$f":"_xlfn.IFNA(VLOOKUP($P59,Roster!$A$2:$AF$34,17,0),0)","v":0},null,null,null,null,16,162]
[48,{"$f":"_xlfn.IFNA(VLOOKUP($P60,Roster!$A$2:$AF$34,6,0),0)","v":0},{"$f":"_xlfn.IFNA(VLOOKUP($P60,Roster!$A$2:$AF$34,7,0),0)","v":0},"15808 W Falcon Ridge Dr",{"$f":"_xlfn.IFNA(VLOOKUP($P60,Roster!$A$2:$AF$34,2,0),0)","v":0},{"$f":"_xlfn.IFNA(VLOOKUP($P60,Roster!$A$2:$AF$34,18,0),0)","v":0},{"$f":"_xlfn.IFNA(VLOOKUP($P60,Roster!$A$2:$AF$34,21,0),0)","v":0},{"$f":"_xlfn.IFNA(VLOOKUP($P60,Roster!$A$2:$AF$34,22,0),0)","v":0},{"$f":"_xlfn.IFNA(VLOOKUP($P60,Roster!$A$2:$AF$34,20,0),0)","v":0},{"$f":"_xlfn.IFNA(VLOOKUP($P60,Roster!$A$2:$AF$34,17,0),0)","v":0},null,null,null,null,16,163]
[49,{"$f":"_xlfn.IFNA(VLOOKUP($P61,Roster!$A$2:$AF$34,6,0),0)","v":0},{"$f":"_xlfn.IFNA(VLOOKUP($P61,Roster!$A$2:$AF$34,7,0),0)","v":0},"15808 W Falcon Ridge Dr",{"$f":"_xlfn.IFNA(VLOOKUP($P61,Roster!$A$2:$AF$34,2,0),0)","v":0},{"$f":"_xlfn.IFNA(VLOOKUP($P61,Roster!$A$2:$AF$34,18,0),0)","v":0},{"$f":"_xlfn.IFNA(VLOOKUP($P61,Roster!$A$2:$AF$34,21,0),0)","v":0},{"$f":"_xlfn.IFNA(VLOOKUP($P61,Roster!$A$2:$AF$34,22,0),0)","v":0},{"$f":"_xlfn.IFNA(VLOOKUP($P61,Roster!$A$2:$AF$34,20,0),0)","v":0},{"$f":"_xlfn.IFNA(VLOOKUP($P61,Roster!$A$2:$AF$34,17,0),0)","v":0},null,null,null,null,17,171]
[50,{"$f":"_xlfn.IFNA(VLOOKUP($P62,Roster!$A$2:$AF$34,6,0),0)","v":0},{"$f":"_xlfn.IFNA(VLOOKUP($P62,Roster!$A$2:$AF$34,7,0),0)","v":0},"15808 W Falcon Ridge Dr",{"$f":"_xlfn.IFNA(VLOOKUP($P62,Roster!$A$2:$AF$34,2,0),0)","v":0},{"$f":"_xlfn.IFNA(VLOOKUP($P62,Roster!$A$2:$AF$34,18,0),0)","v":0},{"$f":"_xlfn.IFNA(VLOOKUP($P62,Roster!$A$2:$AF$34,21,0),0)","v":0},{"$f":"_xlfn.IFNA(VLOOKUP($P62,Roster!$A$2:$AF$34,22,0),0)","v":0},{"$f":"_xlfn.IFNA(VLOOKUP($P62,Roster!$A$2:$AF$34,20,0),0)","v":0},{"$f":"_xlfn.IFNA(VLOOKUP($P62,Roster!$A$2:$AF$34,17,0),0)","v":0},null,null,null,null,17,172]
[51,{"$f":"_xlfn.IFNA(VLOOKUP($P63,Roster!$A$2:$AF$34,6,0),0)","v":0},{"$f":"_xlfn.IFNA(VLOOKUP($P63,Roster!$A$2:$AF$34,7,0),0)","v":0},"15808 W Falcon Ridge Dr",{"$f":"_xlfn.IFNA(VLOOKUP($P63,Roster!$A$2:$AF$34,2,0),0)","v":0},{"$f":"_xlfn.IFNA(VLOOKUP($P63,Roster!$A$2:$AF$34,18,0),0)","v":0},{"$f":"_xlfn.IFNA(VLOOKUP($P63,Roster!$A$2:$AF$34,21,0),0)","v":0},{"$f":"_xlfn.IFNA(VLOOKUP($P63,Roster!$A$2:$AF$34,22,0),0)","v":0},{"$f":"_xlfn.IFNA(VLOOKUP($P63,Roster!$A$2:$AF$34,20,0),0)","v":0},{"$f":"_xlfn.IFNA(VLOOKUP($P63,Roster!$A$2:$AF$34,17,0),0)","v":0},null,null,null,null,17,173]
[52,{"$f":"_xlfn.IFNA(VLOOKUP($P64,Roster!$A$2:$AF$34,6,0),0)","v":0},{"$f":"_xlfn.IFNA(VLOOKUP($P64,Roster!$A$2:$AF$34,7,0),0)","v":0},"15808 W Falcon Ridge Dr",{"$f":"_xlfn.IFNA(VLOOKUP($P64,Roster!$A$2:$AF$34,2,0),0)","v":0},{"$f":"_xlfn.IFNA(VLOOKUP($P64,Roster!$A$2:$AF$34,18,0),0)","v":0},{"$f":"_xlfn.IFNA(VLOOKUP($P64,Roster!$A$2:$AF$34,21,0),0)","v":0},{"$f":"_xlfn.IFNA(VLOOKUP($P64,Roster!$A$2:$AF$34,22,0),0)","v":0},{"$f":"_xlfn.IFNA(VLOOKUP($P64,Roster!$A$2:$AF$34,20,0),0)","v":0},{"$f":"_xlfn.IFNA(VLOOKUP($P64,Roster!$A$2:$AF$34,17,0),0)","v":0},null,null,null,null,18,181]
[53,{"$f":"_xlfn.IFNA(VLOOKUP($P65,Roster!$A$2:$AF$34,6,0),0)","v":0},{"$f":"_xlfn.IFNA(VLOOKUP($P65,Roster!$A$2:$AF$34,7,0),0)","v":0},"15808 W Falcon Ridge Dr",{"$f":"_xlfn.IFNA(VLOOKUP($P65,Roster!$A$2:$AF$34,2,0),0)","v":0},{"$f":"_xlfn.IFNA(VLOOKUP($P65,Roster!$A$2:$AF$34,18,0),0)","v":0},{"$f":"_xlfn.IFNA(VLOOKUP($P65,Roster!$A$2:$AF$34,21,0),0)","v":0},{"$f":"_xlfn.IFNA(VLOOKUP($P65,Roster!$A$2:$AF$34,22,0),0)","v":0},{"$f":"_xlfn.IFNA(VLOOKUP($P65,Roster!$A$2:$AF$34,20,0),0)","v":0},{"$f":"_xlfn.IFNA(VLOOKUP($P65,Roster!$A$2:$AF$34,17,0),0)","v":0},null,null,null,null,18,182]
[54,{"$f":"_xlfn.IFNA(VLOOKUP($P66,Roster!$A$2:$AF$34,6,0),0)","v":0},{"$f":"_xlfn.IFNA(VLOOKUP($P66,Roster!$A$2:$AF$34,7,0),0)","v":0},"15808 W Falcon Ridge Dr",{"$f":"_xlfn.IFNA(VLOOKUP($P66,Roster!$A$2:$AF$34,2,0),0)","v":0},{"$f":"_xlfn.IFNA(VLOOKUP($P66,Roster!$A$2:$AF$34,18,0),0)","v":0},{"$f":"_xlfn.IFNA(VLOOKUP($P66,Roster!$A$2:$AF$34,21,0),0)","v":0},{"$f":"_xlfn.IFNA(VLOOKUP($P66,Roster!$A$2:$AF$34,22,0),0)","v":0},{"$f":"_xlfn.IFNA(VLOOKUP($P66,Roster!$A$2:$AF$34,20,0),0)","v":0},{"$f":"_xlfn.IFNA(VLOOKUP($P66,Roster!$A$2:$AF$34,17,0),0)","v":0},null,null,null,null,18,183]
[55,{"$f":"_xlfn.IFNA(VLOOKUP($P67,Roster!$A$2:$AF$34,6,0),0)","v":0},{"$f":"_xlfn.IFNA(VLOOKUP($P67,Roster!$A$2:$AF$34,7,0),0)","v":0},"15808 W Falcon Ridge Dr",{"$f":"_xlfn.IFNA(VLOOKUP($P67,Roster!$A$2:$AF$34,2,0),0)","v":0},{"$f":"_xlfn.IFNA(VLOOKUP($P67,Roster!$A$2:$AF$34,18,0),0)","v":0},{"$f":"_xlfn.IFNA(VLOOKUP($P67,Roster!$A$2:$AF$34,21,0),0)","v":0},{"$f":"_xlfn.IFNA(VLOOKUP($P67,Roster!$A$2:$AF$34,22,0),0)","v":0},{"$f":"_xlfn.IFNA(VLOOKUP($P67,Roster!$A$2:$AF$34,20,0),0)","v":0},{"$f":"_xlfn.IFNA(VLOOKUP($P67,Roster!$A$2:$AF$34,17,0),0)","v":0}]
[56,{"$f":"_xlfn.IFNA(VLOOKUP($P68,Roster!$A$2:$AF$34,6,0),0)","v":0},{"$f":"_xlfn.IFNA(VLOOKUP($P68,Roster!$A$2:$AF$34,7,0),0)","v":0},"15808 W Falcon Ridge Dr",{"$f":"_xlfn.IFNA(VLOOKUP($P68,Roster!$A$2:$AF$34,2,0),0)","v":0},{"$f":"_xlfn.IFNA(VLOOKUP($P68,Roster!$A$2:$AF$34,18,0),0)","v":0},{"$f":"_xlfn.IFNA(VLOOKUP($P68,Roster!$A$2:$AF$34,21,0),0)","v":0},{"$f":"_xlfn.IFNA(VLOOKUP($P68,Roster!$A$2:$AF$34,22,0),0)","v":0},{"$f":"_xlfn.IFNA(VLOOKUP($P68,Roster!$A$2:$AF$34,20,0),0)","v":0},{"$f":"_xlfn.IFNA(VLOOKUP($P68,Roster!$A$2:$AF$34,17,0),0)","v":0}]
[57,{"$f":"_xlfn.IFNA(VLOOKUP($P69,Roster!$A$2:$AF$34,6,0),0)","v":0},{"$f":"_xlfn.IFNA(VLOOKUP($P69,Roster!$A$2:$AF$34,7,0),0)","v":0},"15808 W Falcon Ridge Dr",{"$f":"_xlfn.IFNA(VLOOKUP($P69,Roster!$A$2:$AF$34,2,0),0)","v":0},{"$f":"_xlfn.IFNA(VLOOKUP($P69,Roster!$A$2:$AF$34,18,0),0)","v":0},{"$f":"_xlfn.IFNA(VLOOKUP($P69,Roster!$A$2:$AF$34,21,0),0)","v":0},{"$f":"_xlfn.IFNA(VLOOKUP($P69,Roster!$A$2:$AF$34,22,0),0)","v":0},{"$f":"_xlfn.IFNA(VLOOKUP($P69,Roster!$A$2:$AF$34,20,0),0)","v":0},{"$f":"_xlfn.IFNA(VLOOKUP($P69,Roster!$A$2:$AF$34,17,0),0)","v":0}]
[58,{"$f":"_xlfn.IFNA(VLOOKUP($P70,Roster!$A$2:$AF$34,6,0),0)","v":0},{"$f":"_xlfn.IFNA(VLOOKUP($P70,Roster!$A$2:$AF$34,7,0),0)","v":0},"15808 W Falcon Ridge Dr",{"$f":"_xlfn.IFNA(VLOOKUP($P70,Roster!$A$2:$AF$34,2,0),0)","v":0},{"$f":"_xlfn.IFNA(VLOOKUP($P70,Roster!$A$2:$AF$34,18,0),0)","v":0},{"$f":"_xlfn.IFNA(VLOOKUP($P70,Roster!$A$2:$AF$34,21,0),0)","v":0},{"$f":"_xlfn.IFNA(VLOOKUP($P70,Roster!$A$2:$AF$34,22,0),0)","v":0},{"$f":"_xlfn.IFNA(VLOOKUP($P70,Roster!$A$2:$AF$34,20,0),0)","v":0},{"$f":"_xlfn.IFNA(VLOOKUP($P70,Roster!$A$2:$AF$34,17,0),0)","v":0}]
[59,{"$f":"_xlfn.IFNA(VLOOKUP($P71,Roster!$A$2:$AF$34,6,0),0)","v":0},{"$f":"_xlfn.IFNA(VLOOKUP($P71,Roster!$A$2:$AF$34,7,0),0)","v":0},"15808 W Falcon Ridge Dr",{"$f":"_xlfn.IFNA(VLOOKUP($P71,Roster!$A$2:$AF$34,2,0),0)","v":0},{"$f":"_xlfn.IFNA(VLOOKUP($P71,Roster!$A$2:$AF$34,18,0),0)","v":0},{"$f":"_xlfn.IFNA(VLOOKUP($P71,Roster!$A$2:$AF$34,21,0),0)","v":0},{"$f":"_xlfn.IFNA(VLOOKUP($P71,Roster!$A$2:$AF$34,22,0),0)","v":0},{"$f":"_xlfn.IFNA(VLOOKUP($P71,Roster!$A$2:$AF$34,20,0),0)","v":0},{"$f":"_xlfn.IFNA(VLOOKUP($P71,Roster!$A$2:$AF$34,17,0),0)","v":0}]
[60,{"$f":"_xlfn.IFNA(VLOOKUP($P72,Roster!$A$2:$AF$34,6,0),0)","v":0},{"$f":"_xlfn.IFNA(VLOOKUP($P72,Roster!$A$2:$AF$34,7,0),0)","v":0},"15808 W Falcon Ridge Dr",{"$f":"_xlfn.IFNA(VLOOKUP($P72,Roster!$A$2:$AF$34,2,0),0)","v":0},{"$f":"_xlfn.IFNA(VLOOKUP($P72,Roster!$A$2:$AF$34,18,0),0)","v":0},{"$f":"_xlfn.IFNA(VLOOKUP($P72,Roster!$A$2:$AF$34,21,0),0)","v":0},{"$f":"_xlfn.IFNA(VLOOKUP($P72,Roster!$A$2:$AF$34,22,0),0)","v":0},{"$f":"_xlfn.IFNA(VLOOKUP($P72,Roster!$A$2:$AF$34,20,0),0)","v":0},{"$f":"_xlfn.IFNA(VLOOKUP($P72,Roster!$A$2:$AF$34,17,0),0)","v":0}]
[61,{"$f":"_xlfn.IFNA(VLOOKUP($P73,Roster!$A$2:$AF$34,6,0),0)","v":0},{"$f":"_xlfn.IFNA(VLOOKUP($P73,Roster!$A$2:$AF$34,7,0),0)","v":0},"15808 W Falcon Ridge Dr",{"$f":"_xlfn.IFNA(VLOOKUP($P73,Roster!$A$2:$AF$34,2,0),0)","v":0},{"$f":"_xlfn.IFNA(VLOOKUP($P73,Roster!$A$2:$AF$34,18,0),0)","v":0},{"$f":"_xlfn.IFNA(VLOOKUP($P73,Roster!$A$2:$AF$34,21,0),0)","v":0},{"$f":"_xlfn.IFNA(VLOOKUP($P73,Roster!$A$2:$AF$34,22,0),0)","v":0},{"$f":"_xlfn.IFNA(VLOOKUP($P73,Roster!$A$2:$AF$34,20,0),0)","v":0},{"$f":"_xlfn.IFNA(VLOOKUP($P73,Roster!$A$2:$AF$34,17,0),0)","v":0}]
[62,{"$f":"_xlfn.IFNA(VLOOKUP($P74,Roster!$A$2:$AF$34,6,0),0)","v":0},{"$f":"_xlfn.IFNA(VLOOKUP($P74,Roster!$A$2:$AF$34,7,0),0)","v":0},"15808 W Falcon Ridge Dr",{"$f":"_xlfn.IFNA(VLOOKUP($P74,Roster!$A$2:$AF$34,2,0),0)","v":0},{"$f":"_xlfn.IFNA(VLOOKUP($P74,Roster!$A$2:$AF$34,18,0),0)","v":0},{"$f":"_xlfn.IFNA(VLOOKUP($P74,Roster!$A$2:$AF$34,21,0),0)","v":0},{"$f":"_xlfn.IFNA(VLOOKUP($P74,Roster!$A$2:$AF$34,22,0),0)","v":0},{"$f":"_xlfn.IFNA(VLOOKUP($P74,Roster!$A$2:$AF$34,20,0),0)","v":0},{"$f":"_xlfn.IFNA(VLOOKUP($P74,Roster!$A$2:$AF$34,17,0),0)","v":0}]
[63,{"$f":"_xlfn.IFNA(VLOOKUP($P75,Roster!$A$2:$AF$34,6,0),0)","v":0},{"$f":"_xlfn.IFNA(VLOOKUP($P75,Roster!$A$2:$AF$34,7,0),0)","v":0},"15808 W Falcon Ridge Dr",{"$f":"_xlfn.IFNA(VLOOKUP($P75,Roster!$A$2:$AF$34,2,0),0)","v":0},{"$f":"_xlfn.IFNA(VLOOKUP($P75,Roster!$A$2:$AF$34,18,0),0)","v":0},{"$f":"_xlfn.IFNA(VLOOKUP($P75,Roster!$A$2:$AF$34,21,0),0)","v":0},{"$f":"_xlfn.IFNA(VLOOKUP($P75,Roster!$A$2:$AF$34,22,0),0)","v":0},{"$f":"_xlfn.IFNA(VLOOKUP($P75,Roster!$A$2:$AF$34,20,0),0)","v":0},{"$f":"_xlfn.IFNA(VLOOKUP($P75,Roster!$A$2:$AF$34,17,0),0)","v":0}]
[64,{"$f":"_xlfn.IFNA(VLOOKUP($P76,Roster!$A$2:$AF$34,6,0),0)","v":0},{"$f":"_xlfn.IFNA(VLOOKUP($P76,Roster!$A$2:$AF$34,7,0),0)","v":0},"15808 W Falcon Ridge Dr",{"$f":"_xlfn.IFNA(VLOOKUP($P76,Roster!$A$2:$AF$34,2,0),0)","v":0},{"$f":"_xlfn.IFNA(VLOOKUP($P76,Roster!$A$2:$AF$34,18,0),0)","v":0},{"$f":"_xlfn.IFNA(VLOOKUP($P76,Roster!$A$2:$AF$34,21,0),0)","v":0},{"$f":"_xlfn.IFNA(VLOOKUP($P76,Roster!$A$2:$AF$34,22,0),0)","v":0},{"$f":"_xlfn.IFNA(VLOOKUP($P76,Roster!$A$2:$AF$34,20,0),0)","v":0},{"$f":"_xlfn.IFNA(VLOOKUP($P76,Roster!$A$2:$AF$34,17,0),0)","v":0}]
[65,{"$f":"_xlfn.IFNA(VLOOKUP($P77,Roster!$A$2:$AF$34,6,0),0)","v":0},{"$f":"_xlfn.IFNA(VLOOKUP($P77,Roster!$A$2:$AF$34,7,0),0)","v":0},"15808 W Falcon Ridge Dr",{"$f":"_xlfn.IFNA(VLOOKUP($P77,Roster!$A$2:$AF$34,2,0),0)","v":0},{"$f":"_xlfn.IFNA(VLOOKUP($P77,Roster!$A$2:$AF$34,18,0),0)","v":0},{"$f":"_xlfn.IFNA(VLOOKUP($P77,Roster!$A$2:$AF$34,21,0),0)","v":0},{"$f":"_xlfn.IFNA(VLOOKUP($P77,Roster!$A$2:$AF$34,22,0),0)","v":0},{"$f":"_xlfn.IFNA(VLOOKUP($P77,Roster!$A$2:$AF$34,20,0),0)","v":0},{"$f":"_xlfn.IFNA(VLOOKUP($P77,Roster!$A$2:$AF$34,17,0),0)","v":0}]
[{"$f":"A77+1","v":66},{"$f":"_xlfn.IFNA(VLOOKUP($P78,Roster!$A$2:$AF$34,6,0),0)","v":0},{"$f":"_xlfn.IFNA(VLOOKUP($P78,Roster!$A$2:$AF$34,7,0),0)","v":0},"15808 W Falcon Ridge Dr",{"$f":"_xlfn.IFNA(VLOOKUP($P78,Roster!$A$2:$AF$34,2,0),0)","v":0},{"$f":"_xlfn.IFNA(VLOOKUP($P78,Roster!$A$2:$AF$34,18,0),0)","v":0},{"$f":"_xlfn.IFNA(VLOOKUP($P78,Roster!$A$2:$AF$34,21,0),0)","v":0},{"$f":"_xlfn.IFNA(VLOOKUP($P78,Roster!$A$2:$AF$34,22,0),0)","v":0},{"$f":"_xlfn.IFNA(VLOOKUP($P78,Roster!$A$2:$AF$34,20,0),0)","v":0},{"$f":"_xlfn.IFNA(VLOOKUP($P78,Roster!$A$2:$AF$34,17,0),0)","v":0}]
[67,{"$f":"_xlfn.IFNA(VLOOKUP($P79,Roster!$A$2:$AF$34,6,0),0)","v":0},{"$f":"_xlfn.IFNA(VLOOKUP($P79,Roster!$A$2:$AF$34,7,0),0)","v":0},"15808 W Falcon Ridge Dr",{"$f":"_xlfn.IFNA(VLOOKUP($P79,Roster!$A$2:$AF$34,2,0),0)","v":0},{"$f":"_xlfn.IFNA(VLOOKUP($P79,Roster!$A$2:$AF$34,18,0),0)","v":0},{"$f":"_xlfn.IFNA(VLOOKUP($P79,Roster!$A$2:$AF$34,21,0),0)","v":0},{"$f":"_xlfn.IFNA(VLOOKUP($P79,Roster!$A$2:$AF$34,22,0),0)","v":0},{"$f":"_xlfn.IFNA(VLOOKUP($P79,Roster!$A$2:$AF$34,20,0),0)","v":0},{"$f":"_xlfn.IFNA(VLOOKUP($P79,Roster!$A$2:$AF$34,17,0),0)","v":0}]
[68,{"$f":"_xlfn.IFNA(VLOOKUP($P80,Roster!$A$2:$AF$34,6,0),0)","v":0},{"$f":"_xlfn.IFNA(VLOOKUP($P80,Roster!$A$2:$AF$34,7,0),0)","v":0},"15808 W Falcon Ridge Dr",{"$f":"_xlfn.IFNA(VLOOKUP($P80,Roster!$A$2:$AF$34,2,0),0)","v":0},{"$f":"_xlfn.IFNA(VLOOKUP($P80,Roster!$A$2:$AF$34,18,0),0)","v":0},{"$f":"_xlfn.IFNA(VLOOKUP($P80,Roster!$A$2:$AF$34,21,0),0)","v":0},{"$f":"_xlfn.IFNA(VLOOKUP($P80,Roster!$A$2:$AF$34,22,0),0)","v":0},{"$f":"_xlfn.IFNA(VLOOKUP($P80,Roster!$A$2:$AF$34,20,0),0)","v":0},{"$f":"_xlfn.IFNA(VLOOKUP($P80,Roster!$A$2:$AF$34,17,0),0)","v":0}]
[69,{"$f":"_xlfn.IFNA(VLOOKUP($P81,Roster!$A$2:$AF$34,6,0),0)","v":0},{"$f":"_xlfn.IFNA(VLOOKUP($P81,Roster!$A$2:$AF$34,7,0),0)","v":0},"15808 W Falcon Ridge Dr",{"$f":"_xlfn.IFNA(VLOOKUP($P81,Roster!$A$2:$AF$34,2,0),0)","v":0},{"$f":"_xlfn.IFNA(VLOOKUP($P81,Roster!$A$2:$AF$34,18,0),0)","v":0},{"$f":"_xlfn.IFNA(VLOOKUP($P81,Roster!$A$2:$AF$34,21,0),0)","v":0},{"$f":"_xlfn.IFNA(VLOOKUP($P81,Roster!$A$2:$AF$34,22,0),0)","v":0},{"$f":"_xlfn.IFNA(VLOOKUP($P81,Roster!$A$2:$AF$34,20,0),0)","v":0},{"$f":"_xlfn.IFNA(VLOOKUP($P81,Roster!$A$2:$AF$34,17,0),0)","v":0}]
[70,{"$f":"_xlfn.IFNA(VLOOKUP($P82,Roster!$A$2:$AF$34,6,0),0)","v":0},{"$f":"_xlfn.IFNA(VLOOKUP($P82,Roster!$A$2:$AF$34,7,0),0)","v":0},"15808 W Falcon Ridge Dr",{"$f":"_xlfn.IFNA(VLOOKUP($P82,Roster!$A$2:$AF$34,2,0),0)","v":0},{"$f":"_xlfn.IFNA(VLOOKUP($P82,Roster!$A$2:$AF$34,18,0),0)","v":0},{"$f":"_xlfn.IFNA(VLOOKUP($P82,Roster!$A$2:$AF$34,21,0),0)","v":0},{"$f":"_xlfn.IFNA(VLOOKUP($P82,Roster!$A$2:$AF$34,22,0),0)","v":0},{"$f":"_xlfn.IFNA(VLOOKUP($P82,Roster!$A$2:$AF$34,20,0),0)","v":0},{"$f":"_xlfn.IFNA(VLOOKUP($P82,Roster!$A$2:$AF$34,17,0),0)","v":0}]
[71,{"$f":"_xlfn.IFNA(VLOOKUP($P83,Roster!$A$2:$AF$34,6,0),0)","v":0},{"$f":"_xlfn.IFNA(VLOOKUP($P83,Roster!$A$2:$AF$34,7,0),0)","v":0},"15808 W Falcon Ridge Dr",{"$f":"_xlfn.IFNA(VLOOKUP($P83,Roster!$A$2:$AF$34,2,0),0)","v":0},{"$f":"_xlfn.IFNA(VLOOKUP($P83,Roster!$A$2:$AF$34,18,0),0)","v":0},{"$f":"_xlfn.IFNA(VLOOKUP($P83,Roster!$A$2:$AF$34,21,0),0)","v":0},{"$f":"_xlfn.IFNA(VLOOKUP($P83,Roster!$A$2:$AF$34,22,0),0)","v":0},{"$f":"_xlfn.IFNA(VLOOKUP($P83,Roster!$A$2:$AF$34,20,0),0)","v":0},{"$f":"_xlfn.IFNA(VLOOKUP($P83,Roster!$A$2:$AF$34,17,0),0)","v":0}]
[72,{"$f":"_xlfn.IFNA(VLOOKUP($P84,Roster!$A$2:$AF$34,6,0),0)","v":0},{"$f":"_xlfn.IFNA(VLOOKUP($P84,Roster!$A$2:$AF$34,7,0),0)","v":0},"15808 W Falcon Ridge Dr",{"$f":"_xlfn.IFNA(VLOOKUP($P84,Roster!$A$2:$AF$34,2,0),0)","v":0},{"$f":"_xlfn.IFNA(VLOOKUP($P84,Roster!$A$2:$AF$34,18,0),0)","v":0},{"$f":"_xlfn.IFNA(VLOOKUP($P84,Roster!$A$2:$AF$34,21,0),0)","v":0},{"$f":"_xlfn.IFNA(VLOOKUP($P84,Roster!$A$2:$AF$34,22,0),0)","v":0},{"$f":"_xlfn.IFNA(VLOOKUP($P84,Roster!$A$2:$AF$34,20,0),0)","v":0},{"$f":"_xlfn.IFNA(VLOOKUP($P84,Roster!$A$2:$AF$34,17,0),0)","v":0}]
[73,{"$f":"_xlfn.IFNA(VLOOKUP($P85,Roster!$A$2:$AF$34,6,0),0)","v":0},{"$f":"_xlfn.IFNA(VLOOKUP($P85,Roster!$A$2:$AF$34,7,0),0)","v":0},"15808 W Falcon Ridge Dr",{"$f":"_xlfn.IFNA(VLOOKUP($P85,Roster!$A$2:$AF$34,2,0),0)","v":0},{"$f":"_xlfn.IFNA(VLOOKUP($P85,Roster!$A$2:$AF$34,18,0),0)","v":0},{"$f":"_xlfn.IFNA(VLOOKUP($P85,Roster!$A$2:$AF$34,21,0),0)","v":0},{"$f":"_xlfn.IFNA(VLOOKUP($P85,Roster!$A$2:$AF$34,22,0),0)","v":0},{"$f":"_xlfn.IFNA(VLOOKUP($P85,Roster!$A$2:$AF$34,20,0),0)","v":0},{"$f":"_xlfn.IFNA(VLOOKUP($P85,Roster!$A$2:$AF$34,17,0),0)","v":0}]
[74,{"$f":"_xlfn.IFNA(VLOOKUP($P86,Roster!$A$2:$AF$34,6,0),0)","v":0},{"$f":"_xlfn.IFNA(VLOOKUP($P86,Roster!$A$2:$AF$34,7,0),0)","v":0},"15808 W Falcon Ridge Dr",{"$f":"_xlfn.IFNA(VLOOKUP($P86,Roster!$A$2:$AF$34,2,0),0)","v":0},{"$f":"_xlfn.IFNA(VLOOKUP($P86,Roster!$A$2:$AF$34,18,0),0)","v":0},{"$f":"_xlfn.IFNA(VLOOKUP($P86,Roster!$A$2:$AF$34,21,0),0)","v":0},{"$f":"_xlfn.IFNA(VLOOKUP($P86,Roster!$A$2:$AF$34,22,0),0)","v":0},{"$f":"_xlfn.IFNA(VLOOKUP($P86,Roster!$A$2:$AF$34,20,0),0)","v":0},{"$f":"_xlfn.IFNA(VLOOKUP($P86,Roster!$A$2:$AF$34,17,0),0)","v":0}]
[75,{"$f":"_xlfn.IFNA(VLOOKUP($P87,Roster!$A$2:$AF$34,6,0),0)","v":0},{"$f":"_xlfn.IFNA(VLOOKUP($P87,Roster!$A$2:$AF$34,7,0),0)","v":0},"15808 W Falcon Ridge Dr",{"$f":"_xlfn.IFNA(VLOOKUP($P87,Roster!$A$2:$AF$34,2,0),0)","v":0},{"$f":"_xlfn.IFNA(VLOOKUP($P87,Roster!$A$2:$AF$34,18,0),0)","v":0},{"$f":"_xlfn.IFNA(VLOOKUP($P87,Roster!$A$2:$AF$34,21,0),0)","v":0},{"$f":"_xlfn.IFNA(VLOOKUP($P87,Roster!$A$2:$AF$34,22,0),0)","v":0},{"$f":"_xlfn.IFNA(VLOOKUP($P87,Roster!$A$2:$AF$34,20,0),0)","v":0},{"$f":"_xlfn.IFNA(VLOOKUP($P87,Roster!$A$2:$AF$34,17,0),0)","v":0}]
[76,{"$f":"_xlfn.IFNA(VLOOKUP($P88,Roster!$A$2:$AF$34,6,0),0)","v":0},{"$f":"_xlfn.IFNA(VLOOKUP($P88,Roster!$A$2:$AF$34,7,0),0)","v":0},"15808 W Falcon Ridge Dr",{"$f":"_xlfn.IFNA(VLOOKUP($P88,Roster!$A$2:$AF$34,2,0),0)","v":0},{"$f":"_xlfn.IFNA(VLOOKUP($P88,Roster!$A$2:$AF$34,18,0),0)","v":0},{"$f":"_xlfn.IFNA(VLOOKUP($P88,Roster!$A$2:$AF$34,21,0),0)","v":0},{"$f":"_xlfn.IFNA(VLOOKUP($P88,Roster!$A$2:$AF$34,22,0),0)","v":0},{"$f":"_xlfn.IFNA(VLOOKUP($P88,Roster!$A$2:$AF$34,20,0),0)","v":0},{"$f":"_xlfn.IFNA(VLOOKUP($P88,Roster!$A$2:$AF$34,17,0),0)","v":0}]
[77,{"$f":"_xlfn.IFNA(VLOOKUP($P89,Roster!$A$2:$AF$34,6,0),0)","v":0},{"$f":"_xlfn.IFNA(VLOOKUP($P89,Roster!$A$2:$AF$34,7,0),0)","v":0},"15808 W Falcon Ridge Dr",{"$f":"_xlfn.IFNA(VLOOKUP($P89,Roster!$A$2:$AF$34,2,0),0)","v":0},{"$f":"_xlfn.IFNA(VLOOKUP($P89,Roster!$A$2:$AF$34,18,0),0)","v":0},{"$f":"_xlfn.IFNA(VLOOKUP($P89,Roster!$A$2:$AF$34,21,0),0)","v":0},{"$f":"_xlfn.IFNA(VLOOKUP($P89,Roster!$A$2:$AF$34,22,0),0)","v":0},{"$f":"_xlfn.IFNA(VLOOKUP($P89,Roster!$A$2:$AF$34,20,0),0)","v":0},{"$f":"_xlfn.IFNA(VLOOKUP($P89,Roster!$A$2:$AF$34,17,0),0)","v":0}]
[78,{"$f":"_xlfn.IFNA(VLOOKUP($P90,Roster!$A$2:$AF$34,6,0),0)","v":0},{"$f":"_xlfn.IFNA(VLOOKUP($P90,Roster!$A$2:$AF$34,7,0),0)","v":0},"15808 W Falcon Ridge Dr",{"$f":"_xlfn.IFNA(VLOOKUP($P90,Roster!$A$2:$AF$34,2,0),0)","v":0},{"$f":"_xlfn.IFNA(VLOOKUP($P90,Roster!$A$2:$AF$34,18,0),0)","v":0},{"$f":"_xlfn.IFNA(VLOOKUP($P90,Roster!$A$2:$AF$34,21,0),0)","v":0},{"$f":"_xlfn.IFNA(VLOOKUP($P90,Roster!$A$2:$AF$34,22,0),0)","v":0},{"$f":"_xlfn.IFNA(VLOOKUP($P90,Roster!$A$2:$AF$34,20,0),0)","v":0},{"$f":"_xlfn.IFNA(VLOOKUP($P90,Roster!$A$2:$AF$34,17,0),0)","v":0}]
[79,{"$f":"_xlfn.IFNA(VLOOKUP($P91,Roster!$A$2:$AF$34,6,0),0)","v":0},{"$f":"_xlfn.IFNA(VLOOKUP($P91,Roster!$A$2:$AF$34,7,0),0)","v":0},"15808 W Falcon Ridge Dr",{"$f":"_xlfn.IFNA(VLOOKUP($P91,Roster!$A$2:$AF$34,2,0),0)","v":0},{"$f":"_xlfn.IFNA(VLOOKUP($P91,Roster!$A$2:$AF$34,18,0),0)","v":0},{"$f":"_xlfn.IFNA(VLOOKUP($P91,Roster!$A$2:$AF$34,21,0),0)","v":0},{"$f":"_xlfn.IFNA(VLOOKUP($P91,Roster!$A$2:$AF$34,22,0),0)","v":0},{"$f":"_xlfn.IFNA(VLOOKUP($P91,Roster!$A$2:$AF$34,20,0),0)","v":0},{"$f":"_xlfn.IFNA(VLOOKUP($P91,Roster!$A$2:$AF$34,17,0),0)","v":0}]
[80,{"$f":"_xlfn.IFNA(VLOOKUP($P92,Roster!$A$2:$AF$34,6,0),0)","v":0},{"$f":"_xlfn.IFNA(VLOOKUP($P92,Roster!$A$2:$AF$34,7,0),0)","v":0},"15808 W Falcon Ridge Dr",{"$f":"_xlfn.IFNA(VLOOKUP($P92,Roster!$A$2:$AF$34,2,0),0)","v":0},{"$f":"_xlfn.IFNA(VLOOKUP($P92,Roster!$A$2:$AF$34,18,0),0)","v":0},{"$f":"_xlfn.IFNA(VLOOKUP($P92,Roster!$A$2:$AF$34,21,0),0)","v":0},{"$f":"_xlfn.IFNA(VLOOKUP($P92,Roster!$A$2:$AF$34,22,0),0)","v":0},{"$f":"_xlfn.IFNA(VLOOKUP($P92,Roster!$A$2:$AF$34,20,0),0)","v":0},{"$f":"_xlfn.IFNA(VLOOKUP($P92,Roster!$A$2:$AF$34,17,0),0)","v":0}]
[81,{"$f":"_xlfn.IFNA(VLOOKUP($P93,Roster!$A$2:$AF$34,6,0),0)","v":0},{"$f":"_xlfn.IFNA(VLOOKUP($P93,Roster!$A$2:$AF$34,7,0),0)","v":0},"15808 W Falcon Ridge Dr",{"$f":"_xlfn.IFNA(VLOOKUP($P93,Roster!$A$2:$AF$34,2,0),0)","v":0},{"$f":"_xlfn.IFNA(VLOOKUP($P93,Roster!$A$2:$AF$34,18,0),0)","v":0},{"$f":"_xlfn.IFNA(VLOOKUP($P93,Roster!$A$2:$AF$34,21,0),0)","v":0},{"$f":"_xlfn.IFNA(VLOOKUP($P93,Roster!$A$2:$AF$34,22,0),0)","v":0},{"$f":"_xlfn.IFNA(VLOOKUP($P93,Roster!$A$2:$AF$34,20,0),0)","v":0},{"$f":"_xlfn.IFNA(VLOOKUP($P93,Roster!$A$2:$AF$34,17,0),0)","v":0}]
[82,{"$f":"_xlfn.IFNA(VLOOKUP($P94,Roster!$A$2:$AF$34,6,0),0)","v":0},{"$f":"_xlfn.IFNA(VLOOKUP($P94,Roster!$A$2:$AF$34,7,0),0)","v":0},"15808 W Falcon Ridge Dr",{"$f":"_xlfn.IFNA(VLOOKUP($P94,Roster!$A$2:$AF$34,2,0),0)","v":0},{"$f":"_xlfn.IFNA(VLOOKUP($P94,Roster!$A$2:$AF$34,18,0),0)","v":0},{"$f":"_xlfn.IFNA(VLOOKUP($P94,Roster!$A$2:$AF$34,21,0),0)","v":0},{"$f":"_xlfn.IFNA(VLOOKUP($P94,Roster!$A$2:$AF$34,22,0),0)","v":0},{"$f":"_xlfn.IFNA(VLOOKUP($P94,Roster!$A$2:$AF$34,20,0),0)","v":0},{"$f":"_xlfn.IFNA(VLOOKUP($P94,Roster!$A$2:$AF$34,17,0),0)","v":0}]
[83,{"$f":"_xlfn.IFNA(VLOOKUP($P95,Roster!$A$2:$AF$34,6,0),0)","v":0},{"$f":"_xlfn.IFNA(VLOOKUP($P95,Roster!$A$2:$AF$34,7,0),0)","v":0},"15808 W Falcon Ridge Dr",{"$f":"_xlfn.IFNA(VLOOKUP($P95,Roster!$A$2:$AF$34,2,0),0)","v":0},{"$f":"_xlfn.IFNA(VLOOKUP($P95,Roster!$A$2:$AF$34,18,0),0)","v":0},{"$f":"_xlfn.IFNA(VLOOKUP($P95,Roster!$A$2:$AF$34,21,0),0)","v":0},{"$f":"_xlfn.IFNA(VLOOKUP($P95,Roster!$A$2:$AF$34,22,0),0)","v":0},{"$f":"_xlfn.IFNA(VLOOKUP($P95,Roster!$A$2:$AF$34,20,0),0)","v":0},{"$f":"_xlfn.IFNA(VLOOKUP($P95,Roster!$A$2:$AF$34,17,0),0)","v":0}]
[84,{"$f":"_xlfn.IFNA(VLOOKUP($P96,Roster!$A$2:$AF$34,6,0),0)","v":0},{"$f":"_xlfn.IFNA(VLOOKUP($P96,Roster!$A$2:$AF$34,7,0),0)","v":0},"15808 W Falcon Ridge Dr",{"$f":"_xlfn.IFNA(VLOOKUP($P96,Roster!$A$2:$AF$34,2,0),0)","v":0},{"$f":"_xlfn.IFNA(VLOOKUP($P96,Roster!$A$2:$AF$34,18,0),0)","v":0},{"$f":"_xlfn.IFNA(VLOOKUP($P96,Roster!$A$2:$AF$34,21,0),0)","v":0},{"$f":"_xlfn.IFNA(VLOOKUP($P96,Roster!$A$2:$AF$34,22,0),0)","v":0},{"$f":"_xlfn.IFNA(VLOOKUP($P96,Roster!$A$2:$AF$34,20,0),0)","v":0},{"$f":"_xlfn.IFNA(VLOOKUP($P96,Roster!$A$2:$AF$34,17,0),0)","v":0}]
[85,{"$f":"_xlfn.IFNA(VLOOKUP($P97,Roster!$A$2:$AF$34,6,0),0)","v":0},{"$f":"_xlfn.IFNA(VLOOKUP($P97,Roster!$A$2:$AF$34,7,0),0)","v":0},"15808 W Falcon Ridge Dr",{"$f":"_xlfn.IFNA(VLOOKUP($P97,Roster!$A$2:$AF$34,2,0),0)","v":0},{"$f":"_xlfn.IFNA(VLOOKUP($P97,Roster!$A$2:$AF$34,18,0),0)","v":0},{"$f":"_xlfn.IFNA(VLOOKUP($P97,Roster!$A$2:$AF$34,21,0),0)","v":0},{"$f":"_xlfn.IFNA(VLOOKUP($P97,Roster!$A$2:$AF$34,22,0),0)","v":0},{"$f":"_xlfn.IFNA(VLOOKUP($P97,Roster!$A$2:$AF$34,20,0),0)","v":0},{"$f":"_xlfn.IFNA(VLOOKUP($P97,Roster!$A$2:$AF$34,17,0),0)","v":0}]
[86,{"$f":"_xlfn.IFNA(VLOOKUP($P98,Roster!$A$2:$AF$34,6,0),0)","v":0},{"$f":"_xlfn.IFNA(VLOOKUP($P98,Roster!$A$2:$AF$34,7,0),0)","v":0},"15808 W Falcon Ridge Dr",{"$f":"_xlfn.IFNA(VLOOKUP($P98,Roster!$A$2:$AF$34,2,0),0)","v":0},{"$f":"_xlfn.IFNA(VLOOKUP($P98,Roster!$A$2:$AF$34,18,0),0)","v":0},{"$f":"_xlfn.IFNA(VLOOKUP($P98,Roster!$A$2:$AF$34,21,0),0)","v":0},{"$f":"_xlfn.IFNA(VLOOKUP($P98,Roster!$A$2:$AF$34,22,0),0)","v":0},{"$f":"_xlfn.IFNA(VLOOKUP($P98,Roster!$A$2:$AF$34,20,0),0)","v":0},{"$f":"_xlfn.IFNA(VLOOKUP($P98,Roster!$A$2:$AF$34,17,0),0)","v":0}]
[87,{"$f":"_xlfn.IFNA(VLOOKUP($P99,Roster!$A$2:$AF$34,6,0),0)","v":0},{"$f":"_xlfn.IFNA(VLOOKUP($P99,Roster!$A$2:$AF$34,7,0),0)","v":0},"15808 W Falcon Ridge Dr",{"$f":"_xlfn.IFNA(VLOOKUP($P99,Roster!$A$2:$AF$34,2,0),0)","v":0},{"$f":"_xlfn.IFNA(VLOOKUP($P99,Roster!$A$2:$AF$34,18,0),0)","v":0},{"$f":"_xlfn.IFNA(VLOOKUP($P99,Roster!$A$2:$AF$34,21,0),0)","v":0},{"$f":"_xlfn.IFNA(VLOOKUP($P99,Roster!$A$2:$AF$34,22,0),0)","v":0},{"$f":"_xlfn.IFNA(VLOOKUP($P99,Roster!$A$2:$AF$34,20,0),0)","v":0},{"$f":"_xlfn.IFNA(VLOOKUP($P99,Roster!$A$2:$AF$34,17,0),0)","v":0}]
[88,{"$f":"_xlfn.IFNA(VLOOKUP($P100,Roster!$A$2:$AF$34,6,0),0)","v":0},{"$f":"_xlfn.IFNA(VLOOKUP($P100,Roster!$A$2:$AF$34,7,0),0)","v":0},"15808 W Falcon Ridge Dr",{"$f":"_xlfn.IFNA(VLOOKUP($P100,Roster!$A$2:$AF$34,2,0),0)","v":0},{"$f":"_xlfn.IFNA(VLOOKUP($P100,Roster!$A$2:$AF$34,18,0),0)","v":0},{"$f":"_xlfn.IFNA(VLOOKUP($P100,Roster!$A$2:$AF$34,21,0),0)","v":0},{"$f":"_xlfn.IFNA(VLOOKUP($P100,Roster!$A$2:$AF$34,22,0),0)","v":0},{"$f":"_xlfn.IFNA(VLOOKUP($P100,Roster!$A$2:$AF$34,20,0),0)","v":0},{"$f":"_xlfn.IFNA(VLOOKUP($P100,Roster!$A$2:$AF$34,17,0),0)","v":0}]
[89,{"$f":"_xlfn.IFNA(VLOOKUP($P101,Roster!$A$2:$AF$34,6,0),0)","v":0},{"$f":"_xlfn.IFNA(VLOOKUP($P101,Roster!$A$2:$AF$34,7,0),0)","v":0},"15808 W Falcon Ridge Dr",{"$f":"_xlfn.IFNA(VLOOKUP($P101,Roster!$A$2:$AF$34,2,0),0)","v":0},{"$f":"_xlfn.IFNA(VLOOKUP($P101,Roster!$A$2:$AF$34,18,0),0)","v":0},{"$f":"_xlfn.IFNA(VLOOKUP($P101,Roster!$A$2:$AF$34,21,0),0)","v":0},{"$f":"_xlfn.IFNA(VLOOKUP($P101,Roster!$A$2:$AF$34,22,0),0)","v":0},{"$f":"_xlfn.IFNA(VLOOKUP($P101,Roster!$A$2:$AF$34,20,0),0)","v":0},{"$f":"_xlfn.IFNA(VLOOKUP($P101,Roster!$A$2:$AF$34,17,0),0)","v":0}]
[90,{"$f":"_xlfn.IFNA(VLOOKUP($P102,Roster!$A$2:$AF$34,6,0),0)","v":0},{"$f":"_xlfn.IFNA(VLOOKUP($P102,Roster!$A$2:$AF$34,7,0),0)","v":0},"15808 W Falcon Ridge Dr",{"$f":"_xlfn.IFNA(VLOOKUP($P102,Roster!$A$2:$AF$34,2,0),0)","v":0},{"$f":"_xlfn.IFNA(VLOOKUP($P102,Roster!$A$2:$AF$34,18,0),0)","v":0},{"$f":"_xlfn.IFNA(VLOOKUP($P102,Roster!$A$2:$AF$34,21,0),0)","v":0},{"$f":"_xlfn.IFNA(VLOOKUP($P102,Roster!$A$2:$AF$34,22,0),0)","v":0},{"$f":"_xlfn.IFNA(VLOOKUP($P102,Roster!$A$2:$AF$34,20,0),0)","v":0},{"$f":"_xlfn.IFNA(VLOOKUP($P102,Roster!$A$2:$AF$34,17,0),0)","v":0}]
[91,{"$f":"_xlfn.IFNA(VLOOKUP($P103,Roster!$A$2:$AF$34,6,0),0)","v":0},{"$f":"_xlfn.IFNA(VLOOKUP($P103,Roster!$A$2:$AF$34,7,0),0)","v":0},"15808 W Falcon Ridge Dr",{"$f":"_xlfn.IFNA(VLOOKUP($P103,Roster!$A$2:$AF$34,2,0),0)","v":0},{"$f":"_xlfn.IFNA(VLOOKUP($P103,Roster!$A$2:$AF$34,18,0),0)","v":0},{"$f":"_xlfn.IFNA(VLOOKUP($P103,Roster!$A$2:$AF$34,21,0),0)","v":0},{"$f":"_xlfn.IFNA(VLOOKUP($P103,Roster!$A$2:$AF$34,22,0),0)","v":0},{"$f":"_xlfn.IFNA(VLOOKUP($P103,Roster!$A$2:$AF$34,20,0),0)","v":0},{"$f":"_xlfn.IFNA(VLOOKUP($P103,Roster!$A$2:$AF$34,17,0),0)","v":0}]
[92,{"$f":"_xlfn.IFNA(VLOOKUP($P104,Roster!$A$2:$AF$34,6,0),0)","v":0},{"$f":"_xlfn.IFNA(VLOOKUP($P104,Roster!$A$2:$AF$34,7,0),0)","v":0},"15808 W Falcon Ridge Dr",{"$f":"_xlfn.IFNA(VLOOKUP($P104,Roster!$A$2:$AF$34,2,0),0)","v":0},{"$f":"_xlfn.IFNA(VLOOKUP($P104,Roster!$A$2:$AF$34,18,0),0)","v":0},{"$f":"_xlfn.IFNA(VLOOKUP($P104,Roster!$A$2:$AF$34,21,0),0)","v":0},{"$f":"_xlfn.IFNA(VLOOKUP($P104,Roster!$A$2:$AF$34,22,0),0)","v":0},{"$f":"_xlfn.IFNA(VLOOKUP($P104,Roster!$A$2:$AF$34,20,0),0)","v":0},{"$f":"_xlfn.IFNA(VLOOKUP($P104,Roster!$A$2:$AF$34,17,0),0)","v":0}]
[93,{"$f":"_xlfn.IFNA(VLOOKUP($P105,Roster!$A$2:$AF$34,6,0),0)","v":0},{"$f":"_xlfn.IFNA(VLOOKUP($P105,Roster!$A$2:$AF$34,7,0),0)","v":0},"15808 W Falcon Ridge Dr",{"$f":"_xlfn.IFNA(VLOOKUP($P105,Roster!$A$2:$AF$34,2,0),0)","v":0},{"$f":"_xlfn.IFNA(VLOOKUP($P105,Roster!$A$2:$AF$34,18,0),0)","v":0},{"$f":"_xlfn.IFNA(VLOOKUP($P105,Roster!$A$2:$AF$34,21,0),0)","v":0},{"$f":"_xlfn.IFNA(VLOOKUP($P105,Roster!$A$2:$AF$34,22,0),0)","v":0},{"$f":"_xlfn.IFNA(VLOOKUP($P105,Roster!$A$2:$AF$34,20,0),0)","v":0},{"$f":"_xlfn.IFNA(VLOOKUP($P105,Roster!$A$2:$AF$34,17,0),0)","v":0}]
[94,{"$f":"_xlfn.IFNA(VLOOKUP($P106,Roster!$A$2:$AF$34,6,0),0)","v":0},{"$f":"_xlfn.IFNA(VLOOKUP($P106,Roster!$A$2:$AF$34,7,0),0)","v":0},"15808 W Falcon Ridge Dr",{"$f":"_xlfn.IFNA(VLOOKUP($P106,Roster!$A$2:$AF$34,2,0),0)","v":0},{"$f":"_xlfn.IFNA(VLOOKUP($P106,Roster!$A$2:$AF$34,18,0),0)","v":0},{"$f":"_xlfn.IFNA(VLOOKUP($P106,Roster!$A$2:$AF$34,21,0),0)","v":0},{"$f":"_xlfn.IFNA(VLOOKUP($P106,Roster!$A$2:$AF$34,22,0),0)","v":0},{"$f":"_xlfn.IFNA(VLOOKUP($P106,Roster!$A$2:$AF$34,20,0),0)","v":0},{"$f":"_xlfn.IFNA(VLOOKUP($P106,Roster!$A$2:$AF$34,17,0),0)","v":0}]
[95,{"$f":"_xlfn.IFNA(VLOOKUP($P107,Roster!$A$2:$AF$34,6,0),0)","v":0},{"$f":"_xlfn.IFNA(VLOOKUP($P107,Roster!$A$2:$AF$34,7,0),0)","v":0},"15808 W Falcon Ridge Dr",{"$f":"_xlfn.IFNA(VLOOKUP($P107,Roster!$A$2:$AF$34,2,0),0)","v":0},{"$f":"_xlfn.IFNA(VLOOKUP($P107,Roster!$A$2:$AF$34,18,0),0)","v":0},{"$f":"_xlfn.IFNA(VLOOKUP($P107,Roster!$A$2:$AF$34,21,0),0)","v":0},{"$f":"_xlfn.IFNA(VLOOKUP($P107,Roster!$A$2:$AF$34,22,0),0)","v":0},{"$f":"_xlfn.IFNA(VLOOKUP($P107,Roster!$A$2:$AF$34,20,0),0)","v":0},{"$f":"_xlfn.IFNA(VLOOKUP($P107,Roster!$A$2:$AF$34,17,0),0)","v":0}]
[96,{"$f":"_xlfn.IFNA(VLOOKUP($P108,Roster!$A$2:$AF$34,6,0),0)","v":0},{"$f":"_xlfn.IFNA(VLOOKUP($P108,Roster!$A$2:$AF$34,7,0),0)","v":0},"15808 W Falcon Ridge Dr",{"$f":"_xlfn.IFNA(VLOOKUP($P108,Roster!$A$2:$AF$34,2,0),0)","v":0},{"$f":"_xlfn.IFNA(VLOOKUP($P108,Roster!$A$2:$AF$34,18,0),0)","v":0},{"$f":"_xlfn.IFNA(VLOOKUP($P108,Roster!$A$2:$AF$34,21,0),0)","v":0},{"$f":"_xlfn.IFNA(VLOOKUP($P108,Roster!$A$2:$AF$34,22,0),0)","v":0},{"$f":"_xlfn.IFNA(VLOOKUP($P108,Roster!$A$2:$AF$34,20,0),0)","v":0},{"$f":"_xlfn.IFNA(VLOOKUP($P108,Roster!$A$2:$AF$34,17,0),0)","v":0}]
[97,{"$f":"_xlfn.IFNA(VLOOKUP($P109,Roster!$A$2:$AF$34,6,0),0)","v":0},{"$f":"_xlfn.IFNA(VLOOKUP($P109,Roster!$A$2:$AF$34,7,0),0)","v":0},"15808 W Falcon Ridge Dr",{"$f":"_xlfn.IFNA(VLOOKUP($P109,Roster!$A$2:$AF$34,2,0),0)","v":0},{"$f":"_xlfn.IFNA(VLOOKUP($P109,Roster!$A$2:$AF$34,18,0),0)","v":0},{"$f":"_xlfn.IFNA(VLOOKUP($P109,Roster!$A$2:$AF$34,21,0),0)","v":0},{"$f":"_xlfn.IFNA(VLOOKUP($P109,Roster!$A$2:$AF$34,22,0),0)","v":0},{"$f":"_xlfn.IFNA(VLOOKUP($P109,Roster!$A$2:$AF$34,20,0),0)","v":0},{"$f":"_xlfn.IFNA(VLOOKUP($P109,Roster!$A$2:$AF$34,17,0),0)","v":0}]
[98,{"$f":"_xlfn.IFNA(VLOOKUP($P110,Roster!$A$2:$AF$34,6,0),0)","v":0},{"$f":"_xlfn.IFNA(VLOOKUP($P110,Roster!$A$2:$AF$34,7,0),0)","v":0},"15808 W Falcon Ridge Dr",{"$f":"_xlfn.IFNA(VLOOKUP($P110,Roster!$A$2:$AF$34,2,0),0)","v":0},{"$f":"_xlfn.IFNA(VLOOKUP($P110,Roster!$A$2:$AF$34,18,0),0)","v":0},{"$f":"_xlfn.IFNA(VLOOKUP($P110,Roster!$A$2:$AF$34,21,0),0)","v":0},{"$f":"_xlfn.IFNA(VLOOKUP($P110,Roster!$A$2:$AF$34,22,0),0)","v":0},{"$f":"_xlfn.IFNA(VLOOKUP($P110,Roster!$A$2:$AF$34,20,0),0)","v":0},{"$f":"_xlfn.IFNA(VLOOKUP($P110,Roster!$A$2:$AF$34,17,0),0)","v":0}]
[99,{"$f":"_xlfn.IFNA(VLOOKUP($P111,Roster!$A$2:$AF$34,6,0),0)","v":0},{"$f":"_xlfn.IFNA(VLOOKUP($P111,Roster!$A$2:$AF$34,7,0),0)","v":0},"15808 W Falcon Ridge Dr",{"$f":"_xlfn.IFNA(VLOOKUP($P111,Roster!$A$2:$AF$34,2,0),0)","v":0},{"$f":"_xlfn.IFNA(VLOOKUP($P111,Roster!$A$2:$AF$34,18,0),0)","v":0},{"$f":"_xlfn.IFNA(VLOOKUP($P111,Roster!$A$2:$AF$34,21,0),0)","v":0},{"$f":"_xlfn.IFNA(VLOOKUP($P111,Roster!$A$2:$AF$34,22,0),0)","v":0},{"$f":"_xlfn.IFNA(VLOOKUP($P111,Roster!$A$2:$AF$34,20,0),0)","v":0},{"$f":"_xlfn.IFNA(VLOOKUP($P111,Roster!$A$2:$AF$34,17,0),0)","v":0}]
[100,{"$f":"_xlfn.IFNA(VLOOKUP($P112,Roster!$A$2:$AF$34,6,0),0)","v":0},{"$f":"_xlfn.IFNA(VLOOKUP($P112,Roster!$A$2:$AF$34,7,0),0)","v":0},"15808 W Falcon Ridge Dr",{"$f":"_xlfn.IFNA(VLOOKUP($P112,Roster!$A$2:$AF$34,2,0),0)","v":0},{"$f":"_xlfn.IFNA(VLOOKUP($P112,Roster!$A$2:$AF$34,18,0),0)","v":0},{"$f":"_xlfn.IFNA(VLOOKUP($P112,Roster!$A$2:$AF$34,21,0),0)","v":0},{"$f":"_xlfn.IFNA(VLOOKUP($P112,Roster!$A$2:$AF$34,22,0),0)","v":0},{"$f":"_xlfn.IFNA(VLOOKUP($P112,Roster!$A$2:$AF$34,20,0),0)","v":0},{"$f":"_xlfn.IFNA(VLOOKUP($P112,Roster!$A$2:$AF$34,17,0),0)","v":0}]
[101,{"$f":"_xlfn.IFNA(VLOOKUP($P113,Roster!$A$2:$AF$34,6,0),0)","v":0},{"$f":"_xlfn.IFNA(VLOOKUP($P113,Roster!$A$2:$AF$34,7,0),0)","v":0},"15808 W Falcon Ridge Dr",{"$f":"_xlfn.IFNA(VLOOKUP($P113,Roster!$A$2:$AF$34,2,0),0)","v":0},{"$f":"_xlfn.IFNA(VLOOKUP($P113,Roster!$A$2:$AF$34,18,0),0)","v":0},{"$f":"_xlfn.IFNA(VLOOKUP($P113,Roster!$A$2:$AF$34,21,0),0)","v":0},{"$f":"_xlfn.IFNA(VLOOKUP($P113,Roster!$A$2:$AF$34,22,0),0)","v":0},{"$f":"_xlfn.IFNA(VLOOKUP($P113,Roster!$A$2:$AF$34,20,0),0)","v":0},{"$f":"_xlfn.IFNA(VLOOKUP($P113,Roster!$A$2:$AF$34,17,0),0)","v":0}]
[102,{"$f":"_xlfn.IFNA(VLOOKUP($P114,Roster!$A$2:$AF$34,6,0),0)","v":0},{"$f":"_xlfn.IFNA(VLOOKUP($P114,Roster!$A$2:$AF$34,7,0),0)","v":0},"15808 W Falcon Ridge Dr",{"$f":"_xlfn.IFNA(VLOOKUP($P114,Roster!$A$2:$AF$34,2,0),0)","v":0},{"$f":"_xlfn.IFNA(VLOOKUP($P114,Roster!$A$2:$AF$34,18,0),0)","v":0},{"$f":"_xlfn.IFNA(VLOOKUP($P114,Roster!$A$2:$AF$34,21,0),0)","v":0},{"$f":"_xlfn.IFNA(VLOOKUP($P114,Roster!$A$2:$AF$34,22,0),0)","v":0},{"$f":"_xlfn.IFNA(VLOOKUP($P114,Roster!$A$2:$AF$34,20,0),0)","v":0},{"$f":"_xlfn.IFNA(VLOOKUP($P114,Roster!$A$2:$AF$34,17,0),0)","v":0}]
[103,{"$f":"_xlfn.IFNA(VLOOKUP($P115,Roster!$A$2:$AF$34,6,0),0)","v":0},{"$f":"_xlfn.IFNA(VLOOKUP($P115,Roster!$A$2:$AF$34,7,0),0)","v":0},"15808 W Falcon Ridge Dr",{"$f":"_xlfn.IFNA(VLOOKUP($P115,Roster!$A$2:$AF$34,2,0),0)","v":0},{"$f":"_xlfn.IFNA(VLOOKUP($P115,Roster!$A$2:$AF$34,18,0),0)","v":0},{"$f":"_xlfn.IFNA(VLOOKUP($P115,Roster!$A$2:$AF$34,21,0),0)","v":0},{"$f":"_xlfn.IFNA(VLOOKUP($P115,Roster!$A$2:$AF$34,22,0),0)","v":0},{"$f":"_xlfn.IFNA(VLOOKUP($P115,Roster!$A$2:$AF$34,20,0),0)","v":0},{"$f":"_xlfn.IFNA(VLOOKUP($P115,Roster!$A$2:$AF$34,17,0),0)","v":0}]
[104,{"$f":"_xlfn.IFNA(VLOOKUP($P116,Roster!$A$2:$AF$34,6,0),0)","v":0},{"$f":"_xlfn.IFNA(VLOOKUP($P116,Roster!$A$2:$AF$34,7,0),0)","v":0},"15808 W Falcon Ridge Dr",{"$f":"_xlfn.IFNA(VLOOKUP($P116,Roster!$A$2:$AF$34,2,0),0)","v":0},{"$f":"_xlfn.IFNA(VLOOKUP($P116,Roster!$A$2:$AF$34,18,0),0)","v":0},{"$f":"_xlfn.IFNA(VLOOKUP($P116,Roster!$A$2:$AF$34,21,0),0)","v":0},{"$f":"_xlfn.IFNA(VLOOKUP($P116,Roster!$A$2:$AF$34,22,0),0)","v":0},{"$f":"_xlfn.IFNA(VLOOKUP($P116,Roster!$A$2:$AF$34,20,0),0)","v":0},{"$f":"_xlfn.IFNA(VLOOKUP($P116,Roster!$A$2:$AF$34,17,0),0)","v":0}]
[105,{"$f":"_xlfn.IFNA(VLOOKUP($P117,Roster!$A$2:$AF$34,6,0),0)","v":0},{"$f":"_xlfn.IFNA(VLOOKUP($P117,Roster!$A$2:$AF$34,7,0),0)","v":0},"15808 W Falcon Ridge Dr",{"$f":"_xlfn.IFNA(VLOOKUP($P117,Roster!$A$2:$AF$34,2,0),0)","v":0},{"$f":"_xlfn.IFNA(VLOOKUP($P117,Roster!$A$2:$AF$34,18,0),0)","v":0},{"$f":"_xlfn.IFNA(VLOOKUP($P117,Roster!$A$2:$AF$34,21,0),0)","v":0},{"$f":"_xlfn.IFNA(VLOOKUP($P117,Roster!$A$2:$AF$34,22,0),0)","v":0},{"$f":"_xlfn.IFNA(VLOOKUP($P117,Roster!$A$2:$AF$34,20,0),0)","v":0},{"$f":"_xlfn.IFNA(VLOOKUP($P117,Roster!$A$2:$AF$34,17,0),0)","v":0}]
[106,{"$f":"_xlfn.IFNA(VLOOKUP($P118,Roster!$A$2:$AF$34,6,0),0)","v":0},{"$f":"_xlfn.IFNA(VLOOKUP($P118,Roster!$A$2:$AF$34,7,0),0)","v":0},"15808 W Falcon Ridge Dr",{"$f":"_xlfn.IFNA(VLOOKUP($P118,Roster!$A$2:$AF$34,2,0),0)","v":0},{"$f":"_xlfn.IFNA(VLOOKUP($P118,Roster!$A$2:$AF$34,18,0),0)","v":0},{"$f":"_xlfn.IFNA(VLOOKUP($P118,Roster!$A$2:$AF$34,21,0),0)","v":0},{"$f":"_xlfn.IFNA(VLOOKUP($P118,Roster!$A$2:$AF$34,22,0),0)","v":0},{"$f":"_xlfn.IFNA(VLOOKUP($P118,Roster!$A$2:$AF$34,20,0),0)","v":0},{"$f":"_xlfn.IFNA(VLOOKUP($P118,Roster!$A$2:$AF$34,17,0),0)","v":0}]
[107,{"$f":"_xlfn.IFNA(VLOOKUP($P119,Roster!$A$2:$AF$34,6,0),0)","v":0},{"$f":"_xlfn.IFNA(VLOOKUP($P119,Roster!$A$2:$AF$34,7,0),0)","v":0},"15808 W Falcon Ridge Dr",{"$f":"_xlfn.IFNA(VLOOKUP($P119,Roster!$A$2:$AF$34,2,0),0)","v":0},{"$f":"_xlfn.IFNA(VLOOKUP($P119,Roster!$A$2:$AF$34,18,0),0)","v":0},{"$f":"_xlfn.IFNA(VLOOKUP($P119,Roster!$A$2:$AF$34,21,0),0)","v":0},{"$f":"_xlfn.IFNA(VLOOKUP($P119,Roster!$A$2:$AF$34,22,0),0)","v":0},{"$f":"_xlfn.IFNA(VLOOKUP($P119,Roster!$A$2:$AF$34,20,0),0)","v":0},{"$f":"_xlfn.IFNA(VLOOKUP($P119,Roster!$A$2:$AF$34,17,0),0)","v":0}]
[108,{"$f":"_xlfn.IFNA(VLOOKUP($P120,Roster!$A$2:$AF$34,6,0),0)","v":0},{"$f":"_xlfn.IFNA(VLOOKUP($P120,Roster!$A$2:$AF$34,7,0),0)","v":0},"15808 W Falcon Ridge Dr",{"$f":"_xlfn.IFNA(VLOOKUP($P120,Roster!$A$2:$AF$34,2,0),0)","v":0},{"$f":"_xlfn.IFNA(VLOOKUP($P120,Roster!$A$2:$AF$34,18,0),0)","v":0},{"$f":"_xlfn.IFNA(VLOOKUP($P120,Roster!$A$2:$AF$34,21,0),0)","v":0},{"$f":"_xlfn.IFNA(VLOOKUP($P120,Roster!$A$2:$AF$34,22,0),0)","v":0},{"$f":"_xlfn.IFNA(VLOOKUP($P120,Roster!$A$2:$AF$34,20,0),0)","v":0},{"$f":"_xlfn.IFNA(VLOOKUP($P120,Roster!$A$2:$AF$34,17,0),0)","v":0}]
[109,{"$f":"_xlfn.IFNA(VLOOKUP($P121,Roster!$A$2:$AF$34,6,0),0)","v":0},{"$f":"_xlfn.IFNA(VLOOKUP($P121,Roster!$A$2:$AF$34,7,0),0)","v":0},"15808 W Falcon Ridge Dr",{"$f":"_xlfn.IFNA(VLOOKUP($P121,Roster!$A$2:$AF$34,2,0),0)","v":0},{"$f":"_xlfn.IFNA(VLOOKUP($P121,Roster!$A$2:$AF$34,18,0),0)","v":0},{"$f":"_xlfn.IFNA(VLOOKUP($P121,Roster!$A$2:$AF$34,21,0),0)","v":0},{"$f":"_xlfn.IFNA(VLOOKUP($P121,Roster!$A$2:$AF$34,22,0),0)","v":0},{"$f":"_xlfn.IFNA(VLOOKUP($P121,Roster!$A$2:$AF$34,20,0),0)","v":0},{"$f":"_xlfn.IFNA(VLOOKUP($P121,Roster!$A$2:$AF$34,17,0),0)","v":0}]
[110,{"$f":"_xlfn.IFNA(VLOOKUP($P122,Roster!$A$2:$AF$34,6,0),0)","v":0},{"$f":"_xlfn.IFNA(VLOOKUP($P122,Roster!$A$2:$AF$34,7,0),0)","v":0},"15808 W Falcon Ridge Dr",{"$f":"_xlfn.IFNA(VLOOKUP($P122,Roster!$A$2:$AF$34,2,0),0)","v":0},{"$f":"_xlfn.IFNA(VLOOKUP($P122,Roster!$A$2:$AF$34,18,0),0)","v":0},{"$f":"_xlfn.IFNA(VLOOKUP($P122,Roster!$A$2:$AF$34,21,0),0)","v":0},{"$f":"_xlfn.IFNA(VLOOKUP($P122,Roster!$A$2:$AF$34,22,0),0)","v":0},{"$f":"_xlfn.IFNA(VLOOKUP($P122,Roster!$A$2:$AF$34,20,0),0)","v":0},{"$f":"_xlfn.IFNA(VLOOKUP($P122,Roster!$A$2:$AF$34,17,0),0)","v":0}]
[111,{"$f":"_xlfn.IFNA(VLOOKUP($P123,Roster!$A$2:$AF$34,6,0),0)","v":0},{"$f":"_xlfn.IFNA(VLOOKUP($P123,Roster!$A$2:$AF$34,7,0),0)","v":0},"15808 W Falcon Ridge Dr",{"$f":"_xlfn.IFNA(VLOOKUP($P123,Roster!$A$2:$AF$34,2,0),0)","v":0},{"$f":"_xlfn.IFNA(VLOOKUP($P123,Roster!$A$2:$AF$34,18,0),0)","v":0},{"$f":"_xlfn.IFNA(VLOOKUP($P123,Roster!$A$2:$AF$34,21,0),0)","v":0},{"$f":"_xlfn.IFNA(VLOOKUP($P123,Roster!$A$2:$AF$34,22,0),0)","v":0},{"$f":"_xlfn.IFNA(VLOOKUP($P123,Roster!$A$2:$AF$34,20,0),0)","v":0},{"$f":"_xlfn.IFNA(VLOOKUP($P123,Roster!$A$2:$AF$34,17,0),0)","v":0}]
[112,{"$f":"_xlfn.IFNA(VLOOKUP($P124,Roster!$A$2:$AF$34,6,0),0)","v":0},{"$f":"_xlfn.IFNA(VLOOKUP($P124,Roster!$A$2:$AF$34,7,0),0)","v":0},"15808 W Falcon Ridge Dr",{"$f":"_xlfn.IFNA(VLOOKUP($P124,Roster!$A$2:$AF$34,2,0),0)","v":0},{"$f":"_xlfn.IFNA(VLOOKUP($P124,Roster!$A$2:$AF$34,18,0),0)","v":0},{"$f":"_xlfn.IFNA(VLOOKUP($P124,Roster!$A$2:$AF$34,21,0),0)","v":0},{"$f":"_xlfn.IFNA(VLOOKUP($P124,Roster!$A$2:$AF$34,22,0),0)","v":0},{"$f":"_xlfn.IFNA(VLOOKUP($P124,Roster!$A$2:$AF$34,20,0),0)","v":0},{"$f":"_xlfn.IFNA(VLOOKUP($P124,Roster!$A$2:$AF$34,17,0),0)","v":0}]
[113,{"$f":"_xlfn.IFNA(VLOOKUP($P125,Roster!$A$2:$AF$34,6,0),0)","v":0},{"$f":"_xlfn.IFNA(VLOOKUP($P125,Roster!$A$2:$AF$34,7,0),0)","v":0},"15808 W Falcon Ridge Dr",{"$f":"_xlfn.IFNA(VLOOKUP($P125,Roster!$A$2:$AF$34,2,0),0)","v":0},{"$f":"_xlfn.IFNA(VLOOKUP($P125,Roster!$A$2:$AF$34,18,0),0)","v":0},{"$f":"_xlfn.IFNA(VLOOKUP($P125,Roster!$A$2:$AF$34,21,0),0)","v":0},{"$f":"_xlfn.IFNA(VLOOKUP($P125,Roster!$A$2:$AF$34,22,0),0)","v":0},{"$f":"_xlfn.IFNA(VLOOKUP($P125,Roster!$A$2:$AF$34,20,0),0)","v":0},{"$f":"_xlfn.IFNA(VLOOKUP($P125,Roster!$A$2:$AF$34,17,0),0)","v":0}]
[114,{"$f":"_xlfn.IFNA(VLOOKUP($P126,Roster!$A$2:$AF$34,6,0),0)","v":0},{"$f":"_xlfn.IFNA(VLOOKUP($P126,Roster!$A$2:$AF$34,7,0),0)","v":0},"15808 W Falcon Ridge Dr",{"$f":"_xlfn.IFNA(VLOOKUP($P126,Roster!$A$2:$AF$34,2,0),0)","v":0},{"$f":"_xlfn.IFNA(VLOOKUP($P126,Roster!$A$2:$AF$34,18,0),0)","v":0},{"$f":"_xlfn.IFNA(VLOOKUP($P126,Roster!$A$2:$AF$34,21,0),0)","v":0},{"$f":"_xlfn.IFNA(VLOOKUP($P126,Roster!$A$2:$AF$34,22,0),0)","v":0},{"$f":"_xlfn.IFNA(VLOOKUP($P126,Roster!$A$2:$AF$34,20,0),0)","v":0},{"$f":"_xlfn.IFNA(VLOOKUP($P126,Roster!$A$2:$AF$34,17,0),0)","v":0}]
[115,{"$f":"_xlfn.IFNA(VLOOKUP($P127,Roster!$A$2:$AF$34,6,0),0)","v":0},{"$f":"_xlfn.IFNA(VLOOKUP($P127,Roster!$A$2:$AF$34,7,0),0)","v":0},"15808 W Falcon Ridge Dr",{"$f":"_xlfn.IFNA(VLOOKUP($P127,Roster!$A$2:$AF$34,2,0),0)","v":0},{"$f":"_xlfn.IFNA(VLOOKUP($P127,Roster!$A$2:$AF$34,18,0),0)","v":0},{"$f":"_xlfn.IFNA(VLOOKUP($P127,Roster!$A$2:$AF$34,21,0),0)","v":0},{"$f":"_xlfn.IFNA(VLOOKUP($P127,Roster!$A$2:$AF$34,22,0),0)","v":0},{"$f":"_xlfn.IFNA(VLOOKUP($P127,Roster!$A$2:$AF$34,20,0),0)","v":0},{"$f":"_xlfn.IFNA(VLOOKUP($P127,Roster!$A$2:$AF$34,17,0),0)","v":0}]
[116,{"$f":"_xlfn.IFNA(VLOOKUP($P128,Roster!$A$2:$AF$34,6,0),0)","v":0},{"$f":"_xlfn.IFNA(VLOOKUP($P128,Roster!$A$2:$AF$34,7,0),0)","v":0},"15808 W Falcon Ridge Dr",{"$f":"_xlfn.IFNA(VLOOKUP($P128,Roster!$A$2:$AF$34,2,0),0)","v":0},{"$f":"_xlfn.IFNA(VLOOKUP($P128,Roster!$A$2:$AF$34,18,0),0)","v":0},{"$f":"_xlfn.IFNA(VLOOKUP($P128,Roster!$A$2:$AF$34,21,0),0)","v":0},{"$f":"_xlfn.IFNA(VLOOKUP($P128,Roster!$A$2:$AF$34,22,0),0)","v":0},{"$f":"_xlfn.IFNA(VLOOKUP($P128,Roster!$A$2:$AF$34,20,0),0)","v":0},{"$f":"_xlfn.IFNA(VLOOKUP($P128,Roster!$A$2:$AF$34,17,0),0)","v":0}]
[117,{"$f":"_xlfn.IFNA(VLOOKUP($P129,Roster!$A$2:$AF$34,6,0),0)","v":0},{"$f":"_xlfn.IFNA(VLOOKUP($P129,Roster!$A$2:$AF$34,7,0),0)","v":0},"15808 W Falcon Ridge Dr",{"$f":"_xlfn.IFNA(VLOOKUP($P129,Roster!$A$2:$AF$34,2,0),0)","v":0},{"$f":"_xlfn.IFNA(VLOOKUP($P129,Roster!$A$2:$AF$34,18,0),0)","v":0},{"$f":"_xlfn.IFNA(VLOOKUP($P129,Roster!$A$2:$AF$34,21,0),0)","v":0},{"$f":"_xlfn.IFNA(VLOOKUP($P129,Roster!$A$2:$AF$34,22,0),0)","v":0},{"$f":"_xlfn.IFNA(VLOOKUP($P129,Roster!$A$2:$AF$34,20,0),0)","v":0},{"$f":"_xlfn.IFNA(VLOOKUP($P129,Roster!$A$2:$AF$34,17,0),0)","v":0}]
[118,{"$f":"_xlfn.IFNA(VLOOKUP($P130,Roster!$A$2:$AF$34,6,0),0)","v":0},{"$f":"_xlfn.IFNA(VLOOKUP($P130,Roster!$A$2:$AF$34,7,0),0)","v":0},"15808 W Falcon Ridge Dr",{"$f":"_xlfn.IFNA(VLOOKUP($P130,Roster!$A$2:$AF$34,2,0),0)","v":0},{"$f":"_xlfn.IFNA(VLOOKUP($P130,Roster!$A$2:$AF$34,18,0),0)","v":0},{"$f":"_xlfn.IFNA(VLOOKUP($P130,Roster!$A$2:$AF$34,21,0),0)","v":0},{"$f":"_xlfn.IFNA(VLOOKUP($P130,Roster!$A$2:$AF$34,22,0),0)","v":0},{"$f":"_xlfn.IFNA(VLOOKUP($P130,Roster!$A$2:$AF$34,20,0),0)","v":0},{"$f":"_xlfn.IFNA(VLOOKUP($P130,Roster!$A$2:$AF$34,17,0),0)","v":0}]
[119,{"$f":"_xlfn.IFNA(VLOOKUP($P131,Roster!$A$2:$AF$34,6,0),0)","v":0},{"$f":"_xlfn.IFNA(VLOOKUP($P131,Roster!$A$2:$AF$34,7,0),0)","v":0},"15808 W Falcon Ridge Dr",{"$f":"_xlfn.IFNA(VLOOKUP($P131,Roster!$A$2:$AF$34,2,0),0)","v":0},{"$f":"_xlfn.IFNA(VLOOKUP($P131,Roster!$A$2:$AF$34,18,0),0)","v":0},{"$f":"_xlfn.IFNA(VLOOKUP($P131,Roster!$A$2:$AF$34,21,0),0)","v":0},{"$f":"_xlfn.IFNA(VLOOKUP($P131,Roster!$A$2:$AF$34,22,0),0)","v":0},{"$f":"_xlfn.IFNA(VLOOKUP($P131,Roster!$A$2:$AF$34,20,0),0)","v":0},{"$f":"_xlfn.IFNA(VLOOKUP($P131,Roster!$A$2:$AF$34,17,0),0)","v":0}]
[120,{"$f":"_xlfn.IFNA(VLOOKUP($P132,Roster!$A$2:$AF$34,6,0),0)","v":0},{"$f":"_xlfn.IFNA(VLOOKUP($P132,Roster!$A$2:$AF$34,7,0),0)","v":0},"15808 W Falcon Ridge Dr",{"$f":"_xlfn.IFNA(VLOOKUP($P132,Roster!$A$2:$AF$34,2,0),0)","v":0},{"$f":"_xlfn.IFNA(VLOOKUP($P132,Roster!$A$2:$AF$34,18,0),0)","v":0},{"$f":"_xlfn.IFNA(VLOOKUP($P132,Roster!$A$2:$AF$34,21,0),0)","v":0},{"$f":"_xlfn.IFNA(VLOOKUP($P132,Roster!$A$2:$AF$34,22,0),0)","v":0},{"$f":"_xlfn.IFNA(VLOOKUP($P132,Roster!$A$2:$AF$34,20,0),0)","v":0},{"$f":"_xlfn.IFNA(VLOOKUP($P132,Roster!$A$2:$AF$34,17,0),0)","v":0}]
[121,{"$f":"_xlfn.IFNA(VLOOKUP($P133,Roster!$A$2:$AF$34,6,0),0)","v":0},{"$f":"_xlfn.IFNA(VLOOKUP($P133,Roster!$A$2:$AF$34,7,0),0)","v":0},"15808 W Falcon Ridge Dr",{"$f":"_xlfn.IFNA(VLOOKUP($P133,Roster!$A$2:$AF$34,2,0),0)","v":0},{"$f":"_xlfn.IFNA(VLOOKUP($P133,Roster!$A$2:$AF$34,18,0),0)","v":0},{"$f":"_xlfn.IFNA(VLOOKUP($P133,Roster!$A$2:$AF$34,21,0),0)","v":0},{"$f":"_xlfn.IFNA(VLOOKUP($P133,Roster!$A$2:$AF$34,22,0),0)","v":0},{"$f":"_xlfn.IFNA(VLOOKUP($P133,Roster!$A$2:$AF$34,20,0),0)","v":0},{"$f":"_xlfn.IFNA(VLOOKUP($P133,Roster!$A$2:$AF$34,17,0),0)","v":0}]
[122,{"$f":"_xlfn.IFNA(VLOOKUP($P134,Roster!$A$2:$AF$34,6,0),0)","v":0},{"$f":"_xlfn.IFNA(VLOOKUP($P134,Roster!$A$2:$AF$34,7,0),0)","v":0},"15808 W Falcon Ridge Dr",{"$f":"_xlfn.IFNA(VLOOKUP($P134,Roster!$A$2:$AF$34,2,0),0)","v":0},{"$f":"_xlfn.IFNA(VLOOKUP($P134,Roster!$A$2:$AF$34,18,0),0)","v":0},{"$f":"_xlfn.IFNA(VLOOKUP($P134,Roster!$A$2:$AF$34,21,0),0)","v":0},{"$f":"_xlfn.IFNA(VLOOKUP($P134,Roster!$A$2:$AF$34,22,0),0)","v":0},{"$f":"_xlfn.IFNA(VLOOKUP($P134,Roster!$A$2:$AF$34,20,0),0)","v":0},{"$f":"_xlfn.IFNA(VLOOKUP($P134,Roster!$A$2:$AF$34,17,0),0)","v":0}]
[123,{"$f":"_xlfn.IFNA(VLOOKUP($P135,Roster!$A$2:$AF$34,6,0),0)","v":0},{"$f":"_xlfn.IFNA(VLOOKUP($P135,Roster!$A$2:$AF$34,7,0),0)","v":0},"15808 W Falcon Ridge Dr",{"$f":"_xlfn.IFNA(VLOOKUP($P135,Roster!$A$2:$AF$34,2,0),0)","v":0},{"$f":"_xlfn.IFNA(VLOOKUP($P135,Roster!$A$2:$AF$34,18,0),0)","v":0},{"$f":"_xlfn.IFNA(VLOOKUP($P135,Roster!$A$2:$AF$34,21,0),0)","v":0},{"$f":"_xlfn.IFNA(VLOOKUP($P135,Roster!$A$2:$AF$34,22,0),0)","v":0},{"$f":"_xlfn.IFNA(VLOOKUP($P135,Roster!$A$2:$AF$34,20,0),0)","v":0},{"$f":"_xlfn.IFNA(VLOOKUP($P135,Roster!$A$2:$AF$34,17,0),0)","v":0}]
[124,{"$f":"_xlfn.IFNA(VLOOKUP($P136,Roster!$A$2:$AF$34,6,0),0)","v":0},{"$f":"_xlfn.IFNA(VLOOKUP($P136,Roster!$A$2:$AF$34,7,0),0)","v":0},"15808 W Falcon Ridge Dr",{"$f":"_xlfn.IFNA(VLOOKUP($P136,Roster!$A$2:$AF$34,2,0),0)","v":0},{"$f":"_xlfn.IFNA(VLOOKUP($P136,Roster!$A$2:$AF$34,18,0),0)","v":0},{"$f":"_xlfn.IFNA(VLOOKUP($P136,Roster!$A$2:$AF$34,21,0),0)","v":0},{"$f":"_xlfn.IFNA(VLOOKUP($P136,Roster!$A$2:$AF$34,22,0),0)","v":0},{"$f":"_xlfn.IFNA(VLOOKUP($P136,Roster!$A$2:$AF$34,20,0),0)","v":0},{"$f":"_xlfn.IFNA(VLOOKUP($P136,Roster!$A$2:$AF$34,17,0),0)","v":0}]
[125,{"$f":"_xlfn.IFNA(VLOOKUP($P137,Roster!$A$2:$AF$34,6,0),0)","v":0},{"$f":"_xlfn.IFNA(VLOOKUP($P137,Roster!$A$2:$AF$34,7,0),0)","v":0},"15808 W Falcon Ridge Dr",{"$f":"_xlfn.IFNA(VLOOKUP($P137,Roster!$A$2:$AF$34,2,0),0)","v":0},{"$f":"_xlfn.IFNA(VLOOKUP($P137,Roster!$A$2:$AF$34,18,0),0)","v":0},{"$f":"_xlfn.IFNA(VLOOKUP($P137,Roster!$A$2:$AF$34,21,0),0)","v":0},{"$f":"_xlfn.IFNA(VLOOKUP($P137,Roster!$A$2:$AF$34,22,0),0)","v":0},{"$f":"_xlfn.IFNA(VLOOKUP($P137,Roster!$A$2:$AF$34,20,0),0)","v":0},{"$f":"_xlfn.IFNA(VLOOKUP($P137,Roster!$A$2:$AF$34,17,0),0)","v":0}]
[126,{"$f":"_xlfn.IFNA(VLOOKUP($P138,Roster!$A$2:$AF$34,6,0),0)","v":0},{"$f":"_xlfn.IFNA(VLOOKUP($P138,Roster!$A$2:$AF$34,7,0),0)","v":0},"15808 W Falcon Ridge Dr",{"$f":"_xlfn.IFNA(VLOOKUP($P138,Roster!$A$2:$AF$34,2,0),0)","v":0},{"$f":"_xlfn.IFNA(VLOOKUP($P138,Roster!$A$2:$AF$34,18,0),0)","v":0},{"$f":"_xlfn.IFNA(VLOOKUP($P138,Roster!$A$2:$AF$34,21,0),0)","v":0},{"$f":"_xlfn.IFNA(VLOOKUP($P138,Roster!$A$2:$AF$34,22,0),0)","v":0},{"$f":"_xlfn.IFNA(VLOOKUP($P138,Roster!$A$2:$AF$34,20,0),0)","v":0},{"$f":"_xlfn.IFNA(VLOOKUP($P138,Roster!$A$2:$AF$34,17,0),0)","v":0}]
[127,{"$f":"_xlfn.IFNA(VLOOKUP($P139,Roster!$A$2:$AF$33,6,0),0)","v":0},{"$f":"_xlfn.IFNA(VLOOKUP($P139,Roster!$A$2:$AF$33,7,0),0)","v":0},"15808 W Falcon Ridge Dr",{"$f":"_xlfn.IFNA(VLOOKUP($P139,Roster!$A$2:$AF$33,2,0),0)","v":0},{"$f":"_xlfn.IFNA(VLOOKUP($P139,Roster!$A$2:$AF$33,16,0),0)","v":0},{"$f":"_xlfn.IFNA(VLOOKUP($P139,Roster!$A$2:$AF$33,19,0),0)","v":0},{"$f":"_xlfn.IFNA(VLOOKUP($P139,Roster!$A$2:$AF$33,20,0),0)","v":0},{"$f":"_xlfn.IFNA(VLOOKUP($P139,Roster!$A$2:$AF$33,18,0),0)","v":0},{"$f":"_xlfn.IFNA(VLOOKUP($P139,Roster!$A$2:$AF$33,15,0),0)","v":0}]
[128,{"$f":"_xlfn.IFNA(VLOOKUP($P140,Roster!$A$2:$AF$33,6,0),0)","v":0},{"$f":"_xlfn.IFNA(VLOOKUP($P140,Roster!$A$2:$AF$33,7,0),0)","v":0},"15808 W Falcon Ridge Dr",{"$f":"_xlfn.IFNA(VLOOKUP($P140,Roster!$A$2:$AF$33,2,0),0)","v":0},{"$f":"_xlfn.IFNA(VLOOKUP($P140,Roster!$A$2:$AF$33,16,0),0)","v":0},{"$f":"_xlfn.IFNA(VLOOKUP($P140,Roster!$A$2:$AF$33,19,0),0)","v":0},{"$f":"_xlfn.IFNA(VLOOKUP($P140,Roster!$A$2:$AF$33,20,0),0)","v":0},{"$f":"_xlfn.IFNA(VLOOKUP($P140,Roster!$A$2:$AF$33,18,0),0)","v":0},{"$f":"_xlfn.IFNA(VLOOKUP($P140,Roster!$A$2:$AF$33,15,0),0)","v":0}]
[129,{"$f":"_xlfn.IFNA(VLOOKUP($P141,Roster!$A$2:$AF$33,6,0),0)","v":0},{"$f":"_xlfn.IFNA(VLOOKUP($P141,Roster!$A$2:$AF$33,7,0),0)","v":0},"15808 W Falcon Ridge Dr",{"$f":"_xlfn.IFNA(VLOOKUP($P141,Roster!$A$2:$AF$33,2,0),0)","v":0},{"$f":"_xlfn.IFNA(VLOOKUP($P141,Roster!$A$2:$AF$33,16,0),0)","v":0},{"$f":"_xlfn.IFNA(VLOOKUP($P141,Roster!$A$2:$AF$33,19,0),0)","v":0},{"$f":"_xlfn.IFNA(VLOOKUP($P141,Roster!$A$2:$AF$33,20,0),0)","v":0},{"$f":"_xlfn.IFNA(VLOOKUP($P141,Roster!$A$2:$AF$33,18,0),0)","v":0},{"$f":"_xlfn.IFNA(VLOOKUP($P141,Roster!$A$2:$AF$33,15,0),0)","v":0}]
[{"$f":"A141+1","v":130},{"$f":"_xlfn.IFNA(VLOOKUP($P142,Roster!$A$2:$AF$33,6,0),0)","v":0},{"$f":"_xlfn.IFNA(VLOOKUP($P142,Roster!$A$2:$AF$33,7,0),0)","v":0},"15808 W Falcon Ridge Dr",{"$f":"_xlfn.IFNA(VLOOKUP($P142,Roster!$A$2:$AF$33,2,0),0)","v":0},{"$f":"_xlfn.IFNA(VLOOKUP($P142,Roster!$A$2:$AF$33,16,0),0)","v":0},{"$f":"_xlfn.IFNA(VLOOKUP($P142,Roster!$A$2:$AF$33,19,0),0)","v":0},{"$f":"_xlfn.IFNA(VLOOKUP($P142,Roster!$A$2:$AF$33,20,0),0)","v":0},{"$f":"_xlfn.IFNA(VLOOKUP($P142,Roster!$A$2:$AF$33,18,0),0)","v":0},{"$f":"_xlfn.IFNA(VLOOKUP($P142,Roster!$A$2:$AF$33,15,0),0)","v":0}]
[131,{"$f":"_xlfn.IFNA(VLOOKUP($P143,Roster!$A$2:$AF$33,6,0),0)","v":0},{"$f":"_xlfn.IFNA(VLOOKUP($P143,Roster!$A$2:$AF$33,7,0),0)","v":0},"15808 W Falcon Ridge Dr",{"$f":"_xlfn.IFNA(VLOOKUP($P143,Roster!$A$2:$AF$33,2,0),0)","v":0},{"$f":"_xlfn.IFNA(VLOOKUP($P143,Roster!$A$2:$AF$33,16,0),0)","v":0},{"$f":"_xlfn.IFNA(VLOOKUP($P143,Roster!$A$2:$AF$33,19,0),0)","v":0},{"$f":"_xlfn.IFNA(VLOOKUP($P143,Roster!$A$2:$AF$33,20,0),0)","v":0},{"$f":"_xlfn.IFNA(VLOOKUP($P143,Roster!$A$2:$AF$33,18,0),0)","v":0},{"$f":"_xlfn.IFNA(VLOOKUP($P143,Roster!$A$2:$AF$33,15,0),0)","v":0}]
[132,{"$f":"_xlfn.IFNA(VLOOKUP($P144,Roster!$A$2:$AF$33,6,0),0)","v":0},{"$f":"_xlfn.IFNA(VLOOKUP($P144,Roster!$A$2:$AF$33,7,0),0)","v":0},"15808 W Falcon Ridge Dr",{"$f":"_xlfn.IFNA(VLOOKUP($P144,Roster!$A$2:$AF$33,2,0),0)","v":0},{"$f":"_xlfn.IFNA(VLOOKUP($P144,Roster!$A$2:$AF$33,16,0),0)","v":0},{"$f":"_xlfn.IFNA(VLOOKUP($P144,Roster!$A$2:$AF$33,19,0),0)","v":0},{"$f":"_xlfn.IFNA(VLOOKUP($P144,Roster!$A$2:$AF$33,20,0),0)","v":0},{"$f":"_xlfn.IFNA(VLOOKUP($P144,Roster!$A$2:$AF$33,18,0),0)","v":0},{"$f":"_xlfn.IFNA(VLOOKUP($P144,Roster!$A$2:$AF$33,15,0),0)","v":0}]
[133,{"$f":"_xlfn.IFNA(VLOOKUP($P145,Roster!$A$2:$AF$33,6,0),0)","v":0},{"$f":"_xlfn.IFNA(VLOOKUP($P145,Roster!$A$2:$AF$33,7,0),0)","v":0},"15808 W Falcon Ridge Dr",{"$f":"_xlfn.IFNA(VLOOKUP($P145,Roster!$A$2:$AF$33,2,0),0)","v":0},{"$f":"_xlfn.IFNA(VLOOKUP($P145,Roster!$A$2:$AF$33,16,0),0)","v":0},{"$f":"_xlfn.IFNA(VLOOKUP($P145,Roster!$A$2:$AF$33,19,0),0)","v":0},{"$f":"_xlfn.IFNA(VLOOKUP($P145,Roster!$A$2:$AF$33,20,0),0)","v":0},{"$f":"_xlfn.IFNA(VLOOKUP($P145,Roster!$A$2:$AF$33,18,0),0)","v":0},{"$f":"_xlfn.IFNA(VLOOKUP($P145,Roster!$A$2:$AF$33,15,0),0)","v":0}]
[134,{"$f":"_xlfn.IFNA(VLOOKUP($P146,Roster!$A$2:$AF$33,6,0),0)","v":0},{"$f":"_xlfn.IFNA(VLOOKUP($P146,Roster!$A$2:$AF$33,7,0),0)","v":0},"15808 W Falcon Ridge Dr",{"$f":"_xlfn.IFNA(VLOOKUP($P146,Roster!$A$2:$AF$33,2,0),0)","v":0},{"$f":"_xlfn.IFNA(VLOOKUP($P146,Roster!$A$2:$AF$33,16,0),0)","v":0},{"$f":"_xlfn.IFNA(VLOOKUP($P146,Roster!$A$2:$AF$33,19,0),0)","v":0},{"$f":"_xlfn.IFNA(VLOOKUP($P146,Roster!$A$2:$AF$33,20,0),0)","v":0},{"$f":"_xlfn.IFNA(VLOOKUP($P146,Roster!$A$2:$AF$33,18,0),0)","v":0},{"$f":"_xlfn.IFNA(VLOOKUP($P146,Roster!$A$2:$AF$33,15,0),0)","v":0}]
[135,{"$f":"_xlfn.IFNA(VLOOKUP($P147,Roster!$A$2:$AF$33,6,0),0)","v":0},{"$f":"_xlfn.IFNA(VLOOKUP($P147,Roster!$A$2:$AF$33,7,0),0)","v":0},"15808 W Falcon Ridge Dr",{"$f":"_xlfn.IFNA(VLOOKUP($P147,Roster!$A$2:$AF$33,2,0),0)","v":0},{"$f":"_xlfn.IFNA(VLOOKUP($P147,Roster!$A$2:$AF$33,16,0),0)","v":0},{"$f":"_xlfn.IFNA(VLOOKUP($P147,Roster!$A$2:$AF$33,19,0),0)","v":0},{"$f":"_xlfn.IFNA(VLOOKUP($P147,Roster!$A$2:$AF$33,20,0),0)","v":0},{"$f":"_xlfn.IFNA(VLOOKUP($P147,Roster!$A$2:$AF$33,18,0),0)","v":0},{"$f":"_xlfn.IFNA(VLOOKUP($P147,Roster!$A$2:$AF$33,15,0),0)","v":0}]
[136,{"$f":"_xlfn.IFNA(VLOOKUP($P148,Roster!$A$2:$AF$33,6,0),0)","v":0},{"$f":"_xlfn.IFNA(VLOOKUP($P148,Roster!$A$2:$AF$33,7,0),0)","v":0},"15808 W Falcon Ridge Dr",{"$f":"_xlfn.IFNA(VLOOKUP($P148,Roster!$A$2:$AF$33,2,0),0)","v":0},{"$f":"_xlfn.IFNA(VLOOKUP($P148,Roster!$A$2:$AF$33,16,0),0)","v":0},{"$f":"_xlfn.IFNA(VLOOKUP($P148,Roster!$A$2:$AF$33,19,0),0)","v":0},{"$f":"_xlfn.IFNA(VLOOKUP($P148,Roster!$A$2:$AF$33,20,0),0)","v":0},{"$f":"_xlfn.IFNA(VLOOKUP($P148,Roster!$A$2:$AF$33,18,0),0)","v":0},{"$f":"_xlfn.IFNA(VLOOKUP($P148,Roster!$A$2:$AF$33,15,0),0)","v":0}]
[137,{"$f":"_xlfn.IFNA(VLOOKUP($P149,Roster!$A$2:$AF$33,6,0),0)","v":0},{"$f":"_xlfn.IFNA(VLOOKUP($P149,Roster!$A$2:$AF$33,7,0),0)","v":0},"15808 W Falcon Ridge Dr",{"$f":"_xlfn.IFNA(VLOOKUP($P149,Roster!$A$2:$AF$33,2,0),0)","v":0},{"$f":"_xlfn.IFNA(VLOOKUP($P149,Roster!$A$2:$AF$33,16,0),0)","v":0},{"$f":"_xlfn.IFNA(VLOOKUP($P149,Roster!$A$2:$AF$33,19,0),0)","v":0},{"$f":"_xlfn.IFNA(VLOOKUP($P149,Roster!$A$2:$AF$33,20,0),0)","v":0},{"$f":"_xlfn.IFNA(VLOOKUP($P149,Roster!$A$2:$AF$33,18,0),0)","v":0},{"$f":"_xlfn.IFNA(VLOOKUP($P149,Roster!$A$2:$AF$33,15,0),0)","v":0}]
[138,{"$f":"_xlfn.IFNA(VLOOKUP($P150,Roster!$A$2:$AF$33,6,0),0)","v":0},{"$f":"_xlfn.IFNA(VLOOKUP($P150,Roster!$A$2:$AF$33,7,0),0)","v":0},"15808 W Falcon Ridge Dr",{"$f":"_xlfn.IFNA(VLOOKUP($P150,Roster!$A$2:$AF$33,2,0),0)","v":0},{"$f":"_xlfn.IFNA(VLOOKUP($P150,Roster!$A$2:$AF$33,16,0),0)","v":0},{"$f":"_xlfn.IFNA(VLOOKUP($P150,Roster!$A$2:$AF$33,19,0),0)","v":0},{"$f":"_xlfn.IFNA(VLOOKUP($P150,Roster!$A$2:$AF$33,20,0),0)","v":0},{"$f":"_xlfn.IFNA(VLOOKUP($P150,Roster!$A$2:$AF$33,18,0),0)","v":0},{"$f":"_xlfn.IFNA(VLOOKUP($P150,Roster!$A$2:$AF$33,15,0),0)","v":0}]
[139,{"$f":"_xlfn.IFNA(VLOOKUP($P151,Roster!$A$2:$AF$33,6,0),0)","v":0},{"$f":"_xlfn.IFNA(VLOOKUP($P151,Roster!$A$2:$AF$33,7,0),0)","v":0},"15808 W Falcon Ridge Dr",{"$f":"_xlfn.IFNA(VLOOKUP($P151,Roster!$A$2:$AF$33,2,0),0)","v":0},{"$f":"_xlfn.IFNA(VLOOKUP($P151,Roster!$A$2:$AF$33,16,0),0)","v":0},{"$f":"_xlfn.IFNA(VLOOKUP($P151,Roster!$A$2:$AF$33,19,0),0)","v":0},{"$f":"_xlfn.IFNA(VLOOKUP($P151,Roster!$A$2:$AF$33,20,0),0)","v":0},{"$f":"_xlfn.IFNA(VLOOKUP($P151,Roster!$A$2:$AF$33,18,0),0)","v":0},{"$f":"_xlfn.IFNA(VLOOKUP($P151,Roster!$A$2:$AF$33,15,0),0)","v":0}]
[140,{"$f":"_xlfn.IFNA(VLOOKUP($P152,Roster!$A$2:$AF$33,6,0),0)","v":0},{"$f":"_xlfn.IFNA(VLOOKUP($P152,Roster!$A$2:$AF$33,7,0),0)","v":0},"15808 W Falcon Ridge Dr",{"$f":"_xlfn.IFNA(VLOOKUP($P152,Roster!$A$2:$AF$33,2,0),0)","v":0},{"$f":"_xlfn.IFNA(VLOOKUP($P152,Roster!$A$2:$AF$33,16,0),0)","v":0},{"$f":"_xlfn.IFNA(VLOOKUP($P152,Roster!$A$2:$AF$33,19,0),0)","v":0},{"$f":"_xlfn.IFNA(VLOOKUP($P152,Roster!$A$2:$AF$33,20,0),0)","v":0},{"$f":"_xlfn.IFNA(VLOOKUP($P152,Roster!$A$2:$AF$33,18,0),0)","v":0},{"$f":"_xlfn.IFNA(VLOOKUP($P152,Roster!$A$2:$AF$33,15,0),0)","v":0}]
[141,{"$f":"_xlfn.IFNA(VLOOKUP($P153,Roster!$A$2:$AF$33,6,0),0)","v":0},{"$f":"_xlfn.IFNA(VLOOKUP($P153,Roster!$A$2:$AF$33,7,0),0)","v":0},"15808 W Falcon Ridge Dr",{"$f":"_xlfn.IFNA(VLOOKUP($P153,Roster!$A$2:$AF$33,2,0),0)","v":0},{"$f":"_xlfn.IFNA(VLOOKUP($P153,Roster!$A$2:$AF$33,16,0),0)","v":0},{"$f":"_xlfn.IFNA(VLOOKUP($P153,Roster!$A$2:$AF$33,19,0),0)","v":0},{"$f":"_xlfn.IFNA(VLOOKUP($P153,Roster!$A$2:$AF$33,20,0),0)","v":0},{"$f":"_xlfn.IFNA(VLOOKUP($P153,Roster!$A$2:$AF$33,18,0),0)","v":0},{"$f":"_xlfn.IFNA(VLOOKUP($P153,Roster!$A$2:$AF$33,15,0),0)","v":0}]
[142,{"$f":"_xlfn.IFNA(VLOOKUP($P154,Roster!$A$2:$AF$33,6,0),0)","v":0},{"$f":"_xlfn.IFNA(VLOOKUP($P154,Roster!$A$2:$AF$33,7,0),0)","v":0},"15808 W Falcon Ridge Dr",{"$f":"_xlfn.IFNA(VLOOKUP($P154,Roster!$A$2:$AF$33,2,0),0)","v":0},{"$f":"_xlfn.IFNA(VLOOKUP($P154,Roster!$A$2:$AF$33,16,0),0)","v":0},{"$f":"_xlfn.IFNA(VLOOKUP($P154,Roster!$A$2:$AF$33,19,0),0)","v":0},{"$f":"_xlfn.IFNA(VLOOKUP($P154,Roster!$A$2:$AF$33,20,0),0)","v":0},{"$f":"_xlfn.IFNA(VLOOKUP($P154,Roster!$A$2:$AF$33,18,0),0)","v":0},{"$f":"_xlfn.IFNA(VLOOKUP($P154,Roster!$A$2:$AF$33,15,0),0)","v":0}]
[143,{"$f":"_xlfn.IFNA(VLOOKUP($P155,Roster!$A$2:$AF$33,6,0),0)","v":0},{"$f":"_xlfn.IFNA(VLOOKUP($P155,Roster!$A$2:$AF$33,7,0),0)","v":0},"15808 W Falcon Ridge Dr",{"$f":"_xlfn.IFNA(VLOOKUP($P155,Roster!$A$2:$AF$33,2,0),0)","v":0},{"$f":"_xlfn.IFNA(VLOOKUP($P155,Roster!$A$2:$AF$33,16,0),0)","v":0},{"$f":"_xlfn.IFNA(VLOOKUP($P155,Roster!$A$2:$AF$33,19,0),0)","v":0},{"$f":"_xlfn.IFNA(VLOOKUP($P155,Roster!$A$2:$AF$33,20,0),0)","v":0},{"$f":"_xlfn.IFNA(VLOOKUP($P155,Roster!$A$2:$AF$33,18,0),0)","v":0},{"$f":"_xlfn.IFNA(VLOOKUP($P155,Roster!$A$2:$AF$33,15,0),0)","v":0}]
[144,"","","15808 W Falcon Ridge Dr",null,"","",null,"",""]
[145,"","","15808 W Falcon Ridge Dr",null,"","",null,"",""]
[146,"","","15808 W Falcon Ridge Dr",null,"","",null,"",""]
[147,"","","15808 W Falcon Ridge Dr",null,"","",null,"",""]
[148,"","","15808 W Falcon Ridge Dr",null,"","",null,"",""]
[149,"","","15808 W Falcon Ridge Dr",null,"","",null,"",""]
[150]
[151]
[152]
[153]
[154]
[155]
[156]
[157]
[158]
[159]
[160]
[161]
[162]
[163]
[164]
[165]
[166]
[167]
[168]
[169]
[170]
[171]
[172]
[173]
[174]
[175]
[176]
[177]
[178]
[179]
[180]
[181]
[182]
[183]
[184]
[185]
[186]
[187]
[188]
[189]
[190]
[191]
[192]
[193]
[{"$f":"A205+1","v":194}]
[195]
[196]
[197]
[198]
[199]
[200]
[201]
[202]
[203]
[204]
[205]
[206]
[207]
[208]

{"sheet":"50-50","index":12,"n_rows":34,"n_cols":10,"rows_kept":34,"cut":false,"hidden":false,"merged":[[0,0,0,9],[1,2,1,4],[1,5,1,8]]}
["Classic League Ball Program"]
[null,null,"Weekly Amt Paid Out",null,null,"Ball Accounting"]
["Date","Collected","Amount\nPaid Out","No.\nPaid","Amt\nEach","Amt \nDeposit","Accum.\nDeposit","Ball\nPaid","Balance","Ball Awarded to"]
[{"$f":"Financial!A5","v":"2017-09-05"},null,null,null,null,null,{"$f":"F4","v":0},null,{"$f":"G4-H4","v":0}]
[{"$f":"Financial!A6","v":"2017-09-12"},null,null,null,null,null,{"$f":"G4+F5","v":0},null,{"$f":"G5-H5","v":0}]
[{"$f":"Financial!A7","v":"2017-09-19"},null,null,null,null,null,{"$f":"G5+F6","v":0},null,{"$f":"G6-H6","v":0}]
[{"$f":"Financial!A8","v":"2017-09-26"},null,null,null,null,null,{"$f":"G6+F7","v":0},null,{"$f":"G7-H7","v":0}]
[{"$f":"Financial!A9","v":"2017-10-03"},null,null,null,null,null,{"$f":"G7+F8","v":0},null,{"$f":"G8-H8","v":0}]
[{"$f":"Financial!A10","v":"2017-10-10"},null,null,null,null,null,0,null,0]
[{"$f":"Financial!A11","v":"2017-10-17"},null,null,null,null,null,0,null,0]
[{"$f":"Financial!A12","v":"2017-10-24"},null,null,null,null,null,0,null,0]
[{"$f":"Financial!A13","v":"2017-10-31"},null,null,null,null,null,0,null,0]
[{"$f":"Financial!A14","v":"2017-11-07"},null,null,null,null,null,0,null,0]
[{"$f":"Financial!A15","v":"2017-11-14"},null,null,null,null,null,0,null,0]
[{"$f":"Financial!A16","v":"2017-11-21"},null,null,null,null,null,0,null,0]
[{"$f":"Financial!A17","v":"2017-11-28"},null,null,null,null,null,0,null,0]
[{"$f":"Financial!A18","v":"2017-12-05"},null,null,null,null,null,0,null,0]
[{"$f":"Financial!A19","v":"2017-12-12"},null,null,null,null,null,0,null,0]
[{"$f":"Financial!D5","v":"2018-01-02"},null,null,null,null,null,0,null,0]
[{"$f":"Financial!D6","v":"2018-01-09"},null,null,null,null,null,0,null,0]
[{"$f":"Financial!D7","v":"2018-01-16"},null,null,null,null,null,0,null,0]
[{"$f":"Financial!D8","v":"2018-01-23"},null,null,null,null,null,0,null,0]
[{"$f":"Financial!D9","v":"2018-01-30"},null,null,null,null,null,0,null,0]
[{"$f":"Financial!D10","v":"2018-02-06"},null,null,null,null,null,0,null,0]
[{"$f":"Financial!D11","v":"2018-02-13"},null,null,null,null,null,0,null,0]
[{"$f":"Financial!D12","v":"2018-02-20"},null,null,null,null,null,0,null,0]
[{"$f":"Financial!D13","v":"2018-02-27"},null,null,null,null,null,0,null,0]
[{"$f":"Financial!D14","v":"2018-03-06"},null,null,null,null,null,0,null,0]
[{"$f":"Financial!D15","v":"2018-03-13"},null,null,null,null,null,0,null,0]
[{"$f":"Financial!D16","v":"2018-03-20"},null,null,null,null,null,0,null,0]
[{"$f":"Financial!D17","v":"2018-03-27"},null,null,null,null,null,0,null,0]
[{"$f":"Financial!D18","v":"2018-04-03"},null,null,null,null,null,0,null,0]
[{"$f":"Financial!D19","v":"2018-04-10"},null,null,null,null,null,0,null,0]
["Totals",{"$f":"SUM(B4:B33)","v":0},{"$f":"SUM(C4:C33)","v":0},{"$f":"SUM(D4:D33)","v":0},null,{"$f":"SUM(F4:F33)","v":0},null,{"$f":"SUM(H4:H33)","v":0}]

{"sheet":"Schedule","index":13,"n_rows":57,"n_cols":28,"rows_kept":57,"cut":false,"hidden":false,"merged":[[39,7,39,8],[38,7,38,8],[37,7,37,8],[36,7,36,8],[39,13,39,14],[38,13,38,14],[37,13,37,14],[36,13,36,14],[39,11,39,12],[38,11,38,12],[37,11,37,12],[36,11,36,12],[39,9,39,10],[38,9,38,10],[37,9,37,10],[36,9,36,10],[39,15,39,16],[38,15,38,16],[37,15,37,16],[36,15,36,16],[36,1,36,2],[37,1,37,2],[38,1,38,2],[36,3,36,4],[39,5,39,6],[38,5,38,6],[37,5,37,6],[36,5,36,6],[39,1,39,2],[39,3,39,4],[38,3,38,4],[37,3,37,4],[39,19,39,20],[38,19,38,20],[37,19,37,20],[36,19,36,20],[39,17,39,18],[38,17,38,18],[37,17,37,18],[36,17,36,18],[33,11,33,12],[33,13,33,14],[33,15,33,16],[33,17,33,18],[33,19,33,20],[34,11,34,12],[34,13,34,14],[34,15,34,16],[34,17,34,18],[34,19,34,20],[33,1,33,2],[33,3,33,4],[33,5,33,6],[33,7,33,8],[33,9,33,10],[34,1,34,2],[34,3,34,4],[34,5,34,6],[34,7,34,8],[34,9,34,10],[13,1,13,2],[13,3,13,4],[13,5,13,6],[13,7,13,8],[13,9,13,10],[2,22,2,25],[23,1,23,2],[23,3,23,4],[23,5,23,6],[23,7,23,8],[23,9,23,10],[13,11,13,12],[13,13,13,14],[13,15,13,16],[13,17,13,18],[13,19,13,20],[23,11,23,12],[23,13,23,14],[23,15,23,16],[23,17,23,18],[23,19,23,20],[2,13,2,14],[2,15,2,16],[2,17,2,18],[2,19,2,20],[0,0,0,20],[2,11,2,12],[2,1,2,2],[2,3,2,4],[2,5,2,6],[2,7,2,8],[2,9,2,10]]}
["Classic League Schedule 2017-2018"]
[]
[null,"Team 1 vs.",null,"Team 2 vs.",null,"Team 3 vs.",null,"Team 4 vs.",null,"Team 5 vs.",null,"Team 6 vs.",null,"Team 7 vs.",null,"Team 8 vs.",null,"Team 9 vs.",null,"Team 10 vs.",null,null,"Team Rosters"]
["Date","Lane","Team","Lane","Team","Lane","Team","Lane","Team","Lane","Team","Lane","Team","Lane","Team","Lane","Team","Lane","Team","Lane","Team",null,"Team","Team Name","Bowler","Capt",null,"ID"]
[{"$f":"Financial!A5","v":"2017-09-05"},"9","2","10","1","11","4","12","3","13","6","14","5","15","8","16","7","17","10","18","9",null,1,{"$f":"VLOOKUP($W5,Roster!B$2:AF$33,2)","v":0},{"$f":"VLOOKUP($AB5,Roster!D$2:AG$33,5)","v":0},{"$f":"VLOOKUP($AB5,Roster!$D$2:AH$33,2)","v":0},null,11]
[{"$f":"Financial!A6","v":"2017-09-12"},"11","6","13","9","10","7","18","4","15","10","12","1","9","3","17","4","14","2","16","5",null,1,{"$f":"VLOOKUP($W6,Roster!B$2:AF$33,2)","v":0},{"$f":"VLOOKUP($AB6,Roster!D$2:AG$33,5)","v":0},{"$f":"VLOOKUP($AB6,Roster!$D$2:AH$33,2)","v":0},null,12]
[{"$f":"Financial!A7","v":"2017-09-19"},"14","10","16","3","15","2","9","5","10","4","17","7","18","6","12","9","11","8","13","1",null,1,{"$f":"VLOOKUP($W7,Roster!B$2:AF$33,2)","v":0},{"$f":"VLOOKUP($AB7,Roster!D$2:AG$33,5)","v":0},{"$f":"VLOOKUP($AB7,Roster!$D$2:AH$33,2)","v":0},null,13]
[{"$f":"Financial!A8","v":"2017-09-26"},"11","9","20","10","14","5","15","7","13","3","18","8","16","4","17","6","11","1","19","2",null,2,{"$f":"VLOOKUP($W8,Roster!B$2:AF$33,2)","v":"Rascals"},{"$f":"VLOOKUP($AB8,Roster!D$2:AG$33,5)","v":0},{"$f":"VLOOKUP($AB8,Roster!$D$2:AH$33,2)","v":0},null,21]
[{"$f":"Financial!A9","v":"2017-10-03"},"18","4","14","6","16","8","17","1","19","9","13","2","12","10","15","3","20","5","11","7",null,2,{"$f":"VLOOKUP($W9,Roster!B$2:AF$33,2)","v":"Rascals"},{"$f":"VLOOKUP($AB9,Roster!D$2:AG$33,5)","v":0},{"$f":"VLOOKUP($AB9,Roster!$D$2:AH$33,2)","v":0},null,22]
[{"$f":"Financial!A10","v":"2017-10-10"},"19","3","16","7","20","1","13","10","11","8","17","9","15","2","12","5","18","6","14","4",null,2,{"$f":"VLOOKUP($W10,Roster!B$2:AF$33,2)","v":"Rascals"},{"$f":"VLOOKUP($AB10,Roster!D$2:AG$33,5)","v":0},{"$f":"VLOOKUP($AB10,Roster!$D$2:AH$33,2)","v":0},null,23]
[{"$f":"Financial!A11","v":"2017-10-17"},"15","5","19","8","18","10","12","8","16","1","11","4","13","9","20","2","14","7","17","3",null,3,{"$f":"VLOOKUP($W11,Roster!B$2:AF$33,2)","v":"Desert Sun Embroidery"},{"$f":"VLOOKUP($AB11,Roster!D$2:AG$33,5)","v":0},{"$f":"VLOOKUP($AB11,Roster!$D$2:AH$33,2)","v":0},null,31]
[{"$f":"Financial!A12","v":"2017-10-24"},"14","8","17","4","11","9","18","2","20","7","15","10","19","5","13","1","12","3","16","6",null,3,{"$f":"VLOOKUP($W12,Roster!B$2:AF$33,2)","v":"Desert Sun Embroidery"},{"$f":"VLOOKUP($AB12,Roster!D$2:AG$33,5)","v":0},{"$f":"VLOOKUP($AB12,Roster!$D$2:AH$33,2)","v":0},null,32]
[{"$f":"Financial!A13","v":"2017-10-31"},"17","7","13","5","19","6","16","9","14","2","20","3","18","1","11","10","15","4","12","8",null,3,{"$f":"VLOOKUP($W13,Roster!B$2:AF$33,2)","v":"Desert Sun Embroidery"},{"$f":"VLOOKUP($AB13,Roster!D$2:AG$33,5)","v":0},{"$f":"VLOOKUP($AB13,Roster!$D$2:AH$33,2)","v":0},null,33]
[{"$f":"Financial!A14","v":"2017-11-07"},"Position",null,"Position",null,"Position",null,"Position",null,"Position",null,"Position",null,"Position",null,"Position",null,"Position",null,"Position",null,null,4,{"$f":"VLOOKUP($W14,Roster!B$2:AF$33,2)","v":"Pro-Tech"},{"$f":"VLOOKUP($AB14,Roster!D$2:AG$33,5)","v":0},{"$f":"VLOOKUP($AB14,Roster!$D$2:AH$33,2)","v":0},null,41]
[{"$f":"Financial!A15","v":"2017-11-14"},"16","2","15","1","12","4","11","3","18","6","17","5","20","8","19","7","14","10","13","9",null,4,{"$f":"VLOOKUP($W15,Roster!B$2:AF$33,2)","v":"Pro-Tech"},{"$f":"VLOOKUP($AB15,Roster!D$2:AG$33,5)","v":0},{"$f":"VLOOKUP($AB15,Roster!$D$2:AH$33,2)","v":0},null,42]
[{"$f":"Financial!A16","v":"2017-11-21"},"12","6","18","9","15","7","13","8","20","10","11","1","16","3","14","4","17","2","19","5",null,4,{"$f":"VLOOKUP($W16,Roster!B$2:AF$33,2)","v":"Pro-Tech"},{"$f":"VLOOKUP($AB16,Roster!D$2:AG$33,5)","v":0},{"$f":"VLOOKUP($AB16,Roster!$D$2:AH$33,2)","v":0},null,43]
[{"$f":"Financial!A17","v":"2017-11-28"},"17","10","19","3","20","2","16","5","15","4","14","7","13","6","11","9","12","8","18","1",null,5,{"$f":"VLOOKUP($W17,Roster!B$2:AF$33,2)","v":0},{"$f":"VLOOKUP($AB17,Roster!D$2:AG$33,5)","v":0},{"$f":"VLOOKUP($AB17,Roster!$D$2:AH$33,2)","v":0},null,51]
[{"$f":"Financial!A18","v":"2017-12-05"},"15","9","13","10","11","5","18","7","12","3","19","8","17","4","20","6","16","1","14","2",null,5,{"$f":"VLOOKUP($W18,Roster!B$2:AF$33,2)","v":0},{"$f":"VLOOKUP($AB18,Roster!D2:AC33,5,0)","v":"Larry Latham"},{"$f":"VLOOKUP($AB18,Roster!$D$2:AH$33,2)","v":0},null,52]
[{"$f":"Financial!A19","v":"2017-12-12"},"19","4","11","6","17","8","20","1","14","9","12","2","15","10","18","3","13","5","16","7",null,5,{"$f":"VLOOKUP($W19,Roster!B$2:AF$33,2)","v":0},{"$f":"VLOOKUP(AB19,Roster!D3:AC34,5,0)","v":"Bob Reed"},{"$f":"VLOOKUP($AB19,Roster!$D$2:AH$33,2)","v":0},null,53]
[{"$f":"Financial!D5","v":"2018-01-02"},"14","3","17","7","13","1","12","10","16","8","20","9","18","2","15","5","19","6","11","4",null,5,{"$f":"VLOOKUP($W20,Roster!B$2:AF$33,2)","v":0},{"$f":"VLOOKUP(AB20,Roster!D4:AC52,5,0)","v":{"$error":"#N/A"}},{"$f":"VLOOKUP($AB20,Roster!$D$2:AH$33,2)","v":0},null,54]
[{"$f":"Financial!D6","v":"2018-01-09"},"18","5","14","8","19","10","15","6","17","1","16","4","12","9","13","2","11","7","20","3",null,6,{"$f":"VLOOKUP($W21,Roster!B$2:AF$33,2)","v":"Your Strike Shop"},{"$f":"VLOOKUP($AB21,Roster!D$2:AG$33,5)","v":"Dennis Klein"},{"$f":"VLOOKUP($AB20,Roster!$D$2:AH$33,2)","v":0},null,61]
[{"$f":"Financial!D7","v":"2018-01-16"},"11","8","20","4","16","9","19","2","13","7","18","10","14","5","12","1","15","3","17","6",null,6,{"$f":"VLOOKUP($W22,Roster!B$2:AF$33,2)","v":"Your Strike Shop"},{"$f":"VLOOKUP($AB22,Roster!D$2:AG$33,5)","v":"Mike Watt"},{"$f":"VLOOKUP($AB21,Roster!$D$2:AH$33,2)","v":0},null,62]
[{"$f":"Financial!D8","v":"2018-01-23"},"20","7","12","5","14","6","17","9","11","2","13","3","19","1","16","10","18","4","15","8",null,6,{"$f":"VLOOKUP($W23,Roster!B$2:AF$33,2)","v":"Your Strike Shop"},{"$f":"VLOOKUP($AB23,Roster!D$2:AG$33,5)","v":"Mike Watt"},{"$f":"VLOOKUP($AB22,Roster!$D$2:AH$33,2)","v":"C"},null,63]
[{"$f":"Financial!D9","v":"2018-01-30"},"Position",null,"Position",null,"Position",null,"Position",null,"Position",null,"Position",null,"Position",null,"Position",null,"Position",null,"Position",null,null,7,{"$f":"VLOOKUP($W24,Roster!B$2:AF$33,2)","v":"Bitburgers"},{"$f":"VLOOKUP($AB24,Roster!D$2:AG$33,5)","v":"Paul Kleckner"},{"$f":"VLOOKUP($AB23,Roster!$D$2:AH$33,2)","v":"C"},null,71]
[{"$f":"Financial!D10","v":"2018-02-06"},"17","2","18","1","15","4","16","3","19","6","20","5","13","8","14","7","11","10","12","9",null,7,{"$f":"VLOOKUP($W25,Roster!B$2:AF$33,2)","v":"Bitburgers"},{"$f":"VLOOKUP($AB25,Roster!D$2:AG$33,5)","v":"Paul Kleckner"},{"$f":"VLOOKUP($AB24,Roster!$D$2:AH$33,2)","v":0},null,72]
[{"$f":"Financial!D11","v":"2018-02-13"},"15","6","19","9","18","7","12","8","13","10","16","1","17","3","11","4","20","2","14","5",null,7,{"$f":"VLOOKUP($W26,Roster!B$2:AF$33,2)","v":"Bitburgers"},{"$f":"VLOOKUP($AB26,Roster!D$2:AG$33,5)","v":"Terry Camp"},{"$f":"VLOOKUP($AB25,Roster!$D$2:AH$33,2)","v":0},null,73]
[{"$f":"Financial!D12","v":"2018-02-20"},"20","10","14","3","13","2","17","5","18","4","11","7","12","6","16","9","15","8","19","1",null,8,{"$f":"VLOOKUP($W27,Roster!B$2:AF$33,2)","v":"Brenda's Kitchen"},{"$f":"VLOOKUP($AB27,Roster!D$2:AG$33,5)","v":"Dan Imholte"},{"$f":"VLOOKUP($AB26,Roster!$D$2:AH$33,2)","v":"C"},null,81]
[{"$f":"Financial!D13","v":"2018-02-27"},"18","9","12","10","16","5","19","7","15","3","14","8","20","4","13","6","17","1","11","2",null,8,{"$f":"VLOOKUP($W28,Roster!B$2:AF$33,2)","v":"Brenda's Kitchen"},{"$f":"VLOOKUP($AB28,Roster!D$2:AG$33,5)","v":"Terry Hamman"},{"$f":"VLOOKUP($AB27,Roster!$D$2:AH$33,2)","v":0},null,82]
[{"$f":"Financial!D14","v":"2018-03-06"},"14","4","16","6","20","8","13","1","11","9","15","2","18","10","19","3","12","5","17","7",null,8,{"$f":"VLOOKUP($W29,Roster!B$2:AF$33,2)","v":"Brenda's Kitchen"},{"$f":"VLOOKUP($AB29,Roster!D$2:AG$33,5)","v":"Gary Bentley"},{"$f":"VLOOKUP($AB28,Roster!$D$2:AH$33,2)","v":0},null,83]
[{"$f":"Financial!D15","v":"2018-03-13"},"11","3","20","7","12","1","45","10","17","8","13","9","19","2","18","5","14","6","16","4",null,9,{"$f":"VLOOKUP($W30,Roster!B$2:AF$33,2)","v":0},{"$f":"VLOOKUP($AB30,Roster!D$2:AG$33,5)","v":"Joe Couch"},{"$f":"VLOOKUP($AB29,Roster!$D$2:AH$33,2)","v":"C"},null,91]
[{"$f":"Financial!D16","v":"2018-03-20"},"19","5","11","8","14","10","18","6","20","1","17","4","15","9","12","2","16","7","13","3",null,9,{"$f":"VLOOKUP($W31,Roster!B$2:AF$33,2)","v":0},{"$f":"VLOOKUP($AB31,Roster!D$2:AG$33,5)","v":"Paul Williams"},{"$f":"VLOOKUP($AB30,Roster!$D$2:AH$33,2)","v":0},null,92]
[{"$f":"Financial!D17","v":"2018-03-27"},"16","8","13","4","17","9","14","2","12","7","19","10","11","5","15","1","18","3","20","6",null,9,{"$f":"VLOOKUP($W32,Roster!B$2:AF$33,2)","v":0},{"$f":"VLOOKUP($AB32,Roster!D$2:AG$33,5)","v":"Ted Bogumil"},{"$f":"VLOOKUP($AB31,Roster!$D$2:AH$33,2)","v":"C"},null,93]
[{"$f":"Financial!D18","v":"2018-04-03"},"13","7","15","5","11","6","20","9","16","2","12","3","14","1","17","10","19","4","18","8",null,10,{"$f":"VLOOKUP($W33,Roster!B$2:AF$33,2)","v":"Vital Care"},{"$f":"VLOOKUP($AB33,Roster!D$2:AG$33,5)","v":"Andy Lewis"},{"$f":"VLOOKUP($AB32,Roster!$D$2:AH$33,2)","v":0},null,101]
[{"$f":"Financial!D19","v":"2018-04-10"},"Position",null,"Position",null,"Position",null,"Position",null,"Position",null,"Position",null,"Position",null,"Position",null,"Position",null,"Position",null,null,10,{"$f":"VLOOKUP($W34,Roster!B$2:AF$33,2)","v":"Vital Care"},{"$f":"VLOOKUP($AB34,Roster!D$2:AG$33,5)","v":"Dennis Barnes"},{"$f":"VLOOKUP($AB33,Roster!$D$2:AH$33,2)","v":0},null,102]
[{"$f":"Financial!D20","v":"00:00:00"},"Sweeper",null,"Sweeper",null,"Sweeper",null,"Sweeper",null,"Sweeper",null,"Sweeper",null,"Sweeper",null,"Sweeper",null,"Sweeper",null,"Sweeper",null,null,10,{"$f":"VLOOKUP($W35,Roster!B$2:AF$33,2)","v":"Vital Care"},{"$f":"VLOOKUP($AB35,Roster!D$2:AG$33,5)","v":"Gary McCoy"},{"$f":"VLOOKUP($AB34,Roster!$D$2:AH$33,2)","v":"C"},null,103]
[null,"Tm","Lane","Tm","Lane","Tm","Lane","Tm","Lane","Tm","Lane","Tm","Lane","Tm","Lane","Tm","Lane","Tm","Lane","Tm","Lane",null,null,null,null,null,null,112]
[null,"Steve Wilson",null,{"$f":"Y8","v":0},null,{"$f":"Y11","v":0},null,{"$f":"Y14","v":0},null,{"$f":"Y17","v":0},null,{"$f":"Y21","v":"Dennis Klein"},null,{"$f":"Y24","v":"Paul Kleckner"},null,{"$f":"Y27","v":"Dan Imholte"},null,{"$f":"Y30","v":"Joe Couch"},null,{"$f":"Y33","v":"Andy Lewis"},null,null,null,null,null,null,null,121]
[null,"Rich Matich",null,{"$f":"Y9","v":0},null,{"$f":"Y12","v":0},null,{"$f":"Y15","v":0},null,{"$f":"Y18","v":"Larry Latham"},null,{"$f":"Y22","v":"Mike Watt"},null,{"$f":"Y25","v":"Paul Kleckner"},null,{"$f":"Y28","v":"Terry Hamman"},null,{"$f":"Y31","v":"Paul Williams"},null,{"$f":"Y34","v":"Dennis Barnes"},null,null,null,null,null,null,null,122]
[null,"Cal Shirey",null,{"$f":"Y10","v":0},null,{"$f":"Y13","v":0},null,{"$f":"Y16","v":0},null,{"$f":"Y19","v":"Bob Reed"},null,{"$f":"Y23","v":"Mike Watt"},null,{"$f":"Y26","v":"Terry Camp"},null,{"$f":"Y29","v":"Gary Bentley"},null,{"$f":"Y32","v":"Ted Bogumil"},null,{"$f":"Y35","v":"Gary McCoy"},null,null,null,null,null,null,null,123]
[null,null,null,null,null,null,null,null,null,{"$f":"Y20","v":{"$error":"#N/A"}},null,null,null,null,null,null,null,null,null,null,null,null,null,null,null,null,null,131]
[null,null,null,null,null,null,null,null,null,null,null,null,null,null,null,null,null,null,null,null,null,null,null,null,null,null,null,132]
[null,null,null,null,null,null,null,null,null,null,null,null,null,null,null,null,null,null,null,null,null,null,null,null,null,null,null,133]
[null,null,null,null,null,null,null,null,null,null,null,null,null,null,null,null,null,null,null,null,null,null,null,null,null,null,null,141]
[null,null,null,null,null,null,null,null,null,null,null,null,null,null,null,null,null,null,null,null,null,null,null,null,null,null,null,142]
[null,null,null,null,null,null,null,null,null,null,null,null,null,null,null,null,null,null,null,null,null,null,null,null,null,null,null,143]
[null,null,null,null,null,null,null,null,null,null,null,null,null,null,null,null,null,null,null,null,null,null,null,null,null,null,null,151]
[null,null,null,null,null,null,null,null,null,null,null,null,null,null,null,null,null,null,null,null,null,null,null,null,null,null,null,152]
[null,null,null,null,null,null,null,null,null,null,null,null,null,null,null,null,null,null,null,null,null,null,null,null,null,null,null,153]
[null,null,null,null,null,null,null,null,null,null,null,null,null,null,null,null,null,null,null,null,null,null,null,null,null,null,null,161]
[null,null,null,null,null,null,null,null,null,null,null,null,null,null,null,null,null,null,null,null,null,null,null,null,null,null,null,162]
[null,null,null,null,null,null,null,null,null,null,null,null,null,null,null,null,null,null,null,null,null,null,null,null,null,null,null,163]
[null,null,null,null,null,null,null,null,null,null,null,null,null,null,null,null,null,null,null,null,null,null,null,null,null,null,null,171]
[null,null,null,null,null,null,null,null,null,null,null,null,null,null,null,null,null,null,null,null,null,null,null,null,null,null,null,172]
[null,null,null,null,null,null,null,null,null,null,null,null,null,null,null,null,null,null,null,null,null,null,null,null,null,null,null,173]
[null,null,null,null,null,null,null,null,null,null,null,null,null,null,null,null,null,null,null,null,null,null,null,null,null,null,null,181]
[null,null,null,null,null,null,null,null,null,null,null,null,null,null,null,null,null,null,null,null,null,null,null,null,null,null,null,182]
[null,null,null,null,null,null,null,null,null,null,null,null,null,null,null,null,null,null,null,null,null,null,null,null,null,null,null,183]

{"sheet":"Calendar 25","index":14,"n_rows":42,"n_cols":40,"rows_kept":42,"cut":false,"hidden":false,"merged":[[40,1,40,31],[41,1,41,31],[37,5,37,10],[37,12,37,16],[37,19,37,26],[36,1,36,31],[38,1,38,22],[39,1,39,7],[39,9,39,16],[39,17,39,26],[27,1,27,31],[28,1,28,7],[28,8,35,8],[28,9,28,15],[28,16,35,16],[28,17,28,23],[28,24,35,24],[28,25,28,31],[18,1,18,31],[19,1,19,7],[19,8,26,8],[19,9,19,15],[19,16,26,16],[19,17,19,23],[19,24,26,24],[19,25,19,31],[7,1,7,31],[8,1,8,31],[9,1,9,31],[10,1,10,7],[10,8,17,8],[10,9,10,15],[10,16,17,16],[10,17,10,23],[10,24,17,24],[10,25,10,31],[5,1,5,6],[0,0,0,23],[1,0,1,6],[1,25,1,31],[2,2,2,4],[3,2,3,4]]}
["Yearly Calendar with Notes (Portrait)"]
[]
["Year",null,"Month"]
[2018,null,8]
["Start Day"]
[1,"1: Sunday, 2: Monday"]
[]
[null,"Classic League"]
[null,{"$f":"IF($C$4=1,A4,A4&\"-\"&A4+1)&\"  \" &\"25 Weeks 2 Position Weeks\"","v":"2018-2019  25 Weeks 2 Position Weeks"},null,null,null,null,null,null,null,null,null,null,null,null,null,null,null,null,null,null,null,null,null,null,null,null,null,null,null,null,null,null,null,null,null,null,null,null,null,"22+3"]
[]
[null,{"$f":"DATE($A$4,$C$4,1)","v":"2018-08-01"},null,null,null,null,null,null,null,{"$f":"DATE(YEAR(B11+35),MONTH(B11+35),1)","v":"2018-09-01"},null,null,null,null,null,null,null,{"$f":"DATE(YEAR(J11+35),MONTH(J11+35),1)","v":"2018-10-01"},null,null,null,null,null,null,null,{"$f":"DATE(YEAR(R11+35),MONTH(R11+35),1)","v":"2018-11-01"}]
[null,{"$f":"IF($A$6=2,\"M\",\"Su\")","v":"Su"},{"$f":"IF($A$6=2,\"Tu\",\"M\")","v":"M"},{"$f":"IF($A$6=2,\"W\",\"Tu\")","v":"Tu"},{"$f":"IF($A$6=2,\"Th\",\"W\")","v":"W"},{"$f":"IF($A$6=2,\"F\",\"Th\")","v":"Th"},{"$f":"IF($A$6=2,\"Sa\",\"F\")","v":"F"},{"$f":"IF($A$6=2,\"Su\",\"Sa\")","v":"Sa"},null,{"$f":"IF($A$6=2,\"M\",\"Su\")","v":"Su"},{"$f":"IF($A$6=2,\"Tu\",\"M\")","v":"M"},{"$f":"IF($A$6=2,\"W\",\"Tu\")","v":"Tu"},{"$f":"IF($A$6=2,\"Th\",\"W\")","v":"W"},{"$f":"IF($A$6=2,\"F\",\"Th\")","v":"Th"},{"$f":"IF($A$6=2,\"Sa\",\"F\")","v":"F"},{"$f":"IF($A$6=2,\"Su\",\"Sa\")","v":"Sa"},null,{"$f":"IF($A$6=2,\"M\",\"Su\")","v":"Su"},{"$f":"IF($A$6=2,\"Tu\",\"M\")","v":"M"},{"$f":"IF($A$6=2,\"W\",\"Tu\")","v":"Tu"},{"$f":"IF($A$6=2,\"Th\",\"W\")","v":"W"},{"$f":"IF($A$6=2,\"F\",\"Th\")","v":"Th"},{"$f":"IF($A$6=2,\"Sa\",\"F\")","v":"F"},{"$f":"IF($A$6=2,\"Su\",\"Sa\")","v":"Sa"},null,{"$f":"IF($A$6=2,\"M\",\"Su\")","v":"Su"},{"$f":"IF($A$6=2,\"Tu\",\"M\")","v":"M"},{"$f":"IF($A$6=2,\"W\",\"Tu\")","v":"Tu"},{"$f":"IF($A$6=2,\"Th\",\"W\")","v":"W"},{"$f":"IF($A$6=2,\"F\",\"Th\")","v":"Th"},{"$f":"IF($A$6=2,\"Sa\",\"F\")","v":"F"},{"$f":"IF($A$6=2,\"Su\",\"Sa\")","v":"Sa"}]
[null,{"$f":"IF(MONTH($B$11)<>MONTH($B$11-WEEKDAY($B$11,$A$6)+(ROW(B13)-ROW($B$13))*7+(COLUMN(B13)-COLUMN($B$13)+1)),\"\",$B$11-WEEKDAY($B$11,$A$6)+(ROW(B13)-ROW($B$13))*7+(COLUMN(B13)-COLUMN($B$13)+1))","v":""},"","","2018-08-01","2018-08-02","2018-08-03","2018-08-04",null,{"$f":"IF(MONTH($J$11)<>MONTH($J$11-WEEKDAY($J$11,$A$6)+(ROW(J13)-ROW($J$13))*7+(COLUMN(J13)-COLUMN($J$13)+1)),\"\",$J$11-WEEKDAY($J$11,$A$6)+(ROW(J13)-ROW($J$13))*7+(COLUMN(J13)-COLUMN($J$13)+1))","v":""},"","","","","","2018-09-01",null,{"$f":"IF(MONTH($R$11)<>MONTH($R$11-WEEKDAY($R$11,$A$6)+(ROW(R13)-ROW($R$13))*7+(COLUMN(R13)-COLUMN($R$13)+1)),\"\",$R$11-WEEKDAY($R$11,$A$6)+(ROW(R13)-ROW($R$13))*7+(COLUMN(R13)-COLUMN($R$13)+1))","v":""},"2018-10-01","2018-10-02","2018-10-03","2018-10-04","2018-10-05","2018-10-06",null,{"$f":"IF(MONTH($Z$11)<>MONTH($Z$11-WEEKDAY($Z$11,$A$6)+(ROW(Z13)-ROW($Z$13))*7+(COLUMN(Z13)-COLUMN($Z$13)+1)),\"\",$Z$11-WEEKDAY($Z$11,$A$6)+(ROW(Z13)-ROW($Z$13))*7+(COLUMN(Z13)-COLUMN($Z$13)+1))","v":""},"","","","2018-11-01","2018-11-02","2018-11-03"]
[null,"2018-08-05","2018-08-06","2018-08-07","2018-08-08","2018-08-09","2018-08-10","2018-08-11",null,"2018-09-02","2018-09-03","2018-09-04","2018-09-05","2018-09-06","2018-09-07","2018-09-08",null,"2018-10-07","2018-10-08","2018-10-09","2018-10-10","2018-10-11","2018-10-12","2018-10-13",null,"2018-11-04","2018-11-05","2018-11-06","2018-11-07","2018-11-08","2018-11-09","2018-11-10"]
[null,"2018-08-12","2018-08-13","2018-08-14","2018-08-15","2018-08-16","2018-08-17","2018-08-18",null,"2018-09-09","2018-09-10","2018-09-11","2018-09-12","2018-09-13","2018-09-14","2018-09-15",null,"2018-10-14","2018-10-15","2018-10-16","2018-10-17","2018-10-18","2018-10-19","2018-10-20",null,"2018-11-11","2018-11-12","2018-11-13","2018-11-14","2018-11-15","2018-11-16","2018-11-17"]
[null,"2018-08-19","2018-08-20","2018-08-21","2018-08-22","2018-08-23","2018-08-24","2018-08-25",null,"2018-09-16","2018-09-17","2018-09-18","2018-09-19","2018-09-20","2018-09-21","2018-09-22",null,"2018-10-21","2018-10-22","2018-10-23","2018-10-24","2018-10-25","2018-10-26","2018-10-27",null,"2018-11-18","2018-11-19","2018-11-20","2018-11-21","2018-11-22","2018-11-23","2018-11-24"]
[null,"2018-08-26","2018-08-27","2018-08-28","2018-08-29","2018-08-30","2018-08-31","",null,"2018-09-23","2018-09-24","2018-09-25","2018-09-26","2018-09-27","2018-09-28","2018-09-29",null,"2018-10-28","2018-10-29","2018-10-30","2018-10-31","","","",null,"2018-11-25","2018-11-26","2018-11-27","2018-11-28","2018-11-29","2018-11-30",""]
[null,"","","","","","","",null,"2018-09-30","","","","","","",null,"","","","","","","",null,"","","","","","",""]
[]
[null,{"$f":"DATE(YEAR(Z11+35),MONTH(Z11+35),1)","v":"2018-12-01"},null,null,null,null,null,null,null,{"$f":"DATE(YEAR(B20+35),MONTH(B20+35),1)","v":"2019-01-01"},null,null,null,null,null,null,null,{"$f":"DATE(YEAR(J20+35),MONTH(J20+35),1)","v":"2019-02-01"},null,null,null,null,null,null,null,{"$f":"DATE(YEAR(R20+35),MONTH(R20+35),1)","v":"2019-03-01"}]
[null,{"$f":"IF($A$6=2,\"M\",\"Su\")","v":"Su"},{"$f":"IF($A$6=2,\"Tu\",\"M\")","v":"M"},{"$f":"IF($A$6=2,\"W\",\"Tu\")","v":"Tu"},{"$f":"IF($A$6=2,\"Th\",\"W\")","v":"W"},{"$f":"IF($A$6=2,\"F\",\"Th\")","v":"Th"},{"$f":"IF($A$6=2,\"Sa\",\"F\")","v":"F"},{"$f":"IF($A$6=2,\"Su\",\"Sa\")","v":"Sa"},null,{"$f":"IF($A$6=2,\"M\",\"Su\")","v":"Su"},{"$f":"IF($A$6=2,\"Tu\",\"M\")","v":"M"},{"$f":"IF($A$6=2,\"W\",\"Tu\")","v":"Tu"},{"$f":"IF($A$6=2,\"Th\",\"W\")","v":"W"},{"$f":"IF($A$6=2,\"F\",\"Th\")","v":"Th"},{"$f":"IF($A$6=2,\"Sa\",\"F\")","v":"F"},{"$f":"IF($A$6=2,\"Su\",\"Sa\")","v":"Sa"},null,{"$f":"IF($A$6=2,\"M\",\"Su\")","v":"Su"},{"$f":"IF($A$6=2,\"Tu\",\"M\")","v":"M"},{"$f":"IF($A$6=2,\"W\",\"Tu\")","v":"Tu"},{"$f":"IF($A$6=2,\"Th\",\"W\")","v":"W"},{"$f":"IF($A$6=2,\"F\",\"Th\")","v":"Th"},{"$f":"IF($A$6=2,\"Sa\",\"F\")","v":"F"},{"$f":"IF($A$6=2,\"Su\",\"Sa\")","v":"Sa"},null,{"$f":"IF($A$6=2,\"M\",\"Su\")","v":"Su"},{"$f":"IF($A$6=2,\"Tu\",\"M\")","v":"M"},{"$f":"IF($A$6=2,\"W\",\"Tu\")","v":"Tu"},{"$f":"IF($A$6=2,\"Th\",\"W\")","v":"W"},{"$f":"IF($A$6=2,\"F\",\"Th\")","v":"Th"},{"$f":"IF($A$6=2,\"Sa\",\"F\")","v":"F"},{"$f":"IF($A$6=2,\"Su\",\"Sa\")","v":"Sa"}]
[null,{"$f":"IF(MONTH($B$20)<>MONTH($B$20-WEEKDAY($B$20,$A$6)+(ROW(B22)-ROW($B$22))*7+(COLUMN(B22)-COLUMN($B$22)+1)),\"\",$B$20-WEEKDAY($B$20,$A$6)+(ROW(B22)-ROW($B$22))*7+(COLUMN(B22)-COLUMN($B$22)+1))","v":""},"","","","","","2018-12-01",null,{"$f":"IF(MONTH($J$20)<>MONTH($J$20-WEEKDAY($J$20,$A$6)+(ROW(J22)-ROW($J$22))*7+(COLUMN(J22)-COLUMN($J$22)+1)),\"\",$J$20-WEEKDAY($J$20,$A$6)+(ROW(J22)-ROW($J$22))*7+(COLUMN(J22)-COLUMN($J$22)+1))","v":""},"","2019-01-01","2019-01-02","2019-01-03","2019-01-04","2019-01-05",null,{"$f":"IF(MONTH($R$20)<>MONTH($R$20-WEEKDAY($R$20,$A$6)+(ROW(R22)-ROW($R$22))*7+(COLUMN(R22)-COLUMN($R$22)+1)),\"\",$R$20-WEEKDAY($R$20,$A$6)+(ROW(R22)-ROW($R$22))*7+(COLUMN(R22)-COLUMN($R$22)+1))","v":""},"","","","","2019-02-01","2019-02-02",null,{"$f":"IF(MONTH($Z$20)<>MONTH($Z$20-WEEKDAY($Z$20,$A$6)+(ROW(Z22)-ROW($Z$22))*7+(COLUMN(Z22)-COLUMN($Z$22)+1)),\"\",$Z$20-WEEKDAY($Z$20,$A$6)+(ROW(Z22)-ROW($Z$22))*7+(COLUMN(Z22)-COLUMN($Z$22)+1))","v":""},"","","","","2019-03-01","2019-03-02"]
[null,"2018-12-02","2018-12-03","2018-12-04","2018-12-05","2018-12-06","2018-12-07","2018-12-08",null,"2019-01-06","2019-01-07","2019-01-08","2019-01-09","2019-01-10","2019-01-11","2019-01-12",null,"2019-02-03","2019-02-04","2019-02-05","2019-02-06","2019-02-07","2019-02-08","2019-02-09",null,"2019-03-03","2019-03-04","2019-03-05","2019-03-06","2019-03-07","2019-03-08","2019-03-09"]
[null,"2018-12-09","2018-12-10","2018-12-11","2018-12-12","2018-12-13","2018-12-14","2018-12-15",null,"2019-01-13","2019-01-14","2019-01-15","2019-01-16","2019-01-17","2019-01-18","2019-01-19",null,"2019-02-10","2019-02-11","2019-02-12","2019-02-13","2019-02-14","2019-02-15","2019-02-16",null,"2019-03-10","2019-03-11","2019-03-12","2019-03-13","2019-03-14","2019-03-15","2019-03-16"]
[null,"2018-12-16","2018-12-17","2018-12-18","2018-12-19","2018-12-20","2018-12-21","2018-12-22",null,"2019-01-20","2019-01-21","2019-01-22","2019-01-23","2019-01-24","2019-01-25","2019-01-26",null,"2019-02-17","2019-02-18","2019-02-19","2019-02-20","2019-02-21","2019-02-22","2019-02-23",null,"2019-03-17","2019-03-18","2019-03-19","2019-03-20","2019-03-21","2019-03-22","2019-03-23"]
[null,"2018-12-23","2018-12-24","2018-12-25","2018-12-26","2018-12-27","2018-12-28","2018-12-29",null,"2019-01-27","2019-01-28","2019-01-29","2019-01-30","2019-01-31","","",null,"2019-02-24","2019-02-25","2019-02-26","2019-02-27","2019-02-28","","",null,"2019-03-24","2019-03-25","2019-03-26","2019-03-27","2019-03-28","2019-03-29","2019-03-30"]
[null,"2018-12-30","2018-12-31","","","","","",null,"","","","","","","",null,"","","","","","","",null,"2019-03-31","","","","","",""]
[]
[null,{"$f":"DATE(YEAR(Z20+35),MONTH(Z20+35),1)","v":"2019-04-01"},null,null,null,null,null,null,null,{"$f":"DATE(YEAR(B29+35),MONTH(B29+35),1)","v":"2019-05-01"},null,null,null,null,null,null,null,{"$f":"DATE(YEAR(J29+35),MONTH(J29+35),1)","v":"2019-06-01"},null,null,null,null,null,null,null,{"$f":"DATE(YEAR(R29+35),MONTH(R29+35),1)","v":"2019-07-01"}]
[null,{"$f":"IF($A$6=2,\"M\",\"Su\")","v":"Su"},{"$f":"IF($A$6=2,\"Tu\",\"M\")","v":"M"},{"$f":"IF($A$6=2,\"W\",\"Tu\")","v":"Tu"},{"$f":"IF($A$6=2,\"Th\",\"W\")","v":"W"},{"$f":"IF($A$6=2,\"F\",\"Th\")","v":"Th"},{"$f":"IF($A$6=2,\"Sa\",\"F\")","v":"F"},{"$f":"IF($A$6=2,\"Su\",\"Sa\")","v":"Sa"},null,{"$f":"IF($A$6=2,\"M\",\"Su\")","v":"Su"},{"$f":"IF($A$6=2,\"Tu\",\"M\")","v":"M"},{"$f":"IF($A$6=2,\"W\",\"Tu\")","v":"Tu"},{"$f":"IF($A$6=2,\"Th\",\"W\")","v":"W"},{"$f":"IF($A$6=2,\"F\",\"Th\")","v":"Th"},{"$f":"IF($A$6=2,\"Sa\",\"F\")","v":"F"},{"$f":"IF($A$6=2,\"Su\",\"Sa\")","v":"Sa"},null,{"$f":"IF($A$6=2,\"M\",\"Su\")","v":"Su"},{"$f":"IF($A$6=2,\"Tu\",\"M\")","v":"M"},{"$f":"IF($A$6=2,\"W\",\"Tu\")","v":"Tu"},{"$f":"IF($A$6=2,\"Th\",\"W\")","v":"W"},{"$f":"IF($A$6=2,\"F\",\"Th\")","v":"Th"},{"$f":"IF($A$6=2,\"Sa\",\"F\")","v":"F"},{"$f":"IF($A$6=2,\"Su\",\"Sa\")","v":"Sa"},null,{"$f":"IF($A$6=2,\"M\",\"Su\")","v":"Su"},{"$f":"IF($A$6=2,\"Tu\",\"M\")","v":"M"},{"$f":"IF($A$6=2,\"W\",\"Tu\")","v":"Tu"},{"$f":"IF($A$6=2,\"Th\",\"W\")","v":"W"},{"$f":"IF($A$6=2,\"F\",\"Th\")","v":"Th"},{"$f":"IF($A$6=2,\"Sa\",\"F\")","v":"F"},{"$f":"IF($A$6=2,\"Su\",\"Sa\")","v":"Sa"}]
[null,{"$f":"IF(MONTH($B$29)<>MONTH($B$29-WEEKDAY($B$29,$A$6)+(ROW(B31)-ROW($B$31))*7+(COLUMN(B31)-COLUMN($B$31)+1)),\"\",$B$29-WEEKDAY($B$29,$A$6)+(ROW(B31)-ROW($B$31))*7+(COLUMN(B31)-COLUMN($B$31)+1))","v":""},"2019-04-01","2019-04-02","2019-04-03","2019-04-04","2019-04-05","2019-04-06",null,{"$f":"IF(MONTH($J$29)<>MONTH($J$29-WEEKDAY($J$29,$A$6)+(ROW(J31)-ROW($J$31))*7+(COLUMN(J31)-COLUMN($J$31)+1)),\"\",$J$29-WEEKDAY($J$29,$A$6)+(ROW(J31)-ROW($J$31))*7+(COLUMN(J31)-COLUMN($J$31)+1))","v":""},"","","2019-05-01","2019-05-02","2019-05-03","2019-05-04",null,{"$f":"IF(MONTH($R$29)<>MONTH($R$29-WEEKDAY($R$29,$A$6)+(ROW(R31)-ROW($R$31))*7+(COLUMN(R31)-COLUMN($R$31)+1)),\"\",$R$29-WEEKDAY($R$29,$A$6)+(ROW(R31)-ROW($R$31))*7+(COLUMN(R31)-COLUMN($R$31)+1))","v":""},"","","","","","2019-06-01",null,{"$f":"IF(MONTH($Z$29)<>MONTH($Z$29-WEEKDAY($Z$29,$A$6)+(ROW(Z31)-ROW($Z$31))*7+(COLUMN(Z31)-COLUMN($Z$31)+1)),\"\",$Z$29-WEEKDAY($Z$29,$A$6)+(ROW(Z31)-ROW($Z$31))*7+(COLUMN(Z31)-COLUMN($Z$31)+1))","v":""},"2019-07-01","2019-07-02","2019-07-03","2019-07-04","2019-07-05","2019-07-06"]
[null,"2019-04-07","2019-04-08","2019-04-09","2019-04-10","2019-04-11","2019-04-12","2019-04-13",null,"2019-05-05","2019-05-06","2019-05-07","2019-05-08","2019-05-09","2019-05-10","2019-05-11",null,"2019-06-02","2019-06-03","2019-06-04","2019-06-05","2019-06-06","2019-06-07","2019-06-08",null,"2019-07-07","2019-07-08","2019-07-09","2019-07-10","2019-07-11","2019-07-12","2019-07-13"]
[null,"2019-04-14","2019-04-15","2019-04-16","2019-04-17","2019-04-18","2019-04-19","2019-04-20",null,"2019-05-12","2019-05-13","2019-05-14","2019-05-15","2019-05-16","2019-05-17","2019-05-18",null,"2019-06-09","2019-06-10","2019-06-11","2019-06-12","2019-06-13","2019-06-14","2019-06-15",null,"2019-07-14","2019-07-15","2019-07-16","2019-07-17","2019-07-18","2019-07-19","2019-07-20"]
[null,"2019-04-21","2019-04-22","2019-04-23","2019-04-24","2019-04-25","2019-04-26","2019-04-27",null,"2019-05-19","2019-05-20","2019-05-21","2019-05-22","2019-05-23","2019-05-24","2019-05-25",null,"2019-06-16","2019-06-17","2019-06-18","2019-06-19","2019-06-20","2019-06-21","2019-06-22",null,"2019-07-21","2019-07-22","2019-07-23","2019-07-24","2019-07-25","2019-07-26","2019-07-27"]
[null,"2019-04-28","2019-04-29","2019-04-30","","","","",null,"2019-05-26","2019-05-27","2019-05-28","2019-05-29","2019-05-30","2019-05-31","",null,"2019-06-23","2019-06-24","2019-06-25","2019-06-26","2019-06-27","2019-06-28","2019-06-29",null,"2019-07-28","2019-07-29","2019-07-30","2019-07-31","","",""]
[null,"","","","","","","",null,"","","","","","","",null,"2019-06-30","","","","","","",null,"","","","","","",""]
[]
[null,null,"Meeting",null,null,"2 Segments of11 Sessions",null,null,null,null,null,null,"2 Position Rounds",null,null,null,null,null,null,"Championship & Pins Over Avg"]
[]
[null,"Team Cap = 645",null,null,null,null,null,null,null,"Absentee Score = Average - 5",null,null,null,null,null,null,null,"Vacancy Score = Entering Bowler Average"]
[null,"Subs are Allowed For All Sessions as long as their Substitute Qualifying Average Keeps Team Within League Entering Team Cap "]
[null,"Championship roll-off is between 4 teams: 1st, 2nd and 3rd segment champions plus top team season total point winner. "]

{"sheet":"Calendar 29","index":15,"n_rows":42,"n_cols":40,"rows_kept":42,"cut":false,"hidden":false,"merged":[[40,1,40,31],[41,1,41,31],[36,1,36,31],[37,5,37,10],[37,12,37,16],[37,19,37,26],[38,1,38,22],[39,1,39,7],[39,9,39,16],[39,17,39,26],[27,1,27,31],[28,1,28,7],[28,8,35,8],[28,9,28,15],[28,16,35,16],[28,17,28,23],[28,24,35,24],[28,25,28,31],[18,1,18,31],[19,1,19,7],[19,8,26,8],[19,9,19,15],[19,16,26,16],[19,17,19,23],[19,24,26,24],[19,25,19,31],[7,1,7,31],[8,1,8,31],[9,1,9,31],[10,1,10,7],[10,8,17,8],[10,9,10,15],[10,16,17,16],[10,17,10,23],[10,24,17,24],[10,25,10,31],[5,1,5,6],[0,0,0,23],[1,0,1,6],[1,25,1,31],[2,2,2,4],[3,2,3,4]]}
["Yearly Calendar with Notes (Portrait)"]
[]
["Year",null,"Month"]
[2018,null,8]
["Start Day"]
[1,"1: Sunday, 2: Monday"]
[]
[null,"Classic League"]
[null,{"$f":"IF($C$4=1,A4,A4&\"-\"&A4+1)&\"  \" &\"29 Weeks 2 Position Weeks\"","v":"2018-2019  29 Weeks 2 Position Weeks"},null,null,null,null,null,null,null,null,null,null,null,null,null,null,null,null,null,null,null,null,null,null,null,null,null,null,null,null,null,null,null,null,null,null,null,null,null,"22+3"]
[]
[null,{"$f":"DATE($A$4,$C$4,1)","v":"2018-08-01"},null,null,null,null,null,null,null,{"$f":"DATE(YEAR(B11+35),MONTH(B11+35),1)","v":"2018-09-01"},null,null,null,null,null,null,null,{"$f":"DATE(YEAR(J11+35),MONTH(J11+35),1)","v":"2018-10-01"},null,null,null,null,null,null,null,{"$f":"DATE(YEAR(R11+35),MONTH(R11+35),1)","v":"2018-11-01"}]
[null,{"$f":"IF($A$6=2,\"M\",\"Su\")","v":"Su"},{"$f":"IF($A$6=2,\"Tu\",\"M\")","v":"M"},{"$f":"IF($A$6=2,\"W\",\"Tu\")","v":"Tu"},{"$f":"IF($A$6=2,\"Th\",\"W\")","v":"W"},{"$f":"IF($A$6=2,\"F\",\"Th\")","v":"Th"},{"$f":"IF($A$6=2,\"Sa\",\"F\")","v":"F"},{"$f":"IF($A$6=2,\"Su\",\"Sa\")","v":"Sa"},null,{"$f":"IF($A$6=2,\"M\",\"Su\")","v":"Su"},{"$f":"IF($A$6=2,\"Tu\",\"M\")","v":"M"},{"$f":"IF($A$6=2,\"W\",\"Tu\")","v":"Tu"},{"$f":"IF($A$6=2,\"Th\",\"W\")","v":"W"},{"$f":"IF($A$6=2,\"F\",\"Th\")","v":"Th"},{"$f":"IF($A$6=2,\"Sa\",\"F\")","v":"F"},{"$f":"IF($A$6=2,\"Su\",\"Sa\")","v":"Sa"},null,{"$f":"IF($A$6=2,\"M\",\"Su\")","v":"Su"},{"$f":"IF($A$6=2,\"Tu\",\"M\")","v":"M"},{"$f":"IF($A$6=2,\"W\",\"Tu\")","v":"Tu"},{"$f":"IF($A$6=2,\"Th\",\"W\")","v":"W"},{"$f":"IF($A$6=2,\"F\",\"Th\")","v":"Th"},{"$f":"IF($A$6=2,\"Sa\",\"F\")","v":"F"},{"$f":"IF($A$6=2,\"Su\",\"Sa\")","v":"Sa"},null,{"$f":"IF($A$6=2,\"M\",\"Su\")","v":"Su"},{"$f":"IF($A$6=2,\"Tu\",\"M\")","v":"M"},{"$f":"IF($A$6=2,\"W\",\"Tu\")","v":"Tu"},{"$f":"IF($A$6=2,\"Th\",\"W\")","v":"W"},{"$f":"IF($A$6=2,\"F\",\"Th\")","v":"Th"},{"$f":"IF($A$6=2,\"Sa\",\"F\")","v":"F"},{"$f":"IF($A$6=2,\"Su\",\"Sa\")","v":"Sa"}]
[null,{"$f":"IF(MONTH($B$11)<>MONTH($B$11-WEEKDAY($B$11,$A$6)+(ROW(B13)-ROW($B$13))*7+(COLUMN(B13)-COLUMN($B$13)+1)),\"\",$B$11-WEEKDAY($B$11,$A$6)+(ROW(B13)-ROW($B$13))*7+(COLUMN(B13)-COLUMN($B$13)+1))","v":""},"","","2018-08-01","2018-08-02","2018-08-03","2018-08-04",null,{"$f":"IF(MONTH($J$11)<>MONTH($J$11-WEEKDAY($J$11,$A$6)+(ROW(J13)-ROW($J$13))*7+(COLUMN(J13)-COLUMN($J$13)+1)),\"\",$J$11-WEEKDAY($J$11,$A$6)+(ROW(J13)-ROW($J$13))*7+(COLUMN(J13)-COLUMN($J$13)+1))","v":""},"","","","","","2018-09-01",null,{"$f":"IF(MONTH($R$11)<>MONTH($R$11-WEEKDAY($R$11,$A$6)+(ROW(R13)-ROW($R$13))*7+(COLUMN(R13)-COLUMN($R$13)+1)),\"\",$R$11-WEEKDAY($R$11,$A$6)+(ROW(R13)-ROW($R$13))*7+(COLUMN(R13)-COLUMN($R$13)+1))","v":""},"2018-10-01","2018-10-02","2018-10-03","2018-10-04","2018-10-05","2018-10-06",null,{"$f":"IF(MONTH($Z$11)<>MONTH($Z$11-WEEKDAY($Z$11,$A$6)+(ROW(Z13)-ROW($Z$13))*7+(COLUMN(Z13)-COLUMN($Z$13)+1)),\"\",$Z$11-WEEKDAY($Z$11,$A$6)+(ROW(Z13)-ROW($Z$13))*7+(COLUMN(Z13)-COLUMN($Z$13)+1))","v":""},"","","","2018-11-01","2018-11-02","2018-11-03"]
[null,"2018-08-05","2018-08-06","2018-08-07","2018-08-08","2018-08-09","2018-08-10","2018-08-11",null,"2018-09-02","2018-09-03","2018-09-04","2018-09-05","2018-09-06","2018-09-07","2018-09-08",null,"2018-10-07","2018-10-08","2018-10-09","2018-10-10","2018-10-11","2018-10-12","2018-10-13",null,"2018-11-04","2018-11-05","2018-11-06","2018-11-07","2018-11-08","2018-11-09","2018-11-10"]
[null,"2018-08-12","2018-08-13","2018-08-14","2018-08-15","2018-08-16","2018-08-17","2018-08-18",null,"2018-09-09","2018-09-10","2018-09-11","2018-09-12","2018-09-13","2018-09-14","2018-09-15",null,"2018-10-14","2018-10-15","2018-10-16","2018-10-17","2018-10-18","2018-10-19","2018-10-20",null,"2018-11-11","2018-11-12","2018-11-13","2018-11-14","2018-11-15","2018-11-16","2018-11-17"]
[null,"2018-08-19","2018-08-20","2018-08-21","2018-08-22","2018-08-23","2018-08-24","2018-08-25",null,"2018-09-16","2018-09-17","2018-09-18","2018-09-19","2018-09-20","2018-09-21","2018-09-22",null,"2018-10-21","2018-10-22","2018-10-23","2018-10-24","2018-10-25","2018-10-26","2018-10-27",null,"2018-11-18","2018-11-19","2018-11-20","2018-11-21","2018-11-22","2018-11-23","2018-11-24"]
[null,"2018-08-26","2018-08-27","2018-08-28","2018-08-29","2018-08-30","2018-08-31","",null,"2018-09-23","2018-09-24","2018-09-25","2018-09-26","2018-09-27","2018-09-28","2018-09-29",null,"2018-10-28","2018-10-29","2018-10-30","2018-10-31","","","",null,"2018-11-25","2018-11-26","2018-11-27","2018-11-28","2018-11-29","2018-11-30",""]
[null,"","","","","","","",null,"2018-09-30","","","","","","",null,"","","","","","","",null,"","","","","","",""]
[]
[null,{"$f":"DATE(YEAR(Z11+35),MONTH(Z11+35),1)","v":"2018-12-01"},null,null,null,null,null,null,null,{"$f":"DATE(YEAR(B20+35),MONTH(B20+35),1)","v":"2019-01-01"},null,null,null,null,null,null,null,{"$f":"DATE(YEAR(J20+35),MONTH(J20+35),1)","v":"2019-02-01"},null,null,null,null,null,null,null,{"$f":"DATE(YEAR(R20+35),MONTH(R20+35),1)","v":"2019-03-01"}]
[null,{"$f":"IF($A$6=2,\"M\",\"Su\")","v":"Su"},{"$f":"IF($A$6=2,\"Tu\",\"M\")","v":"M"},{"$f":"IF($A$6=2,\"W\",\"Tu\")","v":"Tu"},{"$f":"IF($A$6=2,\"Th\",\"W\")","v":"W"},{"$f":"IF($A$6=2,\"F\",\"Th\")","v":"Th"},{"$f":"IF($A$6=2,\"Sa\",\"F\")","v":"F"},{"$f":"IF($A$6=2,\"Su\",\"Sa\")","v":"Sa"},null,{"$f":"IF($A$6=2,\"M\",\"Su\")","v":"Su"},{"$f":"IF($A$6=2,\"Tu\",\"M\")","v":"M"},{"$f":"IF($A$6=2,\"W\",\"Tu\")","v":"Tu"},{"$f":"IF($A$6=2,\"Th\",\"W\")","v":"W"},{"$f":"IF($A$6=2,\"F\",\"Th\")","v":"Th"},{"$f":"IF($A$6=2,\"Sa\",\"F\")","v":"F"},{"$f":"IF($A$6=2,\"Su\",\"Sa\")","v":"Sa"},null,{"$f":"IF($A$6=2,\"M\",\"Su\")","v":"Su"},{"$f":"IF($A$6=2,\"Tu\",\"M\")","v":"M"},{"$f":"IF($A$6=2,\"W\",\"Tu\")","v":"Tu"},{"$f":"IF($A$6=2,\"Th\",\"W\")","v":"W"},{"$f":"IF($A$6=2,\"F\",\"Th\")","v":"Th"},{"$f":"IF($A$6=2,\"Sa\",\"F\")","v":"F"},{"$f":"IF($A$6=2,\"Su\",\"Sa\")","v":"Sa"},null,{"$f":"IF($A$6=2,\"M\",\"Su\")","v":"Su"},{"$f":"IF($A$6=2,\"Tu\",\"M\")","v":"M"},{"$f":"IF($A$6=2,\"W\",\"Tu\")","v":"Tu"},{"$f":"IF($A$6=2,\"Th\",\"W\")","v":"W"},{"$f":"IF($A$6=2,\"F\",\"Th\")","v":"Th"},{"$f":"IF($A$6=2,\"Sa\",\"F\")","v":"F"},{"$f":"IF($A$6=2,\"Su\",\"Sa\")","v":"Sa"}]
[null,{"$f":"IF(MONTH($B$20)<>MONTH($B$20-WEEKDAY($B$20,$A$6)+(ROW(B22)-ROW($B$22))*7+(COLUMN(B22)-COLUMN($B$22)+1)),\"\",$B$20-WEEKDAY($B$20,$A$6)+(ROW(B22)-ROW($B$22))*7+(COLUMN(B22)-COLUMN($B$22)+1))","v":""},"","","","","","2018-12-01",null,{"$f":"IF(MONTH($J$20)<>MONTH($J$20-WEEKDAY($J$20,$A$6)+(ROW(J22)-ROW($J$22))*7+(COLUMN(J22)-COLUMN($J$22)+1)),\"\",$J$20-WEEKDAY($J$20,$A$6)+(ROW(J22)-ROW($J$22))*7+(COLUMN(J22)-COLUMN($J$22)+1))","v":""},"","2019-01-01","2019-01-02","2019-01-03","2019-01-04","2019-01-05",null,{"$f":"IF(MONTH($R$20)<>MONTH($R$20-WEEKDAY($R$20,$A$6)+(ROW(R22)-ROW($R$22))*7+(COLUMN(R22)-COLUMN($R$22)+1)),\"\",$R$20-WEEKDAY($R$20,$A$6)+(ROW(R22)-ROW($R$22))*7+(COLUMN(R22)-COLUMN($R$22)+1))","v":""},"","","","","2019-02-01","2019-02-02",null,{"$f":"IF(MONTH($Z$20)<>MONTH($Z$20-WEEKDAY($Z$20,$A$6)+(ROW(Z22)-ROW($Z$22))*7+(COLUMN(Z22)-COLUMN($Z$22)+1)),\"\",$Z$20-WEEKDAY($Z$20,$A$6)+(ROW(Z22)-ROW($Z$22))*7+(COLUMN(Z22)-COLUMN($Z$22)+1))","v":""},"","","","","2019-03-01","2019-03-02"]
[null,"2018-12-02","2018-12-03","2018-12-04","2018-12-05","2018-12-06","2018-12-07","2018-12-08",null,"2019-01-06","2019-01-07","2019-01-08","2019-01-09","2019-01-10","2019-01-11","2019-01-12",null,"2019-02-03","2019-02-04","2019-02-05","2019-02-06","2019-02-07","2019-02-08","2019-02-09",null,"2019-03-03","2019-03-04","2019-03-05","2019-03-06","2019-03-07","2019-03-08","2019-03-09"]
[null,"2018-12-09","2018-12-10","2018-12-11","2018-12-12","2018-12-13","2018-12-14","2018-12-15",null,"2019-01-13","2019-01-14","2019-01-15","2019-01-16","2019-01-17","2019-01-18","2019-01-19",null,"2019-02-10","2019-02-11","2019-02-12","2019-02-13","2019-02-14","2019-02-15","2019-02-16",null,"2019-03-10","2019-03-11","2019-03-12","2019-03-13","2019-03-14","2019-03-15","2019-03-16"]
[null,"2018-12-16","2018-12-17","2018-12-18","2018-12-19","2018-12-20","2018-12-21","2018-12-22",null,"2019-01-20","2019-01-21","2019-01-22","2019-01-23","2019-01-24","2019-01-25","2019-01-26",null,"2019-02-17","2019-02-18","2019-02-19","2019-02-20","2019-02-21","2019-02-22","2019-02-23",null,"2019-03-17","2019-03-18","2019-03-19","2019-03-20","2019-03-21","2019-03-22","2019-03-23"]
[null,"2018-12-23","2018-12-24","2018-12-25","2018-12-26","2018-12-27","2018-12-28","2018-12-29",null,"2019-01-27","2019-01-28","2019-01-29","2019-01-30","2019-01-31","","",null,"2019-02-24","2019-02-25","2019-02-26","2019-02-27","2019-02-28","","",null,"2019-03-24","2019-03-25","2019-03-26","2019-03-27","2019-03-28","2019-03-29","2019-03-30"]
[null,"2018-12-30","2018-12-31","","","","","",null,"","","","","","","",null,"","","","","","","",null,"2019-03-31","","","","","",""]
[]
[null,{"$f":"DATE(YEAR(Z20+35),MONTH(Z20+35),1)","v":"2019-04-01"},null,null,null,null,null,null,null,{"$f":"DATE(YEAR(B29+35),MONTH(B29+35),1)","v":"2019-05-01"},null,null,null,null,null,null,null,{"$f":"DATE(YEAR(J29+35),MONTH(J29+35),1)","v":"2019-06-01"},null,null,null,null,null,null,null,{"$f":"DATE(YEAR(R29+35),MONTH(R29+35),1)","v":"2019-07-01"}]
[null,{"$f":"IF($A$6=2,\"M\",\"Su\")","v":"Su"},{"$f":"IF($A$6=2,\"Tu\",\"M\")","v":"M"},{"$f":"IF($A$6=2,\"W\",\"Tu\")","v":"Tu"},{"$f":"IF($A$6=2,\"Th\",\"W\")","v":"W"},{"$f":"IF($A$6=2,\"F\",\"Th\")","v":"Th"},{"$f":"IF($A$6=2,\"Sa\",\"F\")","v":"F"},{"$f":"IF($A$6=2,\"Su\",\"Sa\")","v":"Sa"},null,{"$f":"IF($A$6=2,\"M\",\"Su\")","v":"Su"},{"$f":"IF($A$6=2,\"Tu\",\"M\")","v":"M"},{"$f":"IF($A$6=2,\"W\",\"Tu\")","v":"Tu"},{"$f":"IF($A$6=2,\"Th\",\"W\")","v":"W"},{"$f":"IF($A$6=2,\"F\",\"Th\")","v":"Th"},{"$f":"IF($A$6=2,\"Sa\",\"F\")","v":"F"},{"$f":"IF($A$6=2,\"Su\",\"Sa\")","v":"Sa"},null,{"$f":"IF($A$6=2,\"M\",\"Su\")","v":"Su"},{"$f":"IF($A$6=2,\"Tu\",\"M\")","v":"M"},{"$f":"IF($A$6=2,\"W\",\"Tu\")","v":"Tu"},{"$f":"IF($A$6=2,\"Th\",\"W\")","v":"W"},{"$f":"IF($A$6=2,\"F\",\"Th\")","v":"Th"},{"$f":"IF($A$6=2,\"Sa\",\"F\")","v":"F"},{"$f":"IF($A$6=2,\"Su\",\"Sa\")","v":"Sa"},null,{"$f":"IF($A$6=2,\"M\",\"Su\")","v":"Su"},{"$f":"IF($A$6=2,\"Tu\",\"M\")","v":"M"},{"$f":"IF($A$6=2,\"W\",\"Tu\")","v":"Tu"},{"$f":"IF($A$6=2,\"Th\",\"W\")","v":"W"},{"$f":"IF($A$6=2,\"F\",\"Th\")","v":"Th"},{"$f":"IF($A$6=2,\"Sa\",\"F\")","v":"F"},{"$f":"IF($A$6=2,\"Su\",\"Sa\")","v":"Sa"}]
[null,{"$f":"IF(MONTH($B$29)<>MONTH($B$29-WEEKDAY($B$29,$A$6)+(ROW(B31)-ROW($B$31))*7+(COLUMN(B31)-COLUMN($B$31)+1)),\"\",$B$29-WEEKDAY($B$29,$A$6)+(ROW(B31)-ROW($B$31))*7+(COLUMN(B31)-COLUMN($B$31)+1))","v":""},"2019-04-01","2019-04-02","2019-04-03","2019-04-04","2019-04-05","2019-04-06",null,{"$f":"IF(MONTH($J$29)<>MONTH($J$29-WEEKDAY($J$29,$A$6)+(ROW(J31)-ROW($J$31))*7+(COLUMN(J31)-COLUMN($J$31)+1)),\"\",$J$29-WEEKDAY($J$29,$A$6)+(ROW(J31)-ROW($J$31))*7+(COLUMN(J31)-COLUMN($J$31)+1))","v":""},"","","2019-05-01","2019-05-02","2019-05-03","2019-05-04",null,{"$f":"IF(MONTH($R$29)<>MONTH($R$29-WEEKDAY($R$29,$A$6)+(ROW(R31)-ROW($R$31))*7+(COLUMN(R31)-COLUMN($R$31)+1)),\"\",$R$29-WEEKDAY($R$29,$A$6)+(ROW(R31)-ROW($R$31))*7+(COLUMN(R31)-COLUMN($R$31)+1))","v":""},"","","","","","2019-06-01",null,{"$f":"IF(MONTH($Z$29)<>MONTH($Z$29-WEEKDAY($Z$29,$A$6)+(ROW(Z31)-ROW($Z$31))*7+(COLUMN(Z31)-COLUMN($Z$31)+1)),\"\",$Z$29-WEEKDAY($Z$29,$A$6)+(ROW(Z31)-ROW($Z$31))*7+(COLUMN(Z31)-COLUMN($Z$31)+1))","v":""},"2019-07-01","2019-07-02","2019-07-03","2019-07-04","2019-07-05","2019-07-06"]
[null,"2019-04-07","2019-04-08","2019-04-09","2019-04-10","2019-04-11","2019-04-12","2019-04-13",null,"2019-05-05","2019-05-06","2019-05-07","2019-05-08","2019-05-09","2019-05-10","2019-05-11",null,"2019-06-02","2019-06-03","2019-06-04","2019-06-05","2019-06-06","2019-06-07","2019-06-08",null,"2019-07-07","2019-07-08","2019-07-09","2019-07-10","2019-07-11","2019-07-12","2019-07-13"]
[null,"2019-04-14","2019-04-15","2019-04-16","2019-04-17","2019-04-18","2019-04-19","2019-04-20",null,"2019-05-12","2019-05-13","2019-05-14","2019-05-15","2019-05-16","2019-05-17","2019-05-18",null,"2019-06-09","2019-06-10","2019-06-11","2019-06-12","2019-06-13","2019-06-14","2019-06-15",null,"2019-07-14","2019-07-15","2019-07-16","2019-07-17","2019-07-18","2019-07-19","2019-07-20"]
[null,"2019-04-21","2019-04-22","2019-04-23","2019-04-24","2019-04-25","2019-04-26","2019-04-27",null,"2019-05-19","2019-05-20","2019-05-21","2019-05-22","2019-05-23","2019-05-24","2019-05-25",null,"2019-06-16","2019-06-17","2019-06-18","2019-06-19","2019-06-20","2019-06-21","2019-06-22",null,"2019-07-21","2019-07-22","2019-07-23","2019-07-24","2019-07-25","2019-07-26","2019-07-27"]
[null,"2019-04-28","2019-04-29","2019-04-30","","","","",null,"2019-05-26","2019-05-27","2019-05-28","2019-05-29","2019-05-30","2019-05-31","",null,"2019-06-23","2019-06-24","2019-06-25","2019-06-26","2019-06-27","2019-06-28","2019-06-29",null,"2019-07-28","2019-07-29","2019-07-30","2019-07-31","","",""]
[null,"","","","","","","",null,"","","","","","","",null,"2019-06-30","","","","","","",null,"","","","","","",""]
[]
[null,null,"Meeting",null,null,"2 Segments of 13 Sessions",null,null,null,null,null,null,"2 Position Rounds",null,null,null,null,null,null,"Championship & Pins Over Avg"]
[null,"Twelve (12) regular teams and Two (2) Blind Teams"]
[null,"Team Cap = 645",null,null,null,null,null,null,null,"Absentee Score = Average - 5",null,null,null,null,null,null,null,"Vacancy Score = Entering Bowler Average"]
[null,"Subs are Allowed For All Sessions as long as their Substitute Qualifying Average Keeps Team Within League Entering Team Cap "]
[null,"Championship roll-off is between 4 teams: 1st, 2nd and 3rd segment champions plus top team season total point winner. "]

{"sheet":"Calendar 33","index":16,"n_rows":42,"n_cols":40,"rows_kept":42,"cut":false,"hidden":false,"merged":[[5,1,5,6],[0,0,0,23],[1,0,1,6],[1,25,1,31],[2,2,2,4],[3,2,3,4],[7,1,7,31],[8,1,8,31],[9,1,9,31],[10,1,10,7],[10,8,17,8],[10,9,10,15],[10,16,17,16],[10,17,10,23],[10,24,17,24],[10,25,10,31],[18,1,18,31],[19,1,19,7],[19,8,26,8],[19,9,19,15],[19,16,26,16],[19,17,19,23],[19,24,26,24],[19,25,19,31],[27,1,27,31],[28,1,28,7],[28,8,35,8],[28,9,28,15],[28,16,35,16],[28,17,28,23],[28,24,35,24],[28,25,28,31],[40,1,40,31],[41,1,41,31],[36,1,36,31],[37,5,37,10],[37,12,37,16],[37,19,37,26],[38,1,38,22],[39,1,39,7],[39,9,39,16],[39,17,39,26]]}
["Yearly Calendar with Notes (Portrait)"]
[]
["Year",null,"Month"]
[2018,null,8]
["Start Day"]
[1,"1: Sunday, 2: Monday"]
[]
[null,"Classic League"]
[null,{"$f":"IF($C$4=1,A4,A4&\"-\"&A4+1)&\"  \" &\"33 Weeks 4 Position Sessions\"","v":"2018-2019  33 Weeks 4 Position Sessions"},null,null,null,null,null,null,null,null,null,null,null,null,null,null,null,null,null,null,null,null,null,null,null,null,null,null,null,null,null,null,null,null,null,null,null,null,null,"22+3"]
[]
[null,{"$f":"DATE($A$4,$C$4,1)","v":"2018-08-01"},null,null,null,null,null,null,null,{"$f":"DATE(YEAR(B11+35),MONTH(B11+35),1)","v":"2018-09-01"},null,null,null,null,null,null,null,{"$f":"DATE(YEAR(J11+35),MONTH(J11+35),1)","v":"2018-10-01"},null,null,null,null,null,null,null,{"$f":"DATE(YEAR(R11+35),MONTH(R11+35),1)","v":"2018-11-01"}]
[null,{"$f":"IF($A$6=2,\"M\",\"Su\")","v":"Su"},{"$f":"IF($A$6=2,\"Tu\",\"M\")","v":"M"},{"$f":"IF($A$6=2,\"W\",\"Tu\")","v":"Tu"},{"$f":"IF($A$6=2,\"Th\",\"W\")","v":"W"},{"$f":"IF($A$6=2,\"F\",\"Th\")","v":"Th"},{"$f":"IF($A$6=2,\"Sa\",\"F\")","v":"F"},{"$f":"IF($A$6=2,\"Su\",\"Sa\")","v":"Sa"},null,{"$f":"IF($A$6=2,\"M\",\"Su\")","v":"Su"},{"$f":"IF($A$6=2,\"Tu\",\"M\")","v":"M"},{"$f":"IF($A$6=2,\"W\",\"Tu\")","v":"Tu"},{"$f":"IF($A$6=2,\"Th\",\"W\")","v":"W"},{"$f":"IF($A$6=2,\"F\",\"Th\")","v":"Th"},{"$f":"IF($A$6=2,\"Sa\",\"F\")","v":"F"},{"$f":"IF($A$6=2,\"Su\",\"Sa\")","v":"Sa"},null,{"$f":"IF($A$6=2,\"M\",\"Su\")","v":"Su"},{"$f":"IF($A$6=2,\"Tu\",\"M\")","v":"M"},{"$f":"IF($A$6=2,\"W\",\"Tu\")","v":"Tu"},{"$f":"IF($A$6=2,\"Th\",\"W\")","v":"W"},{"$f":"IF($A$6=2,\"F\",\"Th\")","v":"Th"},{"$f":"IF($A$6=2,\"Sa\",\"F\")","v":"F"},{"$f":"IF($A$6=2,\"Su\",\"Sa\")","v":"Sa"},null,{"$f":"IF($A$6=2,\"M\",\"Su\")","v":"Su"},{"$f":"IF($A$6=2,\"Tu\",\"M\")","v":"M"},{"$f":"IF($A$6=2,\"W\",\"Tu\")","v":"Tu"},{"$f":"IF($A$6=2,\"Th\",\"W\")","v":"W"},{"$f":"IF($A$6=2,\"F\",\"Th\")","v":"Th"},{"$f":"IF($A$6=2,\"Sa\",\"F\")","v":"F"},{"$f":"IF($A$6=2,\"Su\",\"Sa\")","v":"Sa"}]
[null,{"$f":"IF(MONTH($B$11)<>MONTH($B$11-WEEKDAY($B$11,$A$6)+(ROW(B13)-ROW($B$13))*7+(COLUMN(B13)-COLUMN($B$13)+1)),\"\",$B$11-WEEKDAY($B$11,$A$6)+(ROW(B13)-ROW($B$13))*7+(COLUMN(B13)-COLUMN($B$13)+1))","v":""},"","","2018-08-01","2018-08-02","2018-08-03","2018-08-04",null,{"$f":"IF(MONTH($J$11)<>MONTH($J$11-WEEKDAY($J$11,$A$6)+(ROW(J13)-ROW($J$13))*7+(COLUMN(J13)-COLUMN($J$13)+1)),\"\",$J$11-WEEKDAY($J$11,$A$6)+(ROW(J13)-ROW($J$13))*7+(COLUMN(J13)-COLUMN($J$13)+1))","v":""},"","","","","","2018-09-01",null,{"$f":"IF(MONTH($R$11)<>MONTH($R$11-WEEKDAY($R$11,$A$6)+(ROW(R13)-ROW($R$13))*7+(COLUMN(R13)-COLUMN($R$13)+1)),\"\",$R$11-WEEKDAY($R$11,$A$6)+(ROW(R13)-ROW($R$13))*7+(COLUMN(R13)-COLUMN($R$13)+1))","v":""},"2018-10-01","2018-10-02","2018-10-03","2018-10-04","2018-10-05","2018-10-06",null,{"$f":"IF(MONTH($Z$11)<>MONTH($Z$11-WEEKDAY($Z$11,$A$6)+(ROW(Z13)-ROW($Z$13))*7+(COLUMN(Z13)-COLUMN($Z$13)+1)),\"\",$Z$11-WEEKDAY($Z$11,$A$6)+(ROW(Z13)-ROW($Z$13))*7+(COLUMN(Z13)-COLUMN($Z$13)+1))","v":""},"","","","2018-11-01","2018-11-02","2018-11-03"]
[null,"2018-08-05","2018-08-06","2018-08-07","2018-08-08","2018-08-09","2018-08-10","2018-08-11",null,"2018-09-02","2018-09-03","2018-09-04","2018-09-05","2018-09-06","2018-09-07","2018-09-08",null,"2018-10-07","2018-10-08","2018-10-09","2018-10-10","2018-10-11","2018-10-12","2018-10-13",null,"2018-11-04","2018-11-05","2018-11-06","2018-11-07","2018-11-08","2018-11-09","2018-11-10"]
[null,"2018-08-12","2018-08-13","2018-08-14","2018-08-15","2018-08-16","2018-08-17","2018-08-18",null,"2018-09-09","2018-09-10","2018-09-11","2018-09-12","2018-09-13","2018-09-14","2018-09-15",null,"2018-10-14","2018-10-15","2018-10-16","2018-10-17","2018-10-18","2018-10-19","2018-10-20",null,"2018-11-11","2018-11-12","2018-11-13","2018-11-14","2018-11-15","2018-11-16","2018-11-17"]
[null,"2018-08-19","2018-08-20","2018-08-21","2018-08-22","2018-08-23","2018-08-24","2018-08-25",null,"2018-09-16","2018-09-17","2018-09-18","2018-09-19","2018-09-20","2018-09-21","2018-09-22",null,"2018-10-21","2018-10-22","2018-10-23","2018-10-24","2018-10-25","2018-10-26","2018-10-27",null,"2018-11-18","2018-11-19","2018-11-20","2018-11-21","2018-11-22","2018-11-23","2018-11-24"]
[null,"2018-08-26","2018-08-27","2018-08-28","2018-08-29","2018-08-30","2018-08-31","",null,"2018-09-23","2018-09-24","2018-09-25","2018-09-26","2018-09-27","2018-09-28","2018-09-29",null,"2018-10-28","2018-10-29","2018-10-30","2018-10-31","","","",null,"2018-11-25","2018-11-26","2018-11-27","2018-11-28","2018-11-29","2018-11-30",""]
[null,"","","","","","","",null,"2018-09-30","","","","","","",null,"","","","","","","",null,"","","","","","",""]
[]
[null,{"$f":"DATE(YEAR(Z11+35),MONTH(Z11+35),1)","v":"2018-12-01"},null,null,null,null,null,null,null,{"$f":"DATE(YEAR(B20+35),MONTH(B20+35),1)","v":"2019-01-01"},null,null,null,null,null,null,null,{"$f":"DATE(YEAR(J20+35),MONTH(J20+35),1)","v":"2019-02-01"},null,null,null,null,null,null,null,{"$f":"DATE(YEAR(R20+35),MONTH(R20+35),1)","v":"2019-03-01"}]
[null,{"$f":"IF($A$6=2,\"M\",\"Su\")","v":"Su"},{"$f":"IF($A$6=2,\"Tu\",\"M\")","v":"M"},{"$f":"IF($A$6=2,\"W\",\"Tu\")","v":"Tu"},{"$f":"IF($A$6=2,\"Th\",\"W\")","v":"W"},{"$f":"IF($A$6=2,\"F\",\"Th\")","v":"Th"},{"$f":"IF($A$6=2,\"Sa\",\"F\")","v":"F"},{"$f":"IF($A$6=2,\"Su\",\"Sa\")","v":"Sa"},null,{"$f":"IF($A$6=2,\"M\",\"Su\")","v":"Su"},{"$f":"IF($A$6=2,\"Tu\",\"M\")","v":"M"},{"$f":"IF($A$6=2,\"W\",\"Tu\")","v":"Tu"},{"$f":"IF($A$6=2,\"Th\",\"W\")","v":"W"},{"$f":"IF($A$6=2,\"F\",\"Th\")","v":"Th"},{"$f":"IF($A$6=2,\"Sa\",\"F\")","v":"F"},{"$f":"IF($A$6=2,\"Su\",\"Sa\")","v":"Sa"},null,{"$f":"IF($A$6=2,\"M\",\"Su\")","v":"Su"},{"$f":"IF($A$6=2,\"Tu\",\"M\")","v":"M"},{"$f":"IF($A$6=2,\"W\",\"Tu\")","v":"Tu"},{"$f":"IF($A$6=2,\"Th\",\"W\")","v":"W"},{"$f":"IF($A$6=2,\"F\",\"Th\")","v":"Th"},{"$f":"IF($A$6=2,\"Sa\",\"F\")","v":"F"},{"$f":"IF($A$6=2,\"Su\",\"Sa\")","v":"Sa"},null,{"$f":"IF($A$6=2,\"M\",\"Su\")","v":"Su"},{"$f":"IF($A$6=2,\"Tu\",\"M\")","v":"M"},{"$f":"IF($A$6=2,\"W\",\"Tu\")","v":"Tu"},{"$f":"IF($A$6=2,\"Th\",\"W\")","v":"W"},{"$f":"IF($A$6=2,\"F\",\"Th\")","v":"Th"},{"$f":"IF($A$6=2,\"Sa\",\"F\")","v":"F"},{"$f":"IF($A$6=2,\"Su\",\"Sa\")","v":"Sa"}]
[null,{"$f":"IF(MONTH($B$20)<>MONTH($B$20-WEEKDAY($B$20,$A$6)+(ROW(B22)-ROW($B$22))*7+(COLUMN(B22)-COLUMN($B$22)+1)),\"\",$B$20-WEEKDAY($B$20,$A$6)+(ROW(B22)-ROW($B$22))*7+(COLUMN(B22)-COLUMN($B$22)+1))","v":""},"","","","","","2018-12-01",null,{"$f":"IF(MONTH($J$20)<>MONTH($J$20-WEEKDAY($J$20,$A$6)+(ROW(J22)-ROW($J$22))*7+(COLUMN(J22)-COLUMN($J$22)+1)),\"\",$J$20-WEEKDAY($J$20,$A$6)+(ROW(J22)-ROW($J$22))*7+(COLUMN(J22)-COLUMN($J$22)+1))","v":""},"","2019-01-01","2019-01-02","2019-01-03","2019-01-04","2019-01-05",null,{"$f":"IF(MONTH($R$20)<>MONTH($R$20-WEEKDAY($R$20,$A$6)+(ROW(R22)-ROW($R$22))*7+(COLUMN(R22)-COLUMN($R$22)+1)),\"\",$R$20-WEEKDAY($R$20,$A$6)+(ROW(R22)-ROW($R$22))*7+(COLUMN(R22)-COLUMN($R$22)+1))","v":""},"","","","","2019-02-01","2019-02-02",null,{"$f":"IF(MONTH($Z$20)<>MONTH($Z$20-WEEKDAY($Z$20,$A$6)+(ROW(Z22)-ROW($Z$22))*7+(COLUMN(Z22)-COLUMN($Z$22)+1)),\"\",$Z$20-WEEKDAY($Z$20,$A$6)+(ROW(Z22)-ROW($Z$22))*7+(COLUMN(Z22)-COLUMN($Z$22)+1))","v":""},"","","","","2019-03-01","2019-03-02"]
[null,"2018-12-02","2018-12-03","2018-12-04","2018-12-05","2018-12-06","2018-12-07","2018-12-08",null,"2019-01-06","2019-01-07","2019-01-08","2019-01-09","2019-01-10","2019-01-11","2019-01-12",null,"2019-02-03","2019-02-04","2019-02-05","2019-02-06","2019-02-07","2019-02-08","2019-02-09",null,"2019-03-03","2019-03-04","2019-03-05","2019-03-06","2019-03-07","2019-03-08","2019-03-09"]
[null,"2018-12-09","2018-12-10","2018-12-11","2018-12-12","2018-12-13","2018-12-14","2018-12-15",null,"2019-01-13","2019-01-14","2019-01-15","2019-01-16","2019-01-17","2019-01-18","2019-01-19",null,"2019-02-10","2019-02-11","2019-02-12","2019-02-13","2019-02-14","2019-02-15","2019-02-16",null,"2019-03-10","2019-03-11","2019-03-12","2019-03-13","2019-03-14","2019-03-15","2019-03-16"]
[null,"2018-12-16","2018-12-17","2018-12-18","2018-12-19","2018-12-20","2018-12-21","2018-12-22",null,"2019-01-20","2019-01-21","2019-01-22","2019-01-23","2019-01-24","2019-01-25","2019-01-26",null,"2019-02-17","2019-02-18","2019-02-19","2019-02-20","2019-02-21","2019-02-22","2019-02-23",null,"2019-03-17","2019-03-18","2019-03-19","2019-03-20","2019-03-21","2019-03-22","2019-03-23"]
[null,"2018-12-23","2018-12-24","2018-12-25","2018-12-26","2018-12-27","2018-12-28","2018-12-29",null,"2019-01-27","2019-01-28","2019-01-29","2019-01-30","2019-01-31","","",null,"2019-02-24","2019-02-25","2019-02-26","2019-02-27","2019-02-28","","",null,"2019-03-24","2019-03-25","2019-03-26","2019-03-27","2019-03-28","2019-03-29","2019-03-30"]
[null,"2018-12-30","2018-12-31","","","","","",null,"","","","","","","",null,"","","","","","","",null,"2019-03-31","","","","","",""]
[]
[null,{"$f":"DATE(YEAR(Z20+35),MONTH(Z20+35),1)","v":"2019-04-01"},null,null,null,null,null,null,null,{"$f":"DATE(YEAR(B29+35),MONTH(B29+35),1)","v":"2019-05-01"},null,null,null,null,null,null,null,{"$f":"DATE(YEAR(J29+35),MONTH(J29+35),1)","v":"2019-06-01"},null,null,null,null,null,null,null,{"$f":"DATE(YEAR(R29+35),MONTH(R29+35),1)","v":"2019-07-01"}]
[null,{"$f":"IF($A$6=2,\"M\",\"Su\")","v":"Su"},{"$f":"IF($A$6=2,\"Tu\",\"M\")","v":"M"},{"$f":"IF($A$6=2,\"W\",\"Tu\")","v":"Tu"},{"$f":"IF($A$6=2,\"Th\",\"W\")","v":"W"},{"$f":"IF($A$6=2,\"F\",\"Th\")","v":"Th"},{"$f":"IF($A$6=2,\"Sa\",\"F\")","v":"F"},{"$f":"IF($A$6=2,\"Su\",\"Sa\")","v":"Sa"},null,{"$f":"IF($A$6=2,\"M\",\"Su\")","v":"Su"},{"$f":"IF($A$6=2,\"Tu\",\"M\")","v":"M"},{"$f":"IF($A$6=2,\"W\",\"Tu\")","v":"Tu"},{"$f":"IF($A$6=2,\"Th\",\"W\")","v":"W"},{"$f":"IF($A$6=2,\"F\",\"Th\")","v":"Th"},{"$f":"IF($A$6=2,\"Sa\",\"F\")","v":"F"},{"$f":"IF($A$6=2,\"Su\",\"Sa\")","v":"Sa"},null,{"$f":"IF($A$6=2,\"M\",\"Su\")","v":"Su"},{"$f":"IF($A$6=2,\"Tu\",\"M\")","v":"M"},{"$f":"IF($A$6=2,\"W\",\"Tu\")","v":"Tu"},{"$f":"IF($A$6=2,\"Th\",\"W\")","v":"W"},{"$f":"IF($A$6=2,\"F\",\"Th\")","v":"Th"},{"$f":"IF($A$6=2,\"Sa\",\"F\")","v":"F"},{"$f":"IF($A$6=2,\"Su\",\"Sa\")","v":"Sa"},null,{"$f":"IF($A$6=2,\"M\",\"Su\")","v":"Su"},{"$f":"IF($A$6=2,\"Tu\",\"M\")","v":"M"},{"$f":"IF($A$6=2,\"W\",\"Tu\")","v":"Tu"},{"$f":"IF($A$6=2,\"Th\",\"W\")","v":"W"},{"$f":"IF($A$6=2,\"F\",\"Th\")","v":"Th"},{"$f":"IF($A$6=2,\"Sa\",\"F\")","v":"F"},{"$f":"IF($A$6=2,\"Su\",\"Sa\")","v":"Sa"}]
[null,{"$f":"IF(MONTH($B$29)<>MONTH($B$29-WEEKDAY($B$29,$A$6)+(ROW(B31)-ROW($B$31))*7+(COLUMN(B31)-COLUMN($B$31)+1)),\"\",$B$29-WEEKDAY($B$29,$A$6)+(ROW(B31)-ROW($B$31))*7+(COLUMN(B31)-COLUMN($B$31)+1))","v":""},"2019-04-01","2019-04-02","2019-04-03","2019-04-04","2019-04-05","2019-04-06",null,{"$f":"IF(MONTH($J$29)<>MONTH($J$29-WEEKDAY($J$29,$A$6)+(ROW(J31)-ROW($J$31))*7+(COLUMN(J31)-COLUMN($J$31)+1)),\"\",$J$29-WEEKDAY($J$29,$A$6)+(ROW(J31)-ROW($J$31))*7+(COLUMN(J31)-COLUMN($J$31)+1))","v":""},"","","2019-05-01","2019-05-02","2019-05-03","2019-05-04",null,{"$f":"IF(MONTH($R$29)<>MONTH($R$29-WEEKDAY($R$29,$A$6)+(ROW(R31)-ROW($R$31))*7+(COLUMN(R31)-COLUMN($R$31)+1)),\"\",$R$29-WEEKDAY($R$29,$A$6)+(ROW(R31)-ROW($R$31))*7+(COLUMN(R31)-COLUMN($R$31)+1))","v":""},"","","","","","2019-06-01",null,{"$f":"IF(MONTH($Z$29)<>MONTH($Z$29-WEEKDAY($Z$29,$A$6)+(ROW(Z31)-ROW($Z$31))*7+(COLUMN(Z31)-COLUMN($Z$31)+1)),\"\",$Z$29-WEEKDAY($Z$29,$A$6)+(ROW(Z31)-ROW($Z$31))*7+(COLUMN(Z31)-COLUMN($Z$31)+1))","v":""},"2019-07-01","2019-07-02","2019-07-03","2019-07-04","2019-07-05","2019-07-06"]
[null,"2019-04-07","2019-04-08","2019-04-09","2019-04-10","2019-04-11","2019-04-12","2019-04-13",null,"2019-05-05","2019-05-06","2019-05-07","2019-05-08","2019-05-09","2019-05-10","2019-05-11",null,"2019-06-02","2019-06-03","2019-06-04","2019-06-05","2019-06-06","2019-06-07","2019-06-08",null,"2019-07-07","2019-07-08","2019-07-09","2019-07-10","2019-07-11","2019-07-12","2019-07-13"]
[null,"2019-04-14","2019-04-15","2019-04-16","2019-04-17","2019-04-18","2019-04-19","2019-04-20",null,"2019-05-12","2019-05-13","2019-05-14","2019-05-15","2019-05-16","2019-05-17","2019-05-18",null,"2019-06-09","2019-06-10","2019-06-11","2019-06-12","2019-06-13","2019-06-14","2019-06-15",null,"2019-07-14","2019-07-15","2019-07-16","2019-07-17","2019-07-18","2019-07-19","2019-07-20"]
[null,"2019-04-21","2019-04-22","2019-04-23","2019-04-24","2019-04-25","2019-04-26","2019-04-27",null,"2019-05-19","2019-05-20","2019-05-21","2019-05-22","2019-05-23","2019-05-24","2019-05-25",null,"2019-06-16","2019-06-17","2019-06-18","2019-06-19","2019-06-20","2019-06-21","2019-06-22",null,"2019-07-21","2019-07-22","2019-07-23","2019-07-24","2019-07-25","2019-07-26","2019-07-27"]
[null,"2019-04-28","2019-04-29","2019-04-30","","","","",null,"2019-05-26","2019-05-27","2019-05-28","2019-05-29","2019-05-30","2019-05-31","",null,"2019-06-23","2019-06-24","2019-06-25","2019-06-26","2019-06-27","2019-06-28","2019-06-29",null,"2019-07-28","2019-07-29","2019-07-30","2019-07-31","","",""]
[null,"","","","","","","",null,"","","","","","","",null,"2019-06-30","","","","","","",null,"","","","","","",""]
[]
[null,null,"Meeting",null,null,"4 Segments of 7 weeks",null,null,null,null,null,null,"4 Position Rounds",null,null,null,null,null,null,"Championship & Pins Over Avg"]
[]
[null,"Team Cap = 645",null,null,null,null,null,null,null,"Absentee Score = Average - 5",null,null,null,null,null,null,null,"Vacancy Score = Entering Bowler Average"]
[null,"Subs are Allowed For All Sessions as long as their Substitute Qualifying Average Keeps Team Within League Entering Team Cap "]
[null,"Championship roll-off is between 4 teams: 1st, 2nd and 3rd segment champions plus top team season total point winner. "]

{"sheet":"Sheet2","index":17,"n_rows":42,"n_cols":40,"rows_kept":42,"cut":false,"hidden":false,"merged":[[40,1,40,31],[41,1,41,31],[37,5,37,10],[37,12,37,16],[37,19,37,26],[36,1,36,31],[38,1,38,22],[39,1,39,7],[39,9,39,16],[39,17,39,26],[27,1,27,31],[28,1,28,7],[28,8,35,8],[28,9,28,15],[28,16,35,16],[28,17,28,23],[28,24,35,24],[28,25,28,31],[18,1,18,31],[19,1,19,7],[19,8,26,8],[19,9,19,15],[19,16,26,16],[19,17,19,23],[19,24,26,24],[19,25,19,31],[7,1,7,31],[8,1,8,31],[9,1,9,31],[10,1,10,7],[10,8,17,8],[10,9,10,15],[10,16,17,16],[10,17,10,23],[10,24,17,24],[10,25,10,31],[0,0,0,23],[1,0,1,6],[1,25,1,31],[2,2,2,4],[3,2,3,4],[5,1,5,6]]}
["Yearly Calendar with Notes (Portrait)"]
[]
["Year",null,"Month"]
[2018,null,8]
["Start Day"]
[1,"1: Sunday, 2: Monday"]
[]
[null,"Classic League"]
[null,{"$f":"IF($C$4=1,A4,A4&\"-\"&A4+1)&\"  \" &\"31 Weeks 2 Position Sessions\"","v":"2018-2019  31 Weeks 2 Position Sessions"},null,null,null,null,null,null,null,null,null,null,null,null,null,null,null,null,null,null,null,null,null,null,null,null,null,null,null,null,null,null,null,null,null,null,null,null,null,"22+3"]
[]
[null,{"$f":"DATE($A$4,$C$4,1)","v":"2018-08-01"},null,null,null,null,null,null,null,{"$f":"DATE(YEAR(B11+35),MONTH(B11+35),1)","v":"2018-09-01"},null,null,null,null,null,null,null,{"$f":"DATE(YEAR(J11+35),MONTH(J11+35),1)","v":"2018-10-01"},null,null,null,null,null,null,null,{"$f":"DATE(YEAR(R11+35),MONTH(R11+35),1)","v":"2018-11-01"}]
[null,{"$f":"IF($A$6=2,\"M\",\"Su\")","v":"Su"},{"$f":"IF($A$6=2,\"Tu\",\"M\")","v":"M"},{"$f":"IF($A$6=2,\"W\",\"Tu\")","v":"Tu"},{"$f":"IF($A$6=2,\"Th\",\"W\")","v":"W"},{"$f":"IF($A$6=2,\"F\",\"Th\")","v":"Th"},{"$f":"IF($A$6=2,\"Sa\",\"F\")","v":"F"},{"$f":"IF($A$6=2,\"Su\",\"Sa\")","v":"Sa"},null,{"$f":"IF($A$6=2,\"M\",\"Su\")","v":"Su"},{"$f":"IF($A$6=2,\"Tu\",\"M\")","v":"M"},{"$f":"IF($A$6=2,\"W\",\"Tu\")","v":"Tu"},{"$f":"IF($A$6=2,\"Th\",\"W\")","v":"W"},{"$f":"IF($A$6=2,\"F\",\"Th\")","v":"Th"},{"$f":"IF($A$6=2,\"Sa\",\"F\")","v":"F"},{"$f":"IF($A$6=2,\"Su\",\"Sa\")","v":"Sa"},null,{"$f":"IF($A$6=2,\"M\",\"Su\")","v":"Su"},{"$f":"IF($A$6=2,\"Tu\",\"M\")","v":"M"},{"$f":"IF($A$6=2,\"W\",\"Tu\")","v":"Tu"},{"$f":"IF($A$6=2,\"Th\",\"W\")","v":"W"},{"$f":"IF($A$6=2,\"F\",\"Th\")","v":"Th"},{"$f":"IF($A$6=2,\"Sa\",\"F\")","v":"F"},{"$f":"IF($A$6=2,\"Su\",\"Sa\")","v":"Sa"},null,{"$f":"IF($A$6=2,\"M\",\"Su\")","v":"Su"},{"$f":"IF($A$6=2,\"Tu\",\"M\")","v":"M"},{"$f":"IF($A$6=2,\"W\",\"Tu\")","v":"Tu"},{"$f":"IF($A$6=2,\"Th\",\"W\")","v":"W"},{"$f":"IF($A$6=2,\"F\",\"Th\")","v":"Th"},{"$f":"IF($A$6=2,\"Sa\",\"F\")","v":"F"},{"$f":"IF($A$6=2,\"Su\",\"Sa\")","v":"Sa"}]
[null,{"$f":"IF(MONTH($B$11)<>MONTH($B$11-WEEKDAY($B$11,$A$6)+(ROW(B13)-ROW($B$13))*7+(COLUMN(B13)-COLUMN($B$13)+1)),\"\",$B$11-WEEKDAY($B$11,$A$6)+(ROW(B13)-ROW($B$13))*7+(COLUMN(B13)-COLUMN($B$13)+1))","v":""},"","","2018-08-01","2018-08-02","2018-08-03","2018-08-04",null,{"$f":"IF(MONTH($J$11)<>MONTH($J$11-WEEKDAY($J$11,$A$6)+(ROW(J13)-ROW($J$13))*7+(COLUMN(J13)-COLUMN($J$13)+1)),\"\",$J$11-WEEKDAY($J$11,$A$6)+(ROW(J13)-ROW($J$13))*7+(COLUMN(J13)-COLUMN($J$13)+1))","v":""},"","","","","","2018-09-01",null,{"$f":"IF(MONTH($R$11)<>MONTH($R$11-WEEKDAY($R$11,$A$6)+(ROW(R13)-ROW($R$13))*7+(COLUMN(R13)-COLUMN($R$13)+1)),\"\",$R$11-WEEKDAY($R$11,$A$6)+(ROW(R13)-ROW($R$13))*7+(COLUMN(R13)-COLUMN($R$13)+1))","v":""},"2018-10-01","2018-10-02","2018-10-03","2018-10-04","2018-10-05","2018-10-06",null,{"$f":"IF(MONTH($Z$11)<>MONTH($Z$11-WEEKDAY($Z$11,$A$6)+(ROW(Z13)-ROW($Z$13))*7+(COLUMN(Z13)-COLUMN($Z$13)+1)),\"\",$Z$11-WEEKDAY($Z$11,$A$6)+(ROW(Z13)-ROW($Z$13))*7+(COLUMN(Z13)-COLUMN($Z$13)+1))","v":""},"","","","2018-11-01","2018-11-02","2018-11-03"]
[null,"2018-08-05","2018-08-06","2018-08-07","2018-08-08","2018-08-09","2018-08-10","2018-08-11",null,"2018-09-02","2018-09-03","2018-09-04","2018-09-05","2018-09-06","2018-09-07","2018-09-08",null,"2018-10-07","2018-10-08","2018-10-09","2018-10-10","2018-10-11","2018-10-12","2018-10-13",null,"2018-11-04","2018-11-05","2018-11-06","2018-11-07","2018-11-08","2018-11-09","2018-11-10"]
[null,"2018-08-12","2018-08-13","2018-08-14","2018-08-15","2018-08-16","2018-08-17","2018-08-18",null,"2018-09-09","2018-09-10","2018-09-11","2018-09-12","2018-09-13","2018-09-14","2018-09-15",null,"2018-10-14","2018-10-15","2018-10-16","2018-10-17","2018-10-18","2018-10-19","2018-10-20",null,"2018-11-11","2018-11-12","2018-11-13","2018-11-14","2018-11-15","2018-11-16","2018-11-17"]
[null,"2018-08-19","2018-08-20","2018-08-21","2018-08-22","2018-08-23","2018-08-24","2018-08-25",null,"2018-09-16","2018-09-17","2018-09-18","2018-09-19","2018-09-20","2018-09-21","2018-09-22",null,"2018-10-21","2018-10-22","2018-10-23","2018-10-24","2018-10-25","2018-10-26","2018-10-27",null,"2018-11-18","2018-11-19","2018-11-20","2018-11-21","2018-11-22","2018-11-23","2018-11-24"]
[null,"2018-08-26","2018-08-27","2018-08-28","2018-08-29","2018-08-30","2018-08-31","",null,"2018-09-23","2018-09-24","2018-09-25","2018-09-26","2018-09-27","2018-09-28","2018-09-29",null,"2018-10-28","2018-10-29","2018-10-30","2018-10-31","","","",null,"2018-11-25","2018-11-26","2018-11-27","2018-11-28","2018-11-29","2018-11-30",""]
[null,"","","","","","","",null,"2018-09-30","","","","","","",null,"","","","","","","",null,"","","","","","",""]
[]
[null,{"$f":"DATE(YEAR(Z11+35),MONTH(Z11+35),1)","v":"2018-12-01"},null,null,null,null,null,null,null,{"$f":"DATE(YEAR(B20+35),MONTH(B20+35),1)","v":"2019-01-01"},null,null,null,null,null,null,null,{"$f":"DATE(YEAR(J20+35),MONTH(J20+35),1)","v":"2019-02-01"},null,null,null,null,null,null,null,{"$f":"DATE(YEAR(R20+35),MONTH(R20+35),1)","v":"2019-03-01"}]
[null,{"$f":"IF($A$6=2,\"M\",\"Su\")","v":"Su"},{"$f":"IF($A$6=2,\"Tu\",\"M\")","v":"M"},{"$f":"IF($A$6=2,\"W\",\"Tu\")","v":"Tu"},{"$f":"IF($A$6=2,\"Th\",\"W\")","v":"W"},{"$f":"IF($A$6=2,\"F\",\"Th\")","v":"Th"},{"$f":"IF($A$6=2,\"Sa\",\"F\")","v":"F"},{"$f":"IF($A$6=2,\"Su\",\"Sa\")","v":"Sa"},null,{"$f":"IF($A$6=2,\"M\",\"Su\")","v":"Su"},{"$f":"IF($A$6=2,\"Tu\",\"M\")","v":"M"},{"$f":"IF($A$6=2,\"W\",\"Tu\")","v":"Tu"},{"$f":"IF($A$6=2,\"Th\",\"W\")","v":"W"},{"$f":"IF($A$6=2,\"F\",\"Th\")","v":"Th"},{"$f":"IF($A$6=2,\"Sa\",\"F\")","v":"F"},{"$f":"IF($A$6=2,\"Su\",\"Sa\")","v":"Sa"},null,{"$f":"IF($A$6=2,\"M\",\"Su\")","v":"Su"},{"$f":"IF($A$6=2,\"Tu\",\"M\")","v":"M"},{"$f":"IF($A$6=2,\"W\",\"Tu\")","v":"Tu"},{"$f":"IF($A$6=2,\"Th\",\"W\")","v":"W"},{"$f":"IF($A$6=2,\"F\",\"Th\")","v":"Th"},{"$f":"IF($A$6=2,\"Sa\",\"F\")","v":"F"},{"$f":"IF($A$6=2,\"Su\",\"Sa\")","v":"Sa"},null,{"$f":"IF($A$6=2,\"M\",\"Su\")","v":"Su"},{"$f":"IF($A$6=2,\"Tu\",\"M\")","v":"M"},{"$f":"IF($A$6=2,\"W\",\"Tu\")","v":"Tu"},{"$f":"IF($A$6=2,\"Th\",\"W\")","v":"W"},{"$f":"IF($A$6=2,\"F\",\"Th\")","v":"Th"},{"$f":"IF($A$6=2,\"Sa\",\"F\")","v":"F"},{"$f":"IF($A$6=2,\"Su\",\"Sa\")","v":"Sa"}]
[null,{"$f":"IF(MONTH($B$20)<>MONTH($B$20-WEEKDAY($B$20,$A$6)+(ROW(B22)-ROW($B$22))*7+(COLUMN(B22)-COLUMN($B$22)+1)),\"\",$B$20-WEEKDAY($B$20,$A$6)+(ROW(B22)-ROW($B$22))*7+(COLUMN(B22)-COLUMN($B$22)+1))","v":""},"","","","","","2018-12-01",null,{"$f":"IF(MONTH($J$20)<>MONTH($J$20-WEEKDAY($J$20,$A$6)+(ROW(J22)-ROW($J$22))*7+(COLUMN(J22)-COLUMN($J$22)+1)),\"\",$J$20-WEEKDAY($J$20,$A$6)+(ROW(J22)-ROW($J$22))*7+(COLUMN(J22)-COLUMN($J$22)+1))","v":""},"","2019-01-01","2019-01-02","2019-01-03","2019-01-04","2019-01-05",null,{"$f":"IF(MONTH($R$20)<>MONTH($R$20-WEEKDAY($R$20,$A$6)+(ROW(R22)-ROW($R$22))*7+(COLUMN(R22)-COLUMN($R$22)+1)),\"\",$R$20-WEEKDAY($R$20,$A$6)+(ROW(R22)-ROW($R$22))*7+(COLUMN(R22)-COLUMN($R$22)+1))","v":""},"","","","","2019-02-01","2019-02-02",null,{"$f":"IF(MONTH($Z$20)<>MONTH($Z$20-WEEKDAY($Z$20,$A$6)+(ROW(Z22)-ROW($Z$22))*7+(COLUMN(Z22)-COLUMN($Z$22)+1)),\"\",$Z$20-WEEKDAY($Z$20,$A$6)+(ROW(Z22)-ROW($Z$22))*7+(COLUMN(Z22)-COLUMN($Z$22)+1))","v":""},"","","","","2019-03-01","2019-03-02"]
[null,"2018-12-02","2018-12-03","2018-12-04","2018-12-05","2018-12-06","2018-12-07","2018-12-08",null,"2019-01-06","2019-01-07","2019-01-08","2019-01-09","2019-01-10","2019-01-11","2019-01-12",null,"2019-02-03","2019-02-04","2019-02-05","2019-02-06","2019-02-07","2019-02-08","2019-02-09",null,"2019-03-03","2019-03-04","2019-03-05","2019-03-06","2019-03-07","2019-03-08","2019-03-09"]
[null,"2018-12-09","2018-12-10","2018-12-11","2018-12-12","2018-12-13","2018-12-14","2018-12-15",null,"2019-01-13","2019-01-14","2019-01-15","2019-01-16","2019-01-17","2019-01-18","2019-01-19",null,"2019-02-10","2019-02-11","2019-02-12","2019-02-13","2019-02-14","2019-02-15","2019-02-16",null,"2019-03-10","2019-03-11","2019-03-12","2019-03-13","2019-03-14","2019-03-15","2019-03-16"]
[null,"2018-12-16","2018-12-17","2018-12-18","2018-12-19","2018-12-20","2018-12-21","2018-12-22",null,"2019-01-20","2019-01-21","2019-01-22","2019-01-23","2019-01-24","2019-01-25","2019-01-26",null,"2019-02-17","2019-02-18","2019-02-19","2019-02-20","2019-02-21","2019-02-22","2019-02-23",null,"2019-03-17","2019-03-18","2019-03-19","2019-03-20","2019-03-21","2019-03-22","2019-03-23"]
[null,"2018-12-23","2018-12-24","2018-12-25","2018-12-26","2018-12-27","2018-12-28","2018-12-29",null,"2019-01-27","2019-01-28","2019-01-29","2019-01-30","2019-01-31","","",null,"2019-02-24","2019-02-25","2019-02-26","2019-02-27","2019-02-28","","",null,"2019-03-24","2019-03-25","2019-03-26","2019-03-27","2019-03-28","2019-03-29","2019-03-30"]
[null,"2018-12-30","2018-12-31","","","","","",null,"","","","","","","",null,"","","","","","","",null,"2019-03-31","","","","","",""]
[]
[null,{"$f":"DATE(YEAR(Z20+35),MONTH(Z20+35),1)","v":"2019-04-01"},null,null,null,null,null,null,null,{"$f":"DATE(YEAR(B29+35),MONTH(B29+35),1)","v":"2019-05-01"},null,null,null,null,null,null,null,{"$f":"DATE(YEAR(J29+35),MONTH(J29+35),1)","v":"2019-06-01"},null,null,null,null,null,null,null,{"$f":"DATE(YEAR(R29+35),MONTH(R29+35),1)","v":"2019-07-01"}]
[null,{"$f":"IF($A$6=2,\"M\",\"Su\")","v":"Su"},{"$f":"IF($A$6=2,\"Tu\",\"M\")","v":"M"},{"$f":"IF($A$6=2,\"W\",\"Tu\")","v":"Tu"},{"$f":"IF($A$6=2,\"Th\",\"W\")","v":"W"},{"$f":"IF($A$6=2,\"F\",\"Th\")","v":"Th"},{"$f":"IF($A$6=2,\"Sa\",\"F\")","v":"F"},{"$f":"IF($A$6=2,\"Su\",\"Sa\")","v":"Sa"},null,{"$f":"IF($A$6=2,\"M\",\"Su\")","v":"Su"},{"$f":"IF($A$6=2,\"Tu\",\"M\")","v":"M"},{"$f":"IF($A$6=2,\"W\",\"Tu\")","v":"Tu"},{"$f":"IF($A$6=2,\"Th\",\"W\")","v":"W"},{"$f":"IF($A$6=2,\"F\",\"Th\")","v":"Th"},{"$f":"IF($A$6=2,\"Sa\",\"F\")","v":"F"},{"$f":"IF($A$6=2,\"Su\",\"Sa\")","v":"Sa"},null,{"$f":"IF($A$6=2,\"M\",\"Su\")","v":"Su"},{"$f":"IF($A$6=2,\"Tu\",\"M\")","v":"M"},{"$f":"IF($A$6=2,\"W\",\"Tu\")","v":"Tu"},{"$f":"IF($A$6=2,\"Th\",\"W\")","v":"W"},{"$f":"IF($A$6=2,\"F\",\"Th\")","v":"Th"},{"$f":"IF($A$6=2,\"Sa\",\"F\")","v":"F"},{"$f":"IF($A$6=2,\"Su\",\"Sa\")","v":"Sa"},null,{"$f":"IF($A$6=2,\"M\",\"Su\")","v":"Su"},{"$f":"IF($A$6=2,\"Tu\",\"M\")","v":"M"},{"$f":"IF($A$6=2,\"W\",\"Tu\")","v":"Tu"},{"$f":"IF($A$6=2,\"Th\",\"W\")","v":"W"},{"$f":"IF($A$6=2,\"F\",\"Th\")","v":"Th"},{"$f":"IF($A$6=2,\"Sa\",\"F\")","v":"F"},{"$f":"IF($A$6=2,\"Su\",\"Sa\")","v":"Sa"}]
[null,{"$f":"IF(MONTH($B$29)<>MONTH($B$29-WEEKDAY($B$29,$A$6)+(ROW(B31)-ROW($B$31))*7+(COLUMN(B31)-COLUMN($B$31)+1)),\"\",$B$29-WEEKDAY($B$29,$A$6)+(ROW(B31)-ROW($B$31))*7+(COLUMN(B31)-COLUMN($B$31)+1))","v":""},"2019-04-01","2019-04-02","2019-04-03","2019-04-04","2019-04-05","2019-04-06",null,{"$f":"IF(MONTH($J$29)<>MONTH($J$29-WEEKDAY($J$29,$A$6)+(ROW(J31)-ROW($J$31))*7+(COLUMN(J31)-COLUMN($J$31)+1)),\"\",$J$29-WEEKDAY($J$29,$A$6)+(ROW(J31)-ROW($J$31))*7+(COLUMN(J31)-COLUMN($J$31)+1))","v":""},"","","2019-05-01","2019-05-02","2019-05-03","2019-05-04",null,{"$f":"IF(MONTH($R$29)<>MONTH($R$29-WEEKDAY($R$29,$A$6)+(ROW(R31)-ROW($R$31))*7+(COLUMN(R31)-COLUMN($R$31)+1)),\"\",$R$29-WEEKDAY($R$29,$A$6)+(ROW(R31)-ROW($R$31))*7+(COLUMN(R31)-COLUMN($R$31)+1))","v":""},"","","","","","2019-06-01",null,{"$f":"IF(MONTH($Z$29)<>MONTH($Z$29-WEEKDAY($Z$29,$A$6)+(ROW(Z31)-ROW($Z$31))*7+(COLUMN(Z31)-COLUMN($Z$31)+1)),\"\",$Z$29-WEEKDAY($Z$29,$A$6)+(ROW(Z31)-ROW($Z$31))*7+(COLUMN(Z31)-COLUMN($Z$31)+1))","v":""},"2019-07-01","2019-07-02","2019-07-03","2019-07-04","2019-07-05","2019-07-06"]
[null,"2019-04-07","2019-04-08","2019-04-09","2019-04-10","2019-04-11","2019-04-12","2019-04-13",null,"2019-05-05","2019-05-06","2019-05-07","2019-05-08","2019-05-09","2019-05-10","2019-05-11",null,"2019-06-02","2019-06-03","2019-06-04","2019-06-05","2019-06-06","2019-06-07","2019-06-08",null,"2019-07-07","2019-07-08","2019-07-09","2019-07-10","2019-07-11","2019-07-12","2019-07-13"]
[null,"2019-04-14","2019-04-15","2019-04-16","2019-04-17","2019-04-18","2019-04-19","2019-04-20",null,"2019-05-12","2019-05-13","2019-05-14","2019-05-15","2019-05-16","2019-05-17","2019-05-18",null,"2019-06-09","2019-06-10","2019-06-11","2019-06-12","2019-06-13","2019-06-14","2019-06-15",null,"2019-07-14","2019-07-15","2019-07-16","2019-07-17","2019-07-18","2019-07-19","2019-07-20"]
[null,"2019-04-21","2019-04-22","2019-04-23","2019-04-24","2019-04-25","2019-04-26","2019-04-27",null,"2019-05-19","2019-05-20","2019-05-21","2019-05-22","2019-05-23","2019-05-24","2019-05-25",null,"2019-06-16","2019-06-17","2019-06-18","2019-06-19","2019-06-20","2019-06-21","2019-06-22",null,"2019-07-21","2019-07-22","2019-07-23","2019-07-24","2019-07-25","2019-07-26","2019-07-27"]
[null,"2019-04-28","2019-04-29","2019-04-30","","","","",null,"2019-05-26","2019-05-27","2019-05-28","2019-05-29","2019-05-30","2019-05-31","",null,"2019-06-23","2019-06-24","2019-06-25","2019-06-26","2019-06-27","2019-06-28","2019-06-29",null,"2019-07-28","2019-07-29","2019-07-30","2019-07-31","","",""]
[null,"","","","","","","",null,"","","","","","","",null,"2019-06-30","","","","","","",null,"","","","","","",""]
[]
[null,null,"Meeting",null,null,"4 Segments of 7 weeks",null,null,null,null,null,null,"2 Position Rounds",null,null,null,null,null,null,"Championship & Pins Over Avg"]
[]
[null,"Team Cap = 645",null,null,null,null,null,null,null,"Absentee Score = Average - 5",null,null,null,null,null,null,null,"Vacancy Score = Entering Bowler Average"]
[null,"Subs are Allowed For All Sessions as long as their Substitute Qualifying Average Keeps Team Within League Entering Team Cap "]
[null,"Championship roll-off is between 4 teams: 1st, 2nd and 3rd segment champions plus top team season total point winner. "]

{"sheet":"Calendar 34","index":18,"n_rows":42,"n_cols":32,"rows_kept":42,"cut":false,"hidden":false,"merged":[[37,12,37,20],[19,1,19,7],[19,9,19,15],[19,17,19,23],[19,25,19,31],[28,1,28,7],[28,9,28,15],[28,17,28,23],[28,25,28,31],[7,1,7,31],[8,1,8,31],[10,1,10,7],[10,9,10,15],[10,17,10,23],[10,25,10,31],[9,1,9,31],[10,8,17,8],[10,16,17,16],[10,24,17,24],[5,1,5,6],[0,0,0,23],[1,0,1,6],[1,25,1,31],[2,2,2,4],[3,2,3,4],[41,1,41,31],[40,1,40,31],[18,1,18,31],[36,1,36,31],[39,17,39,26],[39,9,39,16],[39,1,39,7],[38,1,38,22],[28,24,35,24],[28,16,35,16],[28,8,35,8],[19,8,26,8],[19,16,26,16],[19,24,26,24],[27,1,27,31],[37,26,37,29]]}
["Yearly Calendar with Notes (Portrait)"]
[]
["Year",null,"Month"]
[2018,null,8]
["Start Day"]
[1,"1: Sunday, 2: Monday"]
[]
[null,"Classic League"]
[null,{"$f":"IF($C$4=1,A4,A4&\"-\"&A4+1)&\"  \" &\"34 Weeks\"","v":"2018-2019  34 Weeks"}]
[]
[null,{"$f":"DATE($A$4,$C$4,1)","v":"2018-08-01"},null,null,null,null,null,null,null,{"$f":"DATE(YEAR(B11+35),MONTH(B11+35),1)","v":"2018-09-01"},null,null,null,null,null,null,null,{"$f":"DATE(YEAR(J11+35),MONTH(J11+35),1)","v":"2018-10-01"},null,null,null,null,null,null,null,{"$f":"DATE(YEAR(R11+35),MONTH(R11+35),1)","v":"2018-11-01"}]
[null,{"$f":"IF($A$6=2,\"M\",\"Su\")","v":"Su"},{"$f":"IF($A$6=2,\"Tu\",\"M\")","v":"M"},{"$f":"IF($A$6=2,\"W\",\"Tu\")","v":"Tu"},{"$f":"IF($A$6=2,\"Th\",\"W\")","v":"W"},{"$f":"IF($A$6=2,\"F\",\"Th\")","v":"Th"},{"$f":"IF($A$6=2,\"Sa\",\"F\")","v":"F"},{"$f":"IF($A$6=2,\"Su\",\"Sa\")","v":"Sa"},null,{"$f":"IF($A$6=2,\"M\",\"Su\")","v":"Su"},{"$f":"IF($A$6=2,\"Tu\",\"M\")","v":"M"},{"$f":"IF($A$6=2,\"W\",\"Tu\")","v":"Tu"},{"$f":"IF($A$6=2,\"Th\",\"W\")","v":"W"},{"$f":"IF($A$6=2,\"F\",\"Th\")","v":"Th"},{"$f":"IF($A$6=2,\"Sa\",\"F\")","v":"F"},{"$f":"IF($A$6=2,\"Su\",\"Sa\")","v":"Sa"},null,{"$f":"IF($A$6=2,\"M\",\"Su\")","v":"Su"},{"$f":"IF($A$6=2,\"Tu\",\"M\")","v":"M"},{"$f":"IF($A$6=2,\"W\",\"Tu\")","v":"Tu"},{"$f":"IF($A$6=2,\"Th\",\"W\")","v":"W"},{"$f":"IF($A$6=2,\"F\",\"Th\")","v":"Th"},{"$f":"IF($A$6=2,\"Sa\",\"F\")","v":"F"},{"$f":"IF($A$6=2,\"Su\",\"Sa\")","v":"Sa"},null,{"$f":"IF($A$6=2,\"M\",\"Su\")","v":"Su"},{"$f":"IF($A$6=2,\"Tu\",\"M\")","v":"M"},{"$f":"IF($A$6=2,\"W\",\"Tu\")","v":"Tu"},{"$f":"IF($A$6=2,\"Th\",\"W\")","v":"W"},{"$f":"IF($A$6=2,\"F\",\"Th\")","v":"Th"},{"$f":"IF($A$6=2,\"Sa\",\"F\")","v":"F"},{"$f":"IF($A$6=2,\"Su\",\"Sa\")","v":"Sa"}]
[null,{"$f":"IF(MONTH($B$11)<>MONTH($B$11-WEEKDAY($B$11,$A$6)+(ROW(B13)-ROW($B$13))*7+(COLUMN(B13)-COLUMN($B$13)+1)),\"\",$B$11-WEEKDAY($B$11,$A$6)+(ROW(B13)-ROW($B$13))*7+(COLUMN(B13)-COLUMN($B$13)+1))","v":""},"","","2018-08-01","2018-08-02","2018-08-03","2018-08-04",null,{"$f":"IF(MONTH($J$11)<>MONTH($J$11-WEEKDAY($J$11,$A$6)+(ROW(J13)-ROW($J$13))*7+(COLUMN(J13)-COLUMN($J$13)+1)),\"\",$J$11-WEEKDAY($J$11,$A$6)+(ROW(J13)-ROW($J$13))*7+(COLUMN(J13)-COLUMN($J$13)+1))","v":""},"","","","","","2018-09-01",null,{"$f":"IF(MONTH($R$11)<>MONTH($R$11-WEEKDAY($R$11,$A$6)+(ROW(R13)-ROW($R$13))*7+(COLUMN(R13)-COLUMN($R$13)+1)),\"\",$R$11-WEEKDAY($R$11,$A$6)+(ROW(R13)-ROW($R$13))*7+(COLUMN(R13)-COLUMN($R$13)+1))","v":""},"2018-10-01","2018-10-02","2018-10-03","2018-10-04","2018-10-05","2018-10-06",null,{"$f":"IF(MONTH($Z$11)<>MONTH($Z$11-WEEKDAY($Z$11,$A$6)+(ROW(Z13)-ROW($Z$13))*7+(COLUMN(Z13)-COLUMN($Z$13)+1)),\"\",$Z$11-WEEKDAY($Z$11,$A$6)+(ROW(Z13)-ROW($Z$13))*7+(COLUMN(Z13)-COLUMN($Z$13)+1))","v":""},"","","","2018-11-01","2018-11-02","2018-11-03"]
[null,"2018-08-05","2018-08-06","2018-08-07","2018-08-08","2018-08-09","2018-08-10","2018-08-11",null,"2018-09-02","2018-09-03","2018-09-04","2018-09-05","2018-09-06","2018-09-07","2018-09-08",null,"2018-10-07","2018-10-08","2018-10-09","2018-10-10","2018-10-11","2018-10-12","2018-10-13",null,"2018-11-04","2018-11-05","2018-11-06","2018-11-07","2018-11-08","2018-11-09","2018-11-10"]
[null,"2018-08-12","2018-08-13","2018-08-14","2018-08-15","2018-08-16","2018-08-17","2018-08-18",null,"2018-09-09","2018-09-10","2018-09-11","2018-09-12","2018-09-13","2018-09-14","2018-09-15",null,"2018-10-14","2018-10-15","2018-10-16","2018-10-17","2018-10-18","2018-10-19","2018-10-20",null,"2018-11-11","2018-11-12","2018-11-13","2018-11-14","2018-11-15","2018-11-16","2018-11-17"]
[null,"2018-08-19","2018-08-20","2018-08-21","2018-08-22","2018-08-23","2018-08-24","2018-08-25",null,"2018-09-16","2018-09-17","2018-09-18","2018-09-19","2018-09-20","2018-09-21","2018-09-22",null,"2018-10-21","2018-10-22","2018-10-23","2018-10-24","2018-10-25","2018-10-26","2018-10-27",null,"2018-11-18","2018-11-19","2018-11-20","2018-11-21","2018-11-22","2018-11-23","2018-11-24"]
[null,"2018-08-26","2018-08-27","2018-08-28","2018-08-29","2018-08-30","2018-08-31","",null,"2018-09-23","2018-09-24","2018-09-25","2018-09-26","2018-09-27","2018-09-28","2018-09-29",null,"2018-10-28","2018-10-29","2018-10-30","2018-10-31","","","",null,"2018-11-25","2018-11-26","2018-11-27","2018-11-28","2018-11-29","2018-11-30",""]
[null,"","","","","","","",null,"2018-09-30","","","","","","",null,"","","","","","","",null,"","","","","","",""]
[]
[null,{"$f":"DATE(YEAR(Z11+35),MONTH(Z11+35),1)","v":"2018-12-01"},null,null,null,null,null,null,null,{"$f":"DATE(YEAR(B20+35),MONTH(B20+35),1)","v":"2019-01-01"},null,null,null,null,null,null,null,{"$f":"DATE(YEAR(J20+35),MONTH(J20+35),1)","v":"2019-02-01"},null,null,null,null,null,null,null,{"$f":"DATE(YEAR(R20+35),MONTH(R20+35),1)","v":"2019-03-01"}]
[null,{"$f":"IF($A$6=2,\"M\",\"Su\")","v":"Su"},{"$f":"IF($A$6=2,\"Tu\",\"M\")","v":"M"},{"$f":"IF($A$6=2,\"W\",\"Tu\")","v":"Tu"},{"$f":"IF($A$6=2,\"Th\",\"W\")","v":"W"},{"$f":"IF($A$6=2,\"F\",\"Th\")","v":"Th"},{"$f":"IF($A$6=2,\"Sa\",\"F\")","v":"F"},{"$f":"IF($A$6=2,\"Su\",\"Sa\")","v":"Sa"},null,{"$f":"IF($A$6=2,\"M\",\"Su\")","v":"Su"},{"$f":"IF($A$6=2,\"Tu\",\"M\")","v":"M"},{"$f":"IF($A$6=2,\"W\",\"Tu\")","v":"Tu"},{"$f":"IF($A$6=2,\"Th\",\"W\")","v":"W"},{"$f":"IF($A$6=2,\"F\",\"Th\")","v":"Th"},{"$f":"IF($A$6=2,\"Sa\",\"F\")","v":"F"},{"$f":"IF($A$6=2,\"Su\",\"Sa\")","v":"Sa"},null,{"$f":"IF($A$6=2,\"M\",\"Su\")","v":"Su"},{"$f":"IF($A$6=2,\"Tu\",\"M\")","v":"M"},{"$f":"IF($A$6=2,\"W\",\"Tu\")","v":"Tu"},{"$f":"IF($A$6=2,\"Th\",\"W\")","v":"W"},{"$f":"IF($A$6=2,\"F\",\"Th\")","v":"Th"},{"$f":"IF($A$6=2,\"Sa\",\"F\")","v":"F"},{"$f":"IF($A$6=2,\"Su\",\"Sa\")","v":"Sa"},null,{"$f":"IF($A$6=2,\"M\",\"Su\")","v":"Su"},{"$f":"IF($A$6=2,\"Tu\",\"M\")","v":"M"},{"$f":"IF($A$6=2,\"W\",\"Tu\")","v":"Tu"},{"$f":"IF($A$6=2,\"Th\",\"W\")","v":"W"},{"$f":"IF($A$6=2,\"F\",\"Th\")","v":"Th"},{"$f":"IF($A$6=2,\"Sa\",\"F\")","v":"F"},{"$f":"IF($A$6=2,\"Su\",\"Sa\")","v":"Sa"}]
[null,{"$f":"IF(MONTH($B$20)<>MONTH($B$20-WEEKDAY($B$20,$A$6)+(ROW(B22)-ROW($B$22))*7+(COLUMN(B22)-COLUMN($B$22)+1)),\"\",$B$20-WEEKDAY($B$20,$A$6)+(ROW(B22)-ROW($B$22))*7+(COLUMN(B22)-COLUMN($B$22)+1))","v":""},"","","","","","2018-12-01",null,{"$f":"IF(MONTH($J$20)<>MONTH($J$20-WEEKDAY($J$20,$A$6)+(ROW(J22)-ROW($J$22))*7+(COLUMN(J22)-COLUMN($J$22)+1)),\"\",$J$20-WEEKDAY($J$20,$A$6)+(ROW(J22)-ROW($J$22))*7+(COLUMN(J22)-COLUMN($J$22)+1))","v":""},"","2019-01-01","2019-01-02","2019-01-03","2019-01-04","2019-01-05",null,{"$f":"IF(MONTH($R$20)<>MONTH($R$20-WEEKDAY($R$20,$A$6)+(ROW(R22)-ROW($R$22))*7+(COLUMN(R22)-COLUMN($R$22)+1)),\"\",$R$20-WEEKDAY($R$20,$A$6)+(ROW(R22)-ROW($R$22))*7+(COLUMN(R22)-COLUMN($R$22)+1))","v":""},"","","","","2019-02-01","2019-02-02",null,{"$f":"IF(MONTH($Z$20)<>MONTH($Z$20-WEEKDAY($Z$20,$A$6)+(ROW(Z22)-ROW($Z$22))*7+(COLUMN(Z22)-COLUMN($Z$22)+1)),\"\",$Z$20-WEEKDAY($Z$20,$A$6)+(ROW(Z22)-ROW($Z$22))*7+(COLUMN(Z22)-COLUMN($Z$22)+1))","v":""},"","","","","2019-03-01","2019-03-02"]
[null,"2018-12-02","2018-12-03","2018-12-04","2018-12-05","2018-12-06","2018-12-07","2018-12-08",null,"2019-01-06","2019-01-07","2019-01-08","2019-01-09","2019-01-10","2019-01-11","2019-01-12",null,"2019-02-03","2019-02-04","2019-02-05","2019-02-06","2019-02-07","2019-02-08","2019-02-09",null,"2019-03-03","2019-03-04","2019-03-05","2019-03-06","2019-03-07","2019-03-08","2019-03-09"]
[null,"2018-12-09","2018-12-10","2018-12-11","2018-12-12","2018-12-13","2018-12-14","2018-12-15",null,"2019-01-13","2019-01-14","2019-01-15","2019-01-16","2019-01-17","2019-01-18","2019-01-19",null,"2019-02-10","2019-02-11","2019-02-12","2019-02-13","2019-02-14","2019-02-15","2019-02-16",null,"2019-03-10","2019-03-11","2019-03-12","2019-03-13","2019-03-14","2019-03-15","2019-03-16"]
[null,"2018-12-16","2018-12-17","2018-12-18","2018-12-19","2018-12-20","2018-12-21","2018-12-22",null,"2019-01-20","2019-01-21","2019-01-22","2019-01-23","2019-01-24","2019-01-25","2019-01-26",null,"2019-02-17","2019-02-18","2019-02-19","2019-02-20","2019-02-21","2019-02-22","2019-02-23",null,"2019-03-17","2019-03-18","2019-03-19","2019-03-20","2019-03-21","2019-03-22","2019-03-23"]
[null,"2018-12-23","2018-12-24","2018-12-25","2018-12-26","2018-12-27","2018-12-28","2018-12-29",null,"2019-01-27","2019-01-28","2019-01-29","2019-01-30","2019-01-31","","",null,"2019-02-24","2019-02-25","2019-02-26","2019-02-27","2019-02-28","","",null,"2019-03-24","2019-03-25","2019-03-26","2019-03-27","2019-03-28","2019-03-29","2019-03-30"]
[null,"2018-12-30","2018-12-31","","","","","",null,"","","","","","","",null,"","","","","","","",null,"2019-03-31","","","","","",""]
[]
[null,{"$f":"DATE(YEAR(Z20+35),MONTH(Z20+35),1)","v":"2019-04-01"},null,null,null,null,null,null,null,{"$f":"DATE(YEAR(B29+35),MONTH(B29+35),1)","v":"2019-05-01"},null,null,null,null,null,null,null,{"$f":"DATE(YEAR(J29+35),MONTH(J29+35),1)","v":"2019-06-01"},null,null,null,null,null,null,null,{"$f":"DATE(YEAR(R29+35),MONTH(R29+35),1)","v":"2019-07-01"}]
[null,{"$f":"IF($A$6=2,\"M\",\"Su\")","v":"Su"},{"$f":"IF($A$6=2,\"Tu\",\"M\")","v":"M"},{"$f":"IF($A$6=2,\"W\",\"Tu\")","v":"Tu"},{"$f":"IF($A$6=2,\"Th\",\"W\")","v":"W"},{"$f":"IF($A$6=2,\"F\",\"Th\")","v":"Th"},{"$f":"IF($A$6=2,\"Sa\",\"F\")","v":"F"},{"$f":"IF($A$6=2,\"Su\",\"Sa\")","v":"Sa"},null,{"$f":"IF($A$6=2,\"M\",\"Su\")","v":"Su"},{"$f":"IF($A$6=2,\"Tu\",\"M\")","v":"M"},{"$f":"IF($A$6=2,\"W\",\"Tu\")","v":"Tu"},{"$f":"IF($A$6=2,\"Th\",\"W\")","v":"W"},{"$f":"IF($A$6=2,\"F\",\"Th\")","v":"Th"},{"$f":"IF($A$6=2,\"Sa\",\"F\")","v":"F"},{"$f":"IF($A$6=2,\"Su\",\"Sa\")","v":"Sa"},null,{"$f":"IF($A$6=2,\"M\",\"Su\")","v":"Su"},{"$f":"IF($A$6=2,\"Tu\",\"M\")","v":"M"},{"$f":"IF($A$6=2,\"W\",\"Tu\")","v":"Tu"},{"$f":"IF($A$6=2,\"Th\",\"W\")","v":"W"},{"$f":"IF($A$6=2,\"F\",\"Th\")","v":"Th"},{"$f":"IF($A$6=2,\"Sa\",\"F\")","v":"F"},{"$f":"IF($A$6=2,\"Su\",\"Sa\")","v":"Sa"},null,{"$f":"IF($A$6=2,\"M\",\"Su\")","v":"Su"},{"$f":"IF($A$6=2,\"Tu\",\"M\")","v":"M"},{"$f":"IF($A$6=2,\"W\",\"Tu\")","v":"Tu"},{"$f":"IF($A$6=2,\"Th\",\"W\")","v":"W"},{"$f":"IF($A$6=2,\"F\",\"Th\")","v":"Th"},{"$f":"IF($A$6=2,\"Sa\",\"F\")","v":"F"},{"$f":"IF($A$6=2,\"Su\",\"Sa\")","v":"Sa"}]
[null,{"$f":"IF(MONTH($B$29)<>MONTH($B$29-WEEKDAY($B$29,$A$6)+(ROW(B31)-ROW($B$31))*7+(COLUMN(B31)-COLUMN($B$31)+1)),\"\",$B$29-WEEKDAY($B$29,$A$6)+(ROW(B31)-ROW($B$31))*7+(COLUMN(B31)-COLUMN($B$31)+1))","v":""},"2019-04-01","2019-04-02","2019-04-03","2019-04-04","2019-04-05","2019-04-06",null,{"$f":"IF(MONTH($J$29)<>MONTH($J$29-WEEKDAY($J$29,$A$6)+(ROW(J31)-ROW($J$31))*7+(COLUMN(J31)-COLUMN($J$31)+1)),\"\",$J$29-WEEKDAY($J$29,$A$6)+(ROW(J31)-ROW($J$31))*7+(COLUMN(J31)-COLUMN($J$31)+1))","v":""},"","","2019-05-01","2019-05-02","2019-05-03","2019-05-04",null,{"$f":"IF(MONTH($R$29)<>MONTH($R$29-WEEKDAY($R$29,$A$6)+(ROW(R31)-ROW($R$31))*7+(COLUMN(R31)-COLUMN($R$31)+1)),\"\",$R$29-WEEKDAY($R$29,$A$6)+(ROW(R31)-ROW($R$31))*7+(COLUMN(R31)-COLUMN($R$31)+1))","v":""},"","","","","","2019-06-01",null,{"$f":"IF(MONTH($Z$29)<>MONTH($Z$29-WEEKDAY($Z$29,$A$6)+(ROW(Z31)-ROW($Z$31))*7+(COLUMN(Z31)-COLUMN($Z$31)+1)),\"\",$Z$29-WEEKDAY($Z$29,$A$6)+(ROW(Z31)-ROW($Z$31))*7+(COLUMN(Z31)-COLUMN($Z$31)+1))","v":""},"2019-07-01","2019-07-02","2019-07-03","2019-07-04","2019-07-05","2019-07-06"]
[null,"2019-04-07","2019-04-08","2019-04-09","2019-04-10","2019-04-11","2019-04-12","2019-04-13",null,"2019-05-05","2019-05-06","2019-05-07","2019-05-08","2019-05-09","2019-05-10","2019-05-11",null,"2019-06-02","2019-06-03","2019-06-04","2019-06-05","2019-06-06","2019-06-07","2019-06-08",null,"2019-07-07","2019-07-08","2019-07-09","2019-07-10","2019-07-11","2019-07-12","2019-07-13"]
[null,"2019-04-14","2019-04-15","2019-04-16","2019-04-17","2019-04-18","2019-04-19","2019-04-20",null,"2019-05-12","2019-05-13","2019-05-14","2019-05-15","2019-05-16","2019-05-17","2019-05-18",null,"2019-06-09","2019-06-10","2019-06-11","2019-06-12","2019-06-13","2019-06-14","2019-06-15",null,"2019-07-14","2019-07-15","2019-07-16","2019-07-17","2019-07-18","2019-07-19","2019-07-20"]
[null,"2019-04-21","2019-04-22","2019-04-23","2019-04-24","2019-04-25","2019-04-26","2019-04-27",null,"2019-05-19","2019-05-20","2019-05-21","2019-05-22","2019-05-23","2019-05-24","2019-05-25",null,"2019-06-16","2019-06-17","2019-06-18","2019-06-19","2019-06-20","2019-06-21","2019-06-22",null,"2019-07-21","2019-07-22","2019-07-23","2019-07-24","2019-07-25","2019-07-26","2019-07-27"]
[null,"2019-04-28","2019-04-29","2019-04-30","","","","",null,"2019-05-26","2019-05-27","2019-05-28","2019-05-29","2019-05-30","2019-05-31","",null,"2019-06-23","2019-06-24","2019-06-25","2019-06-26","2019-06-27","2019-06-28","2019-06-29",null,"2019-07-28","2019-07-29","2019-07-30","2019-07-31","","",""]
[null,"","","","","","","",null,"","","","","","","",null,"2019-06-30","","","","","","",null,"","","","","","",""]
[]
[null,null,"Meeting",null,null,"3 Segments = Sessions",null,null,null,null,null,null,"Pins Over Average and Championship"]
[]
[null,"Team Cap = 645",null,null,null,null,null,null,null,"Absentee Score = Average - 5",null,null,null,null,null,null,null,"Vacancy Score = Entering Bowler Average"]
[null,"Subs are Allowed For All Sessions as long as their Substitute Qualifying Average Keeps Team Within League Entering Team Cap "]
[null,"Championship roll-off is between 4 teams: 1st, 2nd and 3rd segment champions plus top team season total point winner. "]

{"sheet":"Sheet3","index":19,"n_rows":29,"n_cols":9,"rows_kept":29,"cut":false,"hidden":false,"merged":[[1,0,1,8],[11,0,11,8],[21,0,21,8]]}
[]
["12 Team Schedule Options"]
["Position",null,"Section 1","Section 2","Section 3","Section 4","Playoff","Weeks","Notes"]
[0,"Straight",11,11,null,null,1,23,"Two Sections + Top 2 Teams "]
[2,"Halves",12,12,null,null,1,25,"Two Sections incl. Position + Top 2 Teams "]
[3,"Thirds",9,9,9,null,1,28,"Three Sections incl. Position + Top Team"]
[0,"Straight",29,null,null,null,1,30,"Play Each Team 2X + 7 Teams "]
[0,"Thirds",10,10,10,null,1,31,"Play Each Team 2X + 8 Teams "]
[4,"Quarters",8,8,8,8,1,33,"Play Each Team incl. Position + 6 Teams"]
[]
[]
["12 Team Schedule Options"]
["Position",null,"Section 1","Section 2","Section 3","Section 4","Playoff","Weeks","Notes"]
[0,"Straight",11,11,null,null,1,23,"Two Sections + Top 2 Teams "]
[2,"Halves",12,12,null,null,1,25,"Two Sections incl. Position + Top 2 Teams "]
[3,"Thirds",9,9,9,null,1,28,"Three Sections incl. Position + Top Team"]
[0,"Straight",29,null,null,null,1,30,"Play Each Team 2X + 7 Teams "]
[0,"Thirds",10,10,10,null,1,31,"Play Each Team 2X + 8 Teams "]
[4,"Quarters",8,8,8,8,1,33,"Play Each Team incl. Position + 6 Teams"]
[]
[]
["12 Team Schedule Options"]
["Position",null,"Section 1","Section 2","Section 3","Section 4","Playoff","Weeks","Notes"]
[0,"Straight",11,11,null,null,1,23,"Two Sections + Top 2 Teams "]
[2,"Halves",12,12,null,null,1,25,"Two Sections incl. Position + Top 2 Teams "]
[3,"Thirds",9,9,9,null,1,28,"Three Sections incl. Position + Top Team"]
[0,"Straight",29,null,null,null,1,30,"Play Each Team 2X + 7 Teams "]
[0,"Thirds",10,10,10,null,1,31,"Play Each Team 2X + 8 Teams "]
[4,"Quarters",8,8,8,8,1,33,"Play Each Team incl. Position + 6 Teams"]

{"sheet":"Envelope Labels","index":20,"n_rows":125,"n_cols":5,"rows_kept":125,"cut":false,"hidden":false,"merged":[]}
[]
[1,{"$f":"\"Team \"&VLOOKUP($A2,Roster!$B$2:$AF$60,1)&\"    \"&VLOOKUP($A2,Roster!$B$2:$AF$60,2)","v":"Team 1    "},null,{"$f":"B2","v":"Team 1    "},20]
[null,null,null,null,20]
[11,{"$f":"_xlfn.IFNA(VLOOKUP($A4,Roster!$A$2:$AF$34,8,0),0)","v":"David Burke"},null,{"$f":"B4","v":"David Burke"},18]
[12,{"$f":"_xlfn.IFNA(VLOOKUP($A5,Roster!$A$2:$AF$34,8,0),0)","v":"Rich Matich"},null,{"$f":"B5","v":"Rich Matich"},18]
[13,{"$f":"_xlfn.IFNA(VLOOKUP($A6,Roster!$A$2:$AF$34,8,0),0)","v":"Cal Shirey"},null,"Cal Shirey",18]
[null,null,null,0,18]
[null,null,null,null,18]
[null,null,null,null,18]
[2,{"$f":"\"Team \"&VLOOKUP($A10,Roster!$B$2:$AF$60,1)&\"    \"&VLOOKUP($A10,Roster!$B$2:$AF$60,2)","v":"Team 2    Rascals"},null,"Team 2    Rascals",20]
[null,null,null,null,20]
[21,{"$f":"_xlfn.IFNA(VLOOKUP($A12,Roster!$A$2:$AF$34,8,0),0)","v":"Marty Bell"},null,"Marty Bell",18]
[22,{"$f":"_xlfn.IFNA(VLOOKUP($A13,Roster!$A$2:$AF$34,8,0),0)","v":"Alex Balok"},null,"Alex Balok",18]
[23,{"$f":"_xlfn.IFNA(VLOOKUP($A14,Roster!$A$2:$AF$34,8,0),0)","v":"Johnny Gonzales"},null,"Johnny Gonzales",18]
[null,null,null,0,18]
[null,null,null,null,8]
[null,null,null,null,18]
[3,{"$f":"\"Team \"&VLOOKUP($A18,Roster!$B$2:$AF$60,1)&\"  \"&VLOOKUP($A18,Roster!$B$2:$AF$60,2)","v":"Team 3  Desert Sun Embroidery"},null,"Team 3  Desert Sun Embroidery",33]
[null,null,null,null,20]
[31,{"$f":"_xlfn.IFNA(VLOOKUP($A20,Roster!$A$2:$AF$34,8,0),0)","v":"Jeff Richard"},null,"Jeff Richard",18]
[32,{"$f":"_xlfn.IFNA(VLOOKUP($A21,Roster!$A$2:$AF$34,8,0),0)","v":"Jerry Elsen"},null,"Jerry Elsen",18]
[33,{"$f":"_xlfn.IFNA(VLOOKUP($A22,Roster!$A$2:$AF$34,8,0),0)","v":"Bill Poff"},null,"Bill Poff",18]
[null,{"$f":"_xlfn.IFNA(VLOOKUP($A23,Roster!$A$2:$AF$34,8,0),0)","v":0},null,{"$f":"B23","v":0},18]
[null,null,null,null,8]
[null,null,null,null,18]
[4,{"$f":"\"Team \"&VLOOKUP($A26,Roster!$B$2:$AF$60,1)&\"    \"&VLOOKUP($A26,Roster!$B$2:$AF$60,2)","v":"Team 4    Pro-Tech"},null,{"$f":"B26","v":"Team 4    Pro-Tech"},33]
[null,null,null,null,20]
[41,{"$f":"_xlfn.IFNA(VLOOKUP($A28,Roster!$A$2:$AF$34,8,0),0)","v":"Dave Schmitz"},null,{"$f":"B28","v":"Dave Schmitz"},18]
[42,{"$f":"_xlfn.IFNA(VLOOKUP($A29,Roster!$A$2:$AF$34,8,0),0)","v":"John Babbitt"},null,{"$f":"B29","v":"John Babbitt"},18]
[43,{"$f":"_xlfn.IFNA(VLOOKUP($A30,Roster!$A$2:$AF$34,8,0),0)","v":"Larry Tolar"},null,{"$f":"B30","v":"Larry Tolar"},18]
[null,{"$f":"_xlfn.IFNA(VLOOKUP($A31,Roster!$A$2:$AF$34,8,0),0)","v":0},null,{"$f":"B31","v":0},18]
[null,null,null,null,18]
[null,null,null,null,18]
[5,{"$f":"\"Team \"&VLOOKUP($A34,Roster!$B$2:$AF$60,1)&\"    \"&VLOOKUP($A34,Roster!$B$2:$AF$60,2)","v":"Team 5    "},null,{"$f":"B34","v":"Team 5    "},33]
[null,null,null,null,20]
[51,{"$f":"_xlfn.IFNA(VLOOKUP($A36,Roster!$A$2:$AF$34,8,0),0)","v":"Dana Barrette"},null,"Dana Barrette",18]
[52,{"$f":"_xlfn.IFNA(VLOOKUP($A37,Roster!$A$2:$AF$34,8,0),0)","v":"Larry Latham"},null,"Larry Latham",18]
[53,{"$f":"_xlfn.IFNA(VLOOKUP($A38,Roster!$A$2:$AF$34,8,0),0)","v":"Bob Reed"},null,"Bob Reed",18]
[null,{"$f":"_xlfn.IFNA(VLOOKUP($A39,Roster!$A$2:$AF$34,8,0),0)","v":0},null,0,18]
[]
[6,{"$f":"\"Team \"&VLOOKUP($A41,Roster!$B$2:$AF$60,1)&\"    \"&VLOOKUP($A41,Roster!$B$2:$AF$60,2)","v":"Team 6    Your Strike Shop"},null,"Team 6    Your Strike Shop",20]
[null,null,null,null,20]
[64,{"$f":"_xlfn.IFNA(VLOOKUP($A43,Roster!$A$2:$AF$34,8,0),0)","v":0},null,0,18]
[62,{"$f":"_xlfn.IFNA(VLOOKUP($A44,Roster!$A$2:$AF$34,8,0),0)","v":"Mike Watt"},null,"Mike Watt",18]
[63,{"$f":"_xlfn.IFNA(VLOOKUP($A45,Roster!$A$2:$AF$34,8,0),0)","v":0},null,0,18]
[null,{"$f":"_xlfn.IFNA(VLOOKUP($A46,Roster!$A$2:$AF$34,8,0),0)","v":0},null,0,18]
[null,null,null,null,18]
[null,null,null,null,18]
[7,{"$f":"\"Team \"&VLOOKUP($A49,Roster!$B$2:$AF$60,1)&\"    \"&VLOOKUP($A49,Roster!$B$2:$AF$60,2)","v":"Team 7    Bitburgers"},null,{"$f":"B49","v":"Team 7    Bitburgers"},20]
[null,null,null,null,20]
[71,{"$f":"_xlfn.IFNA(VLOOKUP($A51,Roster!$A$2:$AF$34,8,0),0)","v":"Paul Kleckner"},null,"Paul Kleckner",18]
[72,{"$f":"_xlfn.IFNA(VLOOKUP($A52,Roster!$A$2:$AF$34,8,0),0)","v":"Bob Edge"},null,"Bob Edge",18]
[73,{"$f":"_xlfn.IFNA(VLOOKUP($A53,Roster!$A$2:$AF$34,8,0),0)","v":"Terry Camp"},null,"Terry Camp",18]
[null,{"$f":"_xlfn.IFNA(VLOOKUP($A54,Roster!$A$2:$AF$34,8,0),0)","v":0},null,0,18]
[null,null,null,null,8]
[null,null,null,null,18]
[8,{"$f":"\"Team \"&VLOOKUP($A57,Roster!$B$2:$AF$60,1)&\"    \"&VLOOKUP($A57,Roster!$B$2:$AF$60,2)","v":"Team 8    Brenda's Kitchen"},null,{"$f":"B57","v":"Team 8    Brenda's Kitchen"},33]
[null,null,null,null,20]
[81,{"$f":"_xlfn.IFNA(VLOOKUP($A59,Roster!$A$2:$AF$34,8,0),0)","v":"Dan Imholte"},null,"Dan Imholte",18]
[82,{"$f":"_xlfn.IFNA(VLOOKUP($A60,Roster!$A$2:$AF$34,8,0),0)","v":"Terry Hamman"},null,"Terry Hamman",18]
[83,{"$f":"_xlfn.IFNA(VLOOKUP($A61,Roster!$A$2:$AF$34,8,0),0)","v":"Gary Bentley"},null,"Gary Bentley",18]
[null,{"$f":"_xlfn.IFNA(VLOOKUP($A62,Roster!$A$2:$AF$34,8,0),0)","v":0},null,0,18]
[null,null,null,null,8]
[null,null,null,null,18]
[9,{"$f":"\"Team \"&VLOOKUP($A65,Roster!$B$2:$AF$60,1)&\"    \"&VLOOKUP($A65,Roster!$B$2:$AF$60,2)","v":"Team 9    "},null,{"$f":"B65","v":"Team 9    "},20]
[null,null,null,null,20]
[91,{"$f":"_xlfn.IFNA(VLOOKUP($A67,Roster!$A$2:$AF$34,8,0),0)","v":"Joe Couch"},null,"Joe Couch",18]
[92,{"$f":"_xlfn.IFNA(VLOOKUP($A68,Roster!$A$2:$AF$34,8,0),0)","v":"Paul Williams"},null,"Paul Williams",18]
[93,{"$f":"_xlfn.IFNA(VLOOKUP($A69,Roster!$A$2:$AF$34,8,0),0)","v":"Ted Bogumil"},null,"Ted Bogumil",18]
[null,{"$f":"_xlfn.IFNA(VLOOKUP($A70,Roster!$A$2:$AF$34,8,0),0)","v":0},null,0,18]
[null,null,null,null,18]
[null,null,null,null,18]
[10,{"$f":"\"Team \"&VLOOKUP($A73,Roster!$B$2:$AF$60,1)&\"    \"&VLOOKUP($A73,Roster!$B$2:$AF$60,2)","v":"Team 10    Vital Care"},null,{"$f":"B73","v":"Team 10    Vital Care"},20]
[null,null,null,null,20]
[101,{"$f":"_xlfn.IFNA(VLOOKUP($A75,Roster!$A$2:$AF$34,8,0),0)","v":"Andy Lewis"},null,"Andy Lewis",18]
[102,{"$f":"_xlfn.IFNA(VLOOKUP($A76,Roster!$A$2:$AF$34,8,0),0)","v":"Dennis Barnes"},null,"Dennis Barnes",18]
[103,{"$f":"_xlfn.IFNA(VLOOKUP($A77,Roster!$A$2:$AF$34,8,0),0)","v":"Gary McCoy"},null,"Gary McCoy",18]
[null,{"$f":"_xlfn.IFNA(VLOOKUP($A78,Roster!$A$2:$AF$34,8,0),0)","v":0},null,0,18]
[null,{"$f":"_xlfn.IFNA(VLOOKUP($A79,Roster!$A$2:$AF$34,8,0),0)","v":0},null,{"$f":"B79","v":0}]
[null,{"$f":"_xlfn.IFNA(VLOOKUP($A80,Roster!$A$2:$AF$34,8,0),0)","v":0},null,0]
[null,null,null,0]
[null,{"$f":"IF(ISNA(MATCH($A82,#REF!,)),0,(\"Team \"&OFFSET(#REF!,MATCH($A82,#REF!,),)))","v":{"$error":"#REF!"}},null,{"$error":"#REF!"}]
[null,{"$f":"IF(ISNA(MATCH($A82,#REF!,)),0,(OFFSET(#REF!,MATCH($A82,#REF!,),)))","v":{"$error":"#REF!"}},null,{"$error":"#REF!"}]
[null,null,null,0]
[null,{"$f":"IF(ISNA(MATCH($A85,#REF!,)),0,(OFFSET(#REF!,MATCH($A85,#REF!,),)))","v":{"$error":"#REF!"}},null,{"$error":"#REF!"}]
[null,{"$f":"IF(ISNA(MATCH($A86,#REF!,)),0,(OFFSET(#REF!,MATCH($A86,#REF!,),)))","v":{"$error":"#REF!"}},null,{"$error":"#REF!"}]
[null,{"$f":"IF(ISNA(MATCH($A87,#REF!,)),0,(OFFSET(#REF!,MATCH($A87,#REF!,),)))","v":{"$error":"#REF!"}},null,{"$error":"#REF!"}]
[null,null,null,0]
[null,{"$f":"IF(ISNA(MATCH($A89,#REF!,)),0,(\"Team \"&OFFSET(#REF!,MATCH($A89,#REF!,),)))","v":{"$error":"#REF!"}},null,{"$error":"#REF!"}]
[null,{"$f":"IF(ISNA(MATCH($A89,#REF!,)),0,(OFFSET(#REF!,MATCH($A89,#REF!,),)))","v":{"$error":"#REF!"}},null,{"$error":"#REF!"}]
[null,null,null,0]
[null,{"$f":"IF(ISNA(MATCH($A92,#REF!,)),0,(OFFSET(#REF!,MATCH($A92,#REF!,),)))","v":{"$error":"#REF!"}},null,{"$error":"#REF!"}]
[null,{"$f":"IF(ISNA(MATCH($A93,#REF!,)),0,(OFFSET(#REF!,MATCH($A93,#REF!,),)))","v":{"$error":"#REF!"}},null,{"$error":"#REF!"}]
[null,{"$f":"IF(ISNA(MATCH($A94,#REF!,)),0,(OFFSET(#REF!,MATCH($A94,#REF!,),)))","v":{"$error":"#REF!"}},null,{"$error":"#REF!"}]
[null,null,null,0]
[null,{"$f":"IF(ISNA(MATCH($A96,#REF!,)),0,(\"Team \"&OFFSET(#REF!,MATCH($A96,#REF!,),)))","v":{"$error":"#REF!"}},null,{"$error":"#REF!"}]
[null,{"$f":"IF(ISNA(MATCH($A96,#REF!,)),0,(OFFSET(#REF!,MATCH($A96,#REF!,),)))","v":{"$error":"#REF!"}},null,{"$error":"#REF!"}]
[null,null,null,0]
[null,{"$f":"IF(ISNA(MATCH($A99,#REF!,)),0,(OFFSET(#REF!,MATCH($A99,#REF!,),)))","v":{"$error":"#REF!"}},null,{"$error":"#REF!"}]
[null,{"$f":"IF(ISNA(MATCH($A100,#REF!,)),0,(OFFSET(#REF!,MATCH($A100,#REF!,),)))","v":{"$error":"#REF!"}},null,{"$error":"#REF!"}]
[null,{"$f":"IF(ISNA(MATCH($A101,#REF!,)),0,(OFFSET(#REF!,MATCH($A101,#REF!,),)))","v":{"$error":"#REF!"}},null,{"$error":"#REF!"}]
[null,null,null,0]
[null,{"$f":"IF(ISNA(MATCH($A103,#REF!,)),0,(\"Team \"&OFFSET(#REF!,MATCH($A103,#REF!,),)))","v":{"$error":"#REF!"}},null,{"$error":"#REF!"}]
[null,{"$f":"IF(ISNA(MATCH($A103,#REF!,)),0,(OFFSET(#REF!,MATCH($A103,#REF!,),)))","v":{"$error":"#REF!"}},null,{"$error":"#REF!"}]
[null,null,null,0]
[null,{"$f":"IF(ISNA(MATCH($A106,#REF!,)),0,(OFFSET(#REF!,MATCH($A106,#REF!,),)))","v":{"$error":"#REF!"}},null,{"$error":"#REF!"}]
[null,{"$f":"IF(ISNA(MATCH($A107,#REF!,)),0,(OFFSET(#REF!,MATCH($A107,#REF!,),)))","v":{"$error":"#REF!"}},null,{"$error":"#REF!"}]
[null,{"$f":"IF(ISNA(MATCH($A108,#REF!,)),0,(OFFSET(#REF!,MATCH($A108,#REF!,),)))","v":{"$error":"#REF!"}},null,{"$error":"#REF!"}]
[]
[]
[]
[null,{"$f":"IF(ISNA(MATCH($A112,#REF!,)),0,(\"Team \"&OFFSET(#REF!,MATCH($A112,#REF!,),)))","v":{"$error":"#REF!"}},null,{"$f":"B$112","v":{"$error":"#REF!"}}]
[null,{"$f":"IF(ISNA(MATCH($A112,#REF!,)),0,(OFFSET(#REF!,MATCH($A112,#REF!,),)))","v":{"$error":"#REF!"}},null,{"$f":"B$113","v":{"$error":"#REF!"}}]
[]
[null,{"$f":"IF(ISNA(MATCH($A115,#REF!,)),0,(OFFSET(#REF!,MATCH($A115,#REF!,),)))","v":{"$error":"#REF!"}},null,{"$f":"B$115","v":{"$error":"#REF!"}}]
[null,{"$f":"IF(ISNA(MATCH($A116,#REF!,)),0,(OFFSET(#REF!,MATCH($A116,#REF!,),)))","v":{"$error":"#REF!"}},null,{"$f":"B$116","v":{"$error":"#REF!"}}]
[null,{"$f":"IF(ISNA(MATCH($A117,#REF!,)),0,(OFFSET(#REF!,MATCH($A117,#REF!,),)))","v":{"$error":"#REF!"}},null,{"$f":"B117","v":{"$error":"#REF!"}}]
[]
[]
[null,{"$f":"IF(ISNA(MATCH($A120,#REF!,)),0,(\"Team \"&OFFSET(#REF!,MATCH($A120,#REF!,),)))","v":{"$error":"#REF!"}},null,{"$f":"B120","v":{"$error":"#REF!"}}]
[null,{"$f":"IF(ISNA(MATCH($A120,#REF!,)),0,(OFFSET(#REF!,MATCH($A120,#REF!,),)))","v":{"$error":"#REF!"}},null,{"$f":"B121","v":{"$error":"#REF!"}}]
[null,null,null,{"$f":"B122","v":0}]
[null,{"$f":"IF(ISNA(MATCH($A123,#REF!,)),0,(OFFSET(#REF!,MATCH($A123,#REF!,),)))","v":{"$error":"#REF!"}},null,{"$f":"B123","v":{"$error":"#REF!"}}]
[null,{"$f":"IF(ISNA(MATCH($A124,#REF!,)),0,(OFFSET(#REF!,MATCH($A124,#REF!,),)))","v":{"$error":"#REF!"}}]
[null,{"$f":"IF(ISNA(MATCH($A125,#REF!,)),0,(OFFSET(#REF!,MATCH($A125,#REF!,),)))","v":{"$error":"#REF!"}}]

{"sheet":"Envelope Fees","index":21,"n_rows":86,"n_cols":17,"rows_kept":86,"cut":false,"hidden":false,"merged":[[43,9,43,10],[43,12,43,13],[43,15,43,16],[0,0,0,7],[14,0,14,7],[28,0,28,7],[43,0,43,1],[43,3,43,4],[43,6,43,7],[54,0,54,1],[54,3,54,4],[54,6,54,7],[54,9,54,10],[54,12,54,13],[76,15,76,16],[0,9,0,10],[14,9,14,10],[28,9,28,10],[76,0,76,1],[76,3,76,4],[76,6,76,7],[76,9,76,10],[76,12,76,13],[54,15,54,16],[65,0,65,1],[65,3,65,4],[65,6,65,7],[65,9,65,10],[65,12,65,13],[65,15,65,16]]}
["Fees Paid by Number of Weeks",null,null,null,null,null,null,null,null,"Fees Paid By Month"]
["Weeks","Fees",null,"Weeks","Fees",null,"Weeks","Fees",null,"Month","Fees"]
[1,{"$f":"'Est. $$$'!E8","v":17},null,{"$f":"A3+10","v":11},{"$f":"D3*17","v":187},null,{"$f":"D3+10","v":21},{"$f":"G3*17","v":357},null,"September",{"$f":"$B$3*4","v":68}]
[2,{"$f":"A4*17","v":34},null,{"$f":"A4+10","v":12},{"$f":"D4*17","v":204},null,{"$f":"D4+10","v":22},{"$f":"G4*17","v":374},null,"October",{"$f":"$B$3*5","v":85}]
[3,51,null,13,221,null,23,391,null,"November",{"$f":"$B$3*4","v":68}]
[4,68,null,14,238,null,24,408,null,"December",{"$f":"$B$3*3","v":51}]
[5,85,null,15,255,null,25,425,null,"January",{"$f":"$B$3*5","v":85}]
[6,102,null,16,272,null,26,442,null,"February",{"$f":"$B$3*4","v":68}]
[7,119,null,17,289,null,27,459,null,"March",{"$f":"$B$3*4","v":68}]
[8,136,null,18,306,null,28,476,null,"April",{"$f":"$B$3*2","v":34}]
[9,153,null,19,323,null,29,493]
[10,170,null,20,340,null,30,510]
[null,null,null,null,null,null,{"$f":"G12+1","v":31},527]
[]
["Fees Paid by Number of Weeks",null,null,null,null,null,null,null,null,"Fees Paid By Month"]
["Weeks","Fees",null,"Weeks","Fees",null,"Weeks","Fees",null,"Month","Fees"]
[1,{"$f":"'Est. $$$'!E22","v":0},null,{"$f":"A17+10","v":11},{"$f":"D17*17","v":187},null,{"$f":"D17+10","v":21},{"$f":"G17*17","v":357},null,"September",{"$f":"$B$3*4","v":68}]
[2,{"$f":"A18*17","v":34},null,{"$f":"A18+10","v":12},{"$f":"D18*17","v":204},null,{"$f":"D18+10","v":22},{"$f":"G18*17","v":374},null,"October",{"$f":"$B$3*5","v":85}]
[3,51,null,13,221,null,23,391,null,"November",{"$f":"$B$3*4","v":68}]
[4,68,null,14,238,null,24,408,null,"December",{"$f":"$B$3*3","v":51}]
[5,85,null,15,255,null,25,425,null,"January",{"$f":"$B$3*5","v":85}]
[6,102,null,16,272,null,26,442,null,"February",{"$f":"$B$3*4","v":68}]
[7,119,null,17,289,null,27,459,null,"March",{"$f":"$B$3*4","v":68}]
[8,136,null,18,306,null,28,476,null,"April",{"$f":"$B$3*2","v":34}]
[9,153,null,19,323,null,29,493]
[10,170,null,20,340,null,30,510]
[null,null,null,null,null,null,{"$f":"G26+1","v":31},527]
[]
["Fees Paid by Number of Weeks",null,null,null,null,null,null,null,null,"Fees Paid By Month"]
["Weeks","Fees",null,"Weeks","Fees",null,"Weeks","Fees",null,"Month","Fees"]
[1,{"$f":"'Est. $$$'!E36","v":0},null,{"$f":"A31+10","v":11},{"$f":"D31*17","v":187},null,{"$f":"D31+10","v":21},{"$f":"G31*17","v":357},null,"September",{"$f":"$B$3*4","v":68}]
[2,{"$f":"A32*17","v":34},null,{"$f":"A32+10","v":12},{"$f":"D32*17","v":204},null,{"$f":"D32+10","v":22},{"$f":"G32*17","v":374},null,"October",{"$f":"$B$3*5","v":85}]
[3,51,null,13,221,null,23,391,null,"November",{"$f":"$B$3*4","v":68}]
[4,68,null,14,238,null,24,408,null,"December",{"$f":"$B$3*3","v":51}]
[5,85,null,15,255,null,25,425,null,"January",{"$f":"$B$3*5","v":85}]
[6,102,null,16,272,null,26,442,null,"February",{"$f":"$B$3*4","v":68}]
[7,119,null,17,289,null,27,459,null,"March",{"$f":"$B$3*4","v":68}]
[8,136,null,18,306,null,28,476,null,"April",{"$f":"$B$3*2","v":34}]
[9,153,null,19,323,null,29,493]
[10,170,null,20,340,null,30,510]
[null,null,null,null,null,null,{"$f":"G40+1","v":31},527]
[]
[]
["Fees Due",null,null,"Fees Due",null,null,"Fees Due",null,null,"Fees Due",null,null,"Fees Due",null,null,"Fees Due"]
["Month","Fees",null,"Month","Fees",null,"Month","Fees",null,"Month","Fees",null,"Month","Fees",null,"Month","Fees"]
["Sep",{"$f":"$B$3*4","v":68},null,"Sep",{"$f":"$B$3*4","v":68},null,"Sep",{"$f":"$B$3*4","v":68},null,"Sep",{"$f":"$B$3*4","v":68},null,"Sep",{"$f":"$B$3*4","v":68},null,"Sep",{"$f":"$B$3*4","v":68}]
["Oct",{"$f":"$B$3*5","v":85},null,"Oct",{"$f":"$B$3*5","v":85},null,"Oct",{"$f":"$B$3*5","v":85},null,"Oct",{"$f":"$B$3*5","v":85},null,"Oct",{"$f":"$B$3*5","v":85},null,"Oct",{"$f":"$B$3*5","v":85}]
["Nov",{"$f":"$B$3*4","v":68},null,"Nov",{"$f":"$B$3*4","v":68},null,"Nov",{"$f":"$B$3*4","v":68},null,"Nov",{"$f":"$B$3*4","v":68},null,"Nov",{"$f":"$B$3*4","v":68},null,"Nov",{"$f":"$B$3*4","v":68}]
["Dec",{"$f":"$B$3*3","v":51},null,"Dec",{"$f":"$B$3*3","v":51},null,"Dec",{"$f":"$B$3*3","v":51},null,"Dec",{"$f":"$B$3*3","v":51},null,"Dec",{"$f":"$B$3*3","v":51},null,"Dec",{"$f":"$B$3*3","v":51}]
["Jan",{"$f":"$B$3*5","v":85},null,"Jan",{"$f":"$B$3*5","v":85},null,"Jan",{"$f":"$B$3*5","v":85},null,"Jan",{"$f":"$B$3*5","v":85},null,"Jan",{"$f":"$B$3*5","v":85},null,"Jan",{"$f":"$B$3*5","v":85}]
["Feb",{"$f":"$B$3*4","v":68},null,"Feb",{"$f":"$B$3*4","v":68},null,"Feb",{"$f":"$B$3*4","v":68},null,"Feb",{"$f":"$B$3*4","v":68},null,"Feb",{"$f":"$B$3*4","v":68},null,"Feb",{"$f":"$B$3*4","v":68}]
["Mar",{"$f":"$B$3*4","v":68},null,"Mar",{"$f":"$B$3*4","v":68},null,"Mar",{"$f":"$B$3*4","v":68},null,"Mar",{"$f":"$B$3*4","v":68},null,"Mar",{"$f":"$B$3*4","v":68},null,"Mar",{"$f":"$B$3*4","v":68}]
["Apr",{"$f":"$B$3*2","v":34},null,"Apr",{"$f":"$B$3*2","v":34},null,"Apr",{"$f":"$B$3*2","v":34},null,"Apr",{"$f":"$B$3*2","v":34},null,"Apr",{"$f":"$B$3*2","v":34},null,"Apr",{"$f":"$B$3*2","v":34}]
[]
["Fees Due",null,null,"Fees Due",null,null,"Fees Due",null,null,"Fees Due",null,null,"Fees Due",null,null,"Fees Due"]
["Month","Fees",null,"Month","Fees",null,"Month","Fees",null,"Month","Fees",null,"Month","Fees",null,"Month","Fees"]
["Sep",{"$f":"$B$3*4","v":68},null,"Sep",{"$f":"$B$3*4","v":68},null,"Sep",{"$f":"$B$3*4","v":68},null,"Sep",{"$f":"$B$3*4","v":68},null,"Sep",{"$f":"$B$3*4","v":68},null,"Sep",{"$f":"$B$3*4","v":68}]
["Oct",{"$f":"$B$3*5","v":85},null,"Oct",{"$f":"$B$3*5","v":85},null,"Oct",{"$f":"$B$3*5","v":85},null,"Oct",{"$f":"$B$3*5","v":85},null,"Oct",{"$f":"$B$3*5","v":85},null,"Oct",{"$f":"$B$3*5","v":85}]
["Nov",{"$f":"$B$3*4","v":68},null,"Nov",{"$f":"$B$3*4","v":68},null,"Nov",{"$f":"$B$3*4","v":68},null,"Nov",{"$f":"$B$3*4","v":68},null,"Nov",{"$f":"$B$3*4","v":68},null,"Nov",{"$f":"$B$3*4","v":68}]
["Dec",{"$f":"$B$3*3","v":51},null,"Dec",{"$f":"$B$3*3","v":51},null,"Dec",{"$f":"$B$3*3","v":51},null,"Dec",{"$f":"$B$3*3","v":51},null,"Dec",{"$f":"$B$3*3","v":51},null,"Dec",{"$f":"$B$3*3","v":51}]
["Jan",{"$f":"$B$3*5","v":85},null,"Jan",{"$f":"$B$3*5","v":85},null,"Jan",{"$f":"$B$3*5","v":85},null,"Jan",{"$f":"$B$3*5","v":85},null,"Jan",{"$f":"$B$3*5","v":85},null,"Jan",{"$f":"$B$3*5","v":85}]
["Feb",{"$f":"$B$3*4","v":68},null,"Feb",{"$f":"$B$3*4","v":68},null,"Feb",{"$f":"$B$3*4","v":68},null,"Feb",{"$f":"$B$3*4","v":68},null,"Feb",{"$f":"$B$3*4","v":68},null,"Feb",{"$f":"$B$3*4","v":68}]
["Mar",{"$f":"$B$3*4","v":68},null,"Mar",{"$f":"$B$3*4","v":68},null,"Mar",{"$f":"$B$3*4","v":68},null,"Mar",{"$f":"$B$3*4","v":68},null,"Mar",{"$f":"$B$3*4","v":68},null,"Mar",{"$f":"$B$3*4","v":68}]
["Apr",{"$f":"$B$3*2","v":34},null,"Apr",{"$f":"$B$3*2","v":34},null,"Apr",{"$f":"$B$3*2","v":34},null,"Apr",{"$f":"$B$3*2","v":34},null,"Apr",{"$f":"$B$3*2","v":34},null,"Apr",{"$f":"$B$3*2","v":34}]
[]
["Fees Due",null,null,"Fees Due",null,null,"Fees Due",null,null,"Fees Due",null,null,"Fees Due",null,null,"Fees Due"]
["Month","Fees",null,"Month","Fees",null,"Month","Fees",null,"Month","Fees",null,"Month","Fees",null,"Month","Fees"]
["Sep",{"$f":"$B$3*4","v":68},null,"Sep",{"$f":"$B$3*4","v":68},null,"Sep",{"$f":"$B$3*4","v":68},null,"Sep",{"$f":"$B$3*4","v":68},null,"Sep",{"$f":"$B$3*4","v":68},null,"Sep",{"$f":"$B$3*4","v":68}]
["Oct",{"$f":"$B$3*5","v":85},null,"Oct",{"$f":"$B$3*5","v":85},null,"Oct",{"$f":"$B$3*5","v":85},null,"Oct",{"$f":"$B$3*5","v":85},null,"Oct",{"$f":"$B$3*5","v":85},null,"Oct",{"$f":"$B$3*5","v":85}]
["Nov",{"$f":"$B$3*4","v":68},null,"Nov",{"$f":"$B$3*4","v":68},null,"Nov",{"$f":"$B$3*4","v":68},null,"Nov",{"$f":"$B$3*4","v":68},null,"Nov",{"$f":"$B$3*4","v":68},null,"Nov",{"$f":"$B$3*4","v":68}]
["Dec",{"$f":"$B$3*3","v":51},null,"Dec",{"$f":"$B$3*3","v":51},null,"Dec",{"$f":"$B$3*3","v":51},null,"Dec",{"$f":"$B$3*3","v":51},null,"Dec",{"$f":"$B$3*3","v":51},null,"Dec",{"$f":"$B$3*3","v":51}]
["Jan",{"$f":"$B$3*5","v":85},null,"Jan",{"$f":"$B$3*5","v":85},null,"Jan",{"$f":"$B$3*5","v":85},null,"Jan",{"$f":"$B$3*5","v":85},null,"Jan",{"$f":"$B$3*5","v":85},null,"Jan",{"$f":"$B$3*5","v":85}]
["Feb",{"$f":"$B$3*4","v":68},null,"Feb",{"$f":"$B$3*4","v":68},null,"Feb",{"$f":"$B$3*4","v":68},null,"Feb",{"$f":"$B$3*4","v":68},null,"Feb",{"$f":"$B$3*4","v":68},null,"Feb",{"$f":"$B$3*4","v":68}]
["Mar",{"$f":"$B$3*4","v":68},null,"Mar",{"$f":"$B$3*4","v":68},null,"Mar",{"$f":"$B$3*4","v":68},null,"Mar",{"$f":"$B$3*4","v":68},null,"Mar",{"$f":"$B$3*4","v":68},null,"Mar",{"$f":"$B$3*4","v":68}]
["Apr",{"$f":"$B$3*2","v":34},null,"Apr",{"$f":"$B$3*2","v":34},null,"Apr",{"$f":"$B$3*2","v":34},null,"Apr",{"$f":"$B$3*2","v":34},null,"Apr",{"$f":"$B$3*2","v":34},null,"Apr",{"$f":"$B$3*2","v":34}]
[]
["Fees Due",null,null,"Fees Due",null,null,"Fees Due",null,null,"Fees Due",null,null,"Fees Due",null,null,"Fees Due"]
["Month","Fees",null,"Month","Fees",null,"Month","Fees",null,"Month","Fees",null,"Month","Fees",null,"Month","Fees"]
["Sep",{"$f":"$B$3*4","v":68},null,"Sep",{"$f":"$B$3*4","v":68},null,"Sep",{"$f":"$B$3*4","v":68},null,"Sep",{"$f":"$B$3*4","v":68},null,"Sep",{"$f":"$B$3*4","v":68},null,"Sep",{"$f":"$B$3*4","v":68}]
["Oct",{"$f":"$B$3*5","v":85},null,"Oct",{"$f":"$B$3*5","v":85},null,"Oct",{"$f":"$B$3*5","v":85},null,"Oct",{"$f":"$B$3*5","v":85},null,"Oct",{"$f":"$B$3*5","v":85},null,"Oct",{"$f":"$B$3*5","v":85}]
["Nov",{"$f":"$B$3*4","v":68},null,"Nov",{"$f":"$B$3*4","v":68},null,"Nov",{"$f":"$B$3*4","v":68},null,"Nov",{"$f":"$B$3*4","v":68},null,"Nov",{"$f":"$B$3*4","v":68},null,"Nov",{"$f":"$B$3*4","v":68}]
["Dec",{"$f":"$B$3*3","v":51},null,"Dec",{"$f":"$B$3*3","v":51},null,"Dec",{"$f":"$B$3*3","v":51},null,"Dec",{"$f":"$B$3*3","v":51},null,"Dec",{"$f":"$B$3*3","v":51},null,"Dec",{"$f":"$B$3*3","v":51}]
["Jan",{"$f":"$B$3*5","v":85},null,"Jan",{"$f":"$B$3*5","v":85},null,"Jan",{"$f":"$B$3*5","v":85},null,"Jan",{"$f":"$B$3*5","v":85},null,"Jan",{"$f":"$B$3*5","v":85},null,"Jan",{"$f":"$B$3*5","v":85}]
["Feb",{"$f":"$B$3*4","v":68},null,"Feb",{"$f":"$B$3*4","v":68},null,"Feb",{"$f":"$B$3*4","v":68},null,"Feb",{"$f":"$B$3*4","v":68},null,"Feb",{"$f":"$B$3*4","v":68},null,"Feb",{"$f":"$B$3*4","v":68}]
["Mar",{"$f":"$B$3*4","v":68},null,"Mar",{"$f":"$B$3*4","v":68},null,"Mar",{"$f":"$B$3*4","v":68},null,"Mar",{"$f":"$B$3*4","v":68},null,"Mar",{"$f":"$B$3*4","v":68},null,"Mar",{"$f":"$B$3*4","v":68}]
["Apr",{"$f":"$B$3*2","v":34},null,"Apr",{"$f":"$B$3*2","v":34},null,"Apr",{"$f":"$B$3*2","v":34},null,"Apr",{"$f":"$B$3*2","v":34},null,"Apr",{"$f":"$B$3*2","v":34},null,"Apr",{"$f":"$B$3*2","v":34}]

{"sheet":"Sheet1","index":22,"n_rows":0,"n_cols":0,"rows_kept":0,"cut":false,"hidden":false,"merged":[]}

{"sheet":"Tm Points","index":23,"n_rows":19,"n_cols":10,"rows_kept":19,"cut":false,"hidden":false,"merged":[[0,2,0,3],[0,4,0,5],[0,6,0,7]]}
[null,null,"1st Segment",null,"2nd Segment",null,"3rd Segment",null,"Total"]
["Team",null,null,"Points 1",null,"Points 2",null,"Points 3","Points Ttl","Playoff"]
[1,{"$f":"\"Team \"&VLOOKUP(A3,Roster!$B$2:$AF$33,1)&\"  \"&VLOOKUP(A3,Roster!$B$2:$AF$33,2)","v":"Team 1  "},null,null,null,null,null,null,null,1]
[2,{"$f":"\"Team \"&VLOOKUP(A4,Roster!$B$2:$AF$33,1)&\"  \"&VLOOKUP(A4,Roster!$B$2:$AF$33,2)","v":"Team 2  Rascals"},null,null,null,null,null,null,null,3]
[3,{"$f":"\"Team \"&VLOOKUP(A5,Roster!$B$2:$AF$33,1)&\"  \"&VLOOKUP(A5,Roster!$B$2:$AF$33,2)","v":"Team 3  Desert Sun Embroidery"},null,null,null,null,null,null,null,4]
[4,{"$f":"\"Team \"&VLOOKUP(A6,Roster!$B$2:$AF$33,1)&\"  \"&VLOOKUP(A6,Roster!$B$2:$AF$33,2)","v":"Team 4  Pro-Tech"},null,null,null,null,null,null,null,2]
[5,{"$f":"\"Team \"&VLOOKUP(A7,Roster!$B$2:$AF$33,1)&\"  \"&VLOOKUP(A7,Roster!$B$2:$AF$33,2)","v":"Team 5  "}]
[6,{"$f":"\"Team \"&VLOOKUP(A8,Roster!$B$2:$AF$33,1)&\"  \"&VLOOKUP(A8,Roster!$B$2:$AF$33,2)","v":"Team 6  Your Strike Shop"}]
[7,{"$f":"\"Team \"&VLOOKUP(A9,Roster!$B$2:$AF$33,1)&\"  \"&VLOOKUP(A9,Roster!$B$2:$AF$33,2)","v":"Team 7  Bitburgers"}]
[8,{"$f":"\"Team \"&VLOOKUP(A10,Roster!$B$2:$AF$33,1)&\"  \"&VLOOKUP(A10,Roster!$B$2:$AF$33,2)","v":"Team 8  Brenda's Kitchen"}]
[9,{"$f":"\"Team \"&VLOOKUP(A11,Roster!$B$2:$AF$33,1)&\"  \"&VLOOKUP(A11,Roster!$B$2:$AF$33,2)","v":"Team 9  "}]
[10,{"$f":"\"Team \"&VLOOKUP(A12,Roster!$B$2:$AF$33,1)&\"  \"&VLOOKUP(A12,Roster!$B$2:$AF$33,2)","v":"Team 10  Vital Care"}]
[]
[null,null,null,{"$f":"SUM(D3:D12)","v":0},null,{"$f":"SUM(F3:F12)","v":0},null,{"$f":"SUM(H3:H12)","v":0}]
[]
[]
[]
[]
[null,null,null,{"$f":"17-0.5-8.4","v":8.1},null,{"$f":"D19*30","v":243}]

{"sheet":"Prize List","index":24,"n_rows":45,"n_cols":28,"rows_kept":45,"cut":false,"hidden":false,"merged":[[3,0,3,2],[22,11,22,21],[0,0,0,5],[0,11,0,27],[1,0,1,5],[1,11,1,27],[2,11,2,15],[2,17,2,21],[2,23,2,27]]}
["Classic League Prize Fund 2015-2016",null,null,null,null,null,null,null,null,null,null,"Classic League Team Awards 2015-2016"]
["Estimated Available Funds",null,null,null,null,null,null,null,null,null,null,"Team Awards Listed by Place"]
["Estimated Available Funds",null,null,null,null,{"$f":"'Est. $$$'!G20","v":7710.3099999999995},null,null,null,null,null,"1st Segment Team Awards",null,null,null,null,null,"2nd Segment Team Awards",null,null,null,null,null,"3rd Segment Team Awards"]
["Special Awards",null,null,null,null,"Totals",null,null,null,null,null,"Place","#","Team","1st 3rd","Each",null,"Place","#","Team","2nd Third","Each",null,"Place","#","Team","2nd Third","Each"]
["High Average ",null,null,null,null,35,null,null,null,null,null,1,null,null,{"$f":"P5*3","v":240},80,null,1,null,null,{"$f":"V5*3","v":240},{"$f":"P5","v":80},null,1,null,null,{"$f":"AB5*3","v":240},{"$f":"P5","v":80}]
["Bowler High Game ","Est. 5 bowlers tied @ $20 ea, $100 Total",null,null,null,100,null,null,null,null,null,2,null,null,{"$f":"P6*3","v":225},{"$f":"P5-5","v":75},null,2,null,null,{"$f":"V6*3","v":225},{"$f":"V5-5","v":75},null,2,null,null,{"$f":"AB6*3","v":225},{"$f":"AB5-5","v":75}]
[null,null,null,null,null,null,null,null,null,null,null,3,null,null,210,70,null,3,null,null,210,70,null,3,null,null,210,70]
["Bowler High Series","1st","2nd","3rd",null,null,null,null,null,null,null,4,null,null,195,65,null,4,null,null,195,65,null,4,null,null,195,65]
["Bowler Award",40,30,20,null,{"$f":"B9+C9+D9","v":90},null,null,null,null,null,5,null,null,180,60,null,5,null,null,180,60,null,5,null,null,180,60]
[null,null,null,null,null,null,null,null,null,null,null,6,null,null,165,55,null,6,null,null,165,55,null,6,null,null,165,55]
[null,null,null,null,null,null,null,null,null,null,null,7,null,null,150,50,null,7,null,null,150,50,null,7,null,null,150,50]
["Team High Game","1st","2nd","3rd",null,null,null,null,null,null,null,8,null,null,135,45,null,8,null,null,135,45,null,8,null,null,135,45]
["Team Award",60,45,30,null,{"$f":"B13+C13+D13","v":135},null,null,null,null,null,9,null,null,120,40,null,9,null,null,120,40,null,9,null,null,120,40]
["Each Bowler",{"$f":"B13/3","v":20},{"$f":"C13/3","v":15},{"$f":"D13/3","v":10},null,null,null,null,null,null,null,10,null,null,105,35,null,10,null,null,105,35,null,10,null,null,105,35]
[null,null,null,null,null,null,null,null,null,null,null,11,null,null,null,null,null,11,null,null,null,null,null,11]
["Team High Series","1st","2nd","3rd",null,null,null,null,null,null,null,12,null,null,null,null,null,12,null,null,null,null,null,12]
["Team Award",90,60,45,null,{"$f":"B17+C17+D17","v":195},null,null,null,null,null,13,null,null,null,null,null,13,null,null,null,null,null,13]
["Each Bowler",{"$f":"B17/3","v":30},{"$f":"C17/3","v":20},{"$f":"D17/3","v":15},null,null,null,null,null,null,null,14,null,null,null,null,null,14,null,null,null,null,null,14]
[null,null,null,null,null,null,null,null,null,null,null,15,null,null,null,null,null,15,null,null,null,null,null,15]
[null,null,null,null,null,null,null,null,null,null,null,16,null,null,null,null,null,16,null,null,null,null,null,16]
["Special Awards Total",{"$f":"B9+B13+B17","v":190},{"$f":"C9+C13+C17","v":135},{"$f":"D9+D13+D17","v":95},null,{"$f":"F5+C6+F9+F13+F17","v":455},null,null,null,null,null,null,null,null,{"$f":"SUM(O5:O20)","v":1725},null,null,null,null,null,{"$f":"SUM(U5:U20)","v":1725},null,null,null,null,null,{"$f":"SUM(AA5:AA20)","v":1725}]
[]
[]
["Team and Championship"]
["Team Championship","Total","1st","2nd","3rd"]
["Championship 1st Segment",{"$f":"C26+D26+E26","v":135},60,45,30,{"$f":"B26","v":135}]
["Each Bowler",{"$f":"B26/3","v":45},{"$f":"C26/3","v":20},{"$f":"D26/3","v":15},{"$f":"E26/3","v":10}]
[]
["Championship 2nd Segment",{"$f":"B26","v":135},{"$f":"C26","v":60},{"$f":"D26","v":45},{"$f":"E26","v":30},{"$f":"B29","v":135}]
["Each Bowler",{"$f":"B29/3","v":45},{"$f":"C29/3","v":20},{"$f":"D29/3","v":15},{"$f":"E29/3","v":10}]
[]
["Championship 2nd Segment",{"$f":"B26","v":135},{"$f":"C26","v":60},{"$f":"D26","v":45},{"$f":"E26","v":30},{"$f":"B32","v":135}]
["Each Bowler",{"$f":"B32/3","v":45},{"$f":"C32/3","v":20},{"$f":"D32/3","v":15},{"$f":"E32/3","v":10}]
[]
["Team Awards 1st Third",{"$f":"O21","v":1725},"see Reference Table",null,null,{"$f":"B35","v":1725}]
["Team Awards 2nd Third",{"$f":"U21","v":1725},"see Reference Table",null,null,{"$f":"B36","v":1725}]
["Team Awards 3rd Third",{"$f":"AA21","v":1725},"see Reference Table",null,null,{"$f":"B37","v":1725}]
[]
["League Championship"]
["League Championship","1st","2nd","3rd","4th "]
["Team",150,105,60,45,{"$f":"B41+C41+D41+E41","v":360}]
["Each Bowler",{"$f":"B41/3","v":50},{"$f":"C41/3","v":35},{"$f":"D41/3","v":20},{"$f":"E41/3","v":15}]
[]
["Grand Total",null,null,null,null,{"$f":"F21+F26+F29+F32+F35+F36+F37+F41","v":6395}]
["Carried Over to Next Season",null,null,null,null,{"$f":"F3-F44","v":1315.3099999999995}]

{"sheet":"Sweeper","index":25,"n_rows":37,"n_cols":22,"rows_kept":37,"cut":false,"hidden":false,"merged":[[0,1,0,17],[1,1,1,7],[1,9,1,21]]}
[null,"Sweeper Calculations for Singles and Doubles"]
[null,"Singles",null,null,null,null,null,null,null,"Doubles"]
["ID","Bowler","Avg","Score","+ / -",null,"Place","Award",null,null,"B1","Bowler","+ / -",null,null,"B2","Bowler","+ / -","TOTAL\nTeam",null,"Place","Award"]
[null,{"$f":"_xlfn.IFNA(VLOOKUP($A4,Roster!$A$2:$AF$33,8,0),0)","v":0},null,null,{"$f":"D4-(C4*4)","v":0},null,1,20,null,{"$f":"IF(ISNA(MATCH($K4,$A$4:$A$118,)),0,MATCH($K4,$A$4:$A$118,))","v":0},null,{"$f":"IF(K4=0,\"\",OFFSET($B$3,J4,))","v":""},{"$f":"IF(K4=0,0,OFFSET($E$3,J4,))","v":0},null,{"$f":"IF(ISNA(MATCH($P4,$A$4:$A$515,)),0,MATCH($P4,$A$4:$A$515,))","v":0},null,{"$f":"IF(P4=0,\"\",OFFSET($B$3,O4,))","v":""},{"$f":"IF(P4=0,0,OFFSET($E$3,O4,))","v":0},{"$f":"IF(OR(L4=\"\",Q4=\"\"),-5000,M4+R4)","v":-5000},null,1]
[null,{"$f":"_xlfn.IFNA(VLOOKUP($A5,Roster!$A$2:$AF$33,8,0),0)","v":0},null,null,0,null,2,20,null,0,null,"",0,null,0,null,"",0,-5000,null,2]
[null,{"$f":"_xlfn.IFNA(VLOOKUP($A6,Roster!$A$2:$AF$33,8,0),0)","v":0},null,null,0,null,3,20,null,0,null,"",0,null,0,null,"",0,-5000,null,3]
[null,{"$f":"_xlfn.IFNA(VLOOKUP($A7,Roster!$A$2:$AF$33,8,0),0)","v":0},null,null,0,null,4,19,null,0,null,"",0,null,0,null,"",0,-5000,null,4]
[null,{"$f":"_xlfn.IFNA(VLOOKUP($A8,Roster!$A$2:$AF$33,8,0),0)","v":0},null,null,0,null,5,19,null,0,null,"",0,"`",0,null,"",0,-5000,null,5]
[null,{"$f":"_xlfn.IFNA(VLOOKUP($A9,Roster!$A$2:$AF$33,8,0),0)","v":0},null,null,0,null,6,18,null,0,null,"",0,null,0,null,"",0,-5000,null,6]
[null,{"$f":"_xlfn.IFNA(VLOOKUP($A10,Roster!$A$2:$AF$33,8,0),0)","v":0},null,null,0,null,7,18,null,0,null,"",0,null,0,null,"",0,-5000,null,7]
[null,{"$f":"_xlfn.IFNA(VLOOKUP($A11,Roster!$A$2:$AF$33,8,0),0)","v":0},null,null,0,null,8,17,null,0,null,"",0,null,0,null,"",0,-5000,null,8]
[null,{"$f":"_xlfn.IFNA(VLOOKUP($A12,Roster!$A$2:$AF$33,8,0),0)","v":0},null,null,0,null,9,17,null,0,null,"",0,null,0,null,"",0,-5000,null,9]
[null,{"$f":"_xlfn.IFNA(VLOOKUP($A13,Roster!$A$2:$AF$33,8,0),0)","v":0},null,null,0,null,10,16,null,0,null,"",0,null,0,null,"",0,-5000,null,10]
[null,{"$f":"_xlfn.IFNA(VLOOKUP($A14,Roster!$A$2:$AF$33,8,0),0)","v":0},null,null,0,null,11,16,null,0,null,"",0,null,0,null,"",0,-5000,null,11]
[null,{"$f":"_xlfn.IFNA(VLOOKUP($A15,Roster!$A$2:$AF$33,8,0),0)","v":0},null,null,0,null,12,15,null,0,null,"",0,null,0,null,"",0,-5000,null,12]
[null,{"$f":"_xlfn.IFNA(VLOOKUP($A16,Roster!$A$2:$AF$33,8,0),0)","v":0},null,null,0,null,13,15,null,0,null,"",0,null,0,null,"",0,-5000,null,13]
[null,{"$f":"_xlfn.IFNA(VLOOKUP($A17,Roster!$A$2:$AF$33,8,0),0)","v":0},null,null,0,null,14,14,null,0,null,"",0,null,0,null,"",0,-5000,null,14]
[null,{"$f":"_xlfn.IFNA(VLOOKUP($A18,Roster!$A$2:$AF$33,8,0),0)","v":0},null,null,0,null,15,14,null,0,null,"",0,null,0,null,"",0,-5000,null,15]
[null,{"$f":"_xlfn.IFNA(VLOOKUP($A19,Roster!$A$2:$AF$33,8,0),0)","v":0},null,null,0,null,16,14,null,0,null,"",0,null,0,null,"",0,-5000,null,17]
[null,{"$f":"_xlfn.IFNA(VLOOKUP($A20,Roster!$A$2:$AF$33,8,0),0)","v":0},null,null,0,null,17,13,null,0,null,"",0,null,0,null,"",0,-5000,null,18]
[null,{"$f":"_xlfn.IFNA(VLOOKUP($A21,Roster!$A$2:$AF$33,8,0),0)","v":0},null,null,0,null,18,13,null,0,null,"",0,null,0,null,"",0,-5000,null,19]
[null,{"$f":"_xlfn.IFNA(VLOOKUP($A22,Roster!$A$2:$AF$33,8,0),0)","v":0},null,null,0,null,19,12,null,0,null,"",0,null,0,null,"",0,-5000,null,20]
[null,{"$f":"_xlfn.IFNA(VLOOKUP($A23,Roster!$A$2:$AF$33,8,0),0)","v":0},null,null,0,null,20,12,null,0,null,"",0,null,0,null,"",0,-5000,null,21]
[null,{"$f":"_xlfn.IFNA(VLOOKUP($A24,Roster!$A$2:$AF$33,8,0),0)","v":0},null,null,0,null,21,11,null,0,null,"",0,null,0,null,"",0,-5000,null,22]
[null,{"$f":"_xlfn.IFNA(VLOOKUP($A25,Roster!$A$2:$AF$33,8,0),0)","v":0},null,null,0,null,22,11,null,0,null,"",0,null,0,null,"",0,-5000,null,23]
[null,{"$f":"_xlfn.IFNA(VLOOKUP($A26,Roster!$A$2:$AF$33,8,0),0)","v":0},null,null,0,null,23,11,null,0,null,"",0,null,0,null,"",0,-5000,null,24]
[null,{"$f":"_xlfn.IFNA(VLOOKUP($A27,Roster!$A$2:$AF$33,8,0),0)","v":0},null,null,0,null,24,10,null,0,null,"",0,null,0,null,"",0,-5000,null,25]
[null,{"$f":"_xlfn.IFNA(VLOOKUP($A28,Roster!$A$2:$AF$33,8,0),0)","v":0},null,null,0,null,25,10,null,0,null,"",0,null,0,null,"",0,-5000,null,26]
[null,{"$f":"_xlfn.IFNA(VLOOKUP($A29,Roster!$A$2:$AF$33,8,0),0)","v":0},null,null,0,null,26,null,null,0,null,"",0,null,0,null,"",0,-5000]
[null,{"$f":"_xlfn.IFNA(VLOOKUP($A30,Roster!$A$2:$AF$33,8,0),0)","v":0},null,null,0,null,27,null,null,0,null,"",0,null,0,null,"",0,-5000]
[null,{"$f":"_xlfn.IFNA(VLOOKUP($A31,Roster!$A$2:$AF$33,8,0),0)","v":0},null,null,0,null,28,null,null,0,null,"",0,null,0,null,"",0,-5000]
[null,{"$f":"_xlfn.IFNA(VLOOKUP($A32,Roster!$A$2:$AF$33,8,0),0)","v":0},null,null,0,null,29,null,null,0,null,"",0,null,0,null,"",0,-5000]
[null,{"$f":"_xlfn.IFNA(VLOOKUP($A33,Roster!$A$2:$AF$33,8,0),0)","v":0},null,null,0,null,30,null,null,0,null,"",0,null,0,null,"",0,-5000]
[null,null,null,null,null,null,"Total",{"$f":"SUM(H4:H33)","v":375}]
[null,null,null,null,null,null,null,null,null,null,null,null,null,null,null,null,null,null,null,null,null,{"$f":"SUM(V4:V33)","v":0}]
[null,null,"Fee","Expense","Bowlers",null,"Avail.",null,null,null,null,null,null,null,null,null,null,null,"Avail."]
[null,null,17,4.5,30,null,{"$f":"(C37-D37)*E37","v":375},null,null,null,null,null,null,null,null,null,null,null,"Variance",null,null,{"$f":"V35-V36","v":0}]

{"sheet":"Playoff","index":26,"n_rows":48,"n_cols":14,"rows_kept":48,"cut":false,"hidden":false,"merged":[[12,5,12,6],[12,3,12,4],[12,1,12,2],[22,1,22,2],[2,3,2,4],[2,1,2,2],[2,5,2,6],[22,3,22,4],[22,5,22,6],[31,0,33,0],[1,0,3,0],[42,1,42,4],[22,7,22,8],[32,7,32,8],[32,5,32,6],[32,3,32,4],[32,1,32,2],[11,0,13,0],[21,0,23,0],[2,7,2,8],[1,1,1,8],[11,1,11,8],[21,1,21,8],[31,1,31,8],[12,7,12,8]]}
[null,null,null,null,null,null,null,null,null,null,"Team"]
[{"$f":"C10+E10+G10+I10","v":54.5},{"$f":"\"Team \"&VLOOKUP(K2,Roster!$B$2:$AF$33,1)&\"  \"&VLOOKUP(K2,Roster!$B$2:$AF$33,2)","v":"Team 1  "},null,null,null,null,null,null,null,null,1,{"$f":"K2*10+1","v":11},{"$f":"L2+1","v":12},{"$f":"M2+1","v":13}]
[null,{"$f":"VLOOKUP(L2,Roster!$A$2:$AF$33,8)","v":"David Burke"},null,{"$f":"VLOOKUP(M2,Roster!$A$2:$AF$33,8)","v":"Rich Matich"},null,{"$f":"VLOOKUP(N2,Roster!$A$2:$AF$33,8)","v":"Cal Shirey"},null,"Team"]
[null,"Score","Points","Score","Points","Score","Points","Score","Points"]
["Game 1",225,3.5,243,3,212,2,{"$f":"B5+D5+F5","v":680},2]
["Game 2",174,1,234,3,209,2.5,{"$f":"B6+D6+F6","v":617},2]
["Game 3",176,3,205,2,223,3.5,{"$f":"B7+D7+F7","v":604},3]
["Game 4",199,2,256,4,225,4,{"$f":"B8+D8+F8","v":680},4]
["Series",{"$f":"B5+B6+B7+B8","v":774},2,{"$f":"D5+D6+D7+D8","v":938},4,{"$f":"F5+F6+F7+F8","v":869},2,{"$f":"H5+H6+H7+H8","v":2581},2]
[null,null,{"$f":"C5+C6+C7+C8+C9","v":11.5},null,{"$f":"E5+E6+E7+E8+E9","v":16},null,{"$f":"G5+G6+G7+G8+G9","v":14},null,{"$f":"I5+I6+I7+I8+I9","v":13}]
[]
[{"$f":"C20+E20+G20+I20","v":26.5},{"$f":"\"Team \"&VLOOKUP(K12,Roster!$B$2:$AF$33,1)&\"  \"&VLOOKUP(K12,Roster!$B$2:$AF$33,2)","v":"Team 2  Rascals"},null,null,null,null,null,null,null,null,2,{"$f":"K12*10+1","v":21},{"$f":"L12+1","v":22},{"$f":"M12+1","v":23}]
[null,{"$f":"VLOOKUP(L12,Roster!$A$2:$AF$33,8)","v":"Marty Bell"},null,{"$f":"VLOOKUP(M12,Roster!$A$2:$AF$33,8)","v":"Alex Balok"},null,{"$f":"VLOOKUP(N12,Roster!$A$2:$AF$33,8)","v":"Johnny Gonzales"},null,"Team"]
[null,"Score","Points","Score","Points","Score","Points","Score","Points"]
["Game 1",194,1,195,1,180,1,{"$f":"B15+D15+F15","v":569},1]
["Game 2",180,2,214,2,209,2.5,{"$f":"B16+D16+F16","v":603},1]
["Game 3",160,1,213,3,162,1,{"$f":"B17+D17+F17","v":535},1]
["Game 4",175,1,193,1,199,2,{"$f":"B18+D18+F18","v":567},1]
["Series",{"$f":"B15+B16+B17+B18","v":709},1,{"$f":"D15+D16+D17+D18","v":815},1,{"$f":"F15+F16+F17+F18","v":750},1,{"$f":"H15+H16+H17+H18","v":2274},1]
[null,null,{"$f":"C15+C16+C17+C18+C19","v":6},null,{"$f":"E15+E16+E17+E18+E19","v":8},null,{"$f":"G15+G16+G17+G18+G19","v":7.5},null,{"$f":"I15+I16+I17+I18+I19","v":5}]
[]
[{"$f":"C30+E30+G30+I30","v":59.5},{"$f":"\"Team \"&VLOOKUP(K22,Roster!$B$2:$AF$33,1)&\"  \"&VLOOKUP(K22,Roster!$B$2:$AF$33,2)","v":"Team 3  Desert Sun Embroidery"},null,null,null,null,null,null,null,null,3,{"$f":"K22*10+1","v":31},{"$f":"L22+1","v":32},{"$f":"M22+1","v":33}]
[null,{"$f":"VLOOKUP(L22,Roster!$A$2:$AF$33,8)","v":"Jeff Richard"},null,{"$f":"VLOOKUP(M22,Roster!$A$2:$AF$33,8)","v":"Jerry Elsen"},null,{"$f":"VLOOKUP(N22,Roster!$A$2:$AF$33,8)","v":"Bill Poff"},null,"Team"]
[null,"Score","Points","Score","Points","Score","Points","Score","Points"]
["Game 1",216,2,249,4,249,4,{"$f":"B25+D25+F25","v":714},4]
["Game 2",203,3,259,4,200,1,{"$f":"B26+D26+F26","v":662},4]
["Game 3",165,2,191,1,223,3.5,{"$f":"B27+D27+F27","v":579},2]
["Game 4",233,4,224,3,200,3,{"$f":"B28+D28+F28","v":657},3]
["Series",{"$f":"B25+B26+B27+B28","v":817},3,{"$f":"D25+D26+D27+D28","v":923},3,{"$f":"F25+F26+F27+F28","v":872},3,{"$f":"H25+H26+H27+H28","v":2612},3]
[null,null,{"$f":"C25+C26+C27+C28+C29","v":14},null,{"$f":"E25+E26+E27+E28+E29","v":15},null,{"$f":"G25+G26+G27+G28+G29","v":14.5},null,{"$f":"I25+I26+I27+I28+I29","v":16}]
[]
[{"$f":"C40+E40+G40+I40","v":59.5},{"$f":"\"Team \"&VLOOKUP(K32,Roster!$B$2:$AF$33,1)&\"  \"&VLOOKUP(K32,Roster!$B$2:$AF$33,2)","v":"Team 4  Pro-Tech"},null,null,null,null,null,null,null,null,4,{"$f":"K32*10+1","v":41},{"$f":"L32+1","v":42},{"$f":"M32+1","v":43}]
[null,{"$f":"VLOOKUP(L32,Roster!$A$2:$AF$33,8)","v":"Dave Schmitz"},null,{"$f":"VLOOKUP(M32,Roster!$A$2:$AF$33,8)","v":"John Babbitt"},null,{"$f":"VLOOKUP(N32,Roster!$A$2:$AF$33,8)","v":"Larry Tolar"},null,"Team"]
[null,"Score","Points","Score","Points","Score","Points","Score","Points"]
["Game 1",225,3.5,234,2,245,3,{"$f":"B35+D35+F35","v":704},3]
["Game 2",224,4,175,1,249,4,{"$f":"B36+D36+F36","v":648},3]
["Game 3",247,4,214,4,217,2,{"$f":"B37+D37+F37","v":678},4]
["Game 4",215,3,203,2,194,1,{"$f":"B38+D38+F38","v":612},2]
["Series",{"$f":"B35+B36+B37+B38","v":911},4,{"$f":"D35+D36+D37+D38","v":826},2,{"$f":"F35+F36+F37+F38","v":905},4,{"$f":"H38+H37+H36+H35","v":2642},4]
[null,null,{"$f":"C35+C36+C37+C38+C39","v":18.5},null,{"$f":"E35+E36+E37+E38+E39","v":11},null,{"$f":"G35+G36+G37+G38+G39","v":14},null,{"$f":"I35+I36+I37+I38+I39","v":16}]
[]
[]
[null,"Points Awarded for Bowlers and Teams",null,null,null,null,"Championship","Team","Each"]
[null,null,"1st Place",4,null,null,"1st Place",120,{"$f":"H44/3","v":40}]
[null,null,"2nd Place",3,null,null,"2nd Place",90,{"$f":"H45/3","v":30}]
[null,null,"3rd Place",2,null,null,"3rd Place",60,{"$f":"H46/3","v":20}]
[null,null,"4th Place",1,null,null,"4th Place",45,{"$f":"H47/3","v":15}]
[null,null,null,null,null,null,"Total",{"$f":"SUM(H44:H47)","v":315}]

{"sheet":"Fncl Statement","index":27,"n_rows":40,"n_cols":11,"rows_kept":40,"cut":false,"hidden":false,"merged":[[40,5,40,7],[41,5,41,7],[0,0,0,4],[1,0,1,4],[2,0,2,4],[2,6,2,9],[3,0,3,4],[5,1,5,2],[6,1,6,2],[7,1,7,2],[8,1,8,2],[11,1,11,2],[12,1,12,2],[13,1,13,2],[14,1,14,2],[15,1,15,2]]}
["Classic Bowling League"]
["2017 - 2018 Financial Statement"]
["As of 9/5/2017"]
[]
["Income"]
[null,"Bank Balance as of 9/5/2017",null,null,{"$f":"Financial!AW724","v":9324.3100000000013}]
[null,"League Fees (Lineage, Prize, Sec.)",null,null,{"$f":"Financial!AN724-Financial!AR724-Financial!AN719","v":-765}]
[null,"Bowler's USBC Dues Received",null,null,{"$f":"Financial!AR724","v":0}]
[null,"50/50 Income",null,null,0]
[null,null,"Total Assets",null,{"$f":"SUM(E6:E9)","v":8559.3100000000013}]
["Expenses"]
[null,"Lineage Paid to Johnson Lanes",null,null,{"$f":"Financial!AQ724","v":0}]
[null,"Secretary Fee's",null,null,{"$f":"Financial!AS724","v":0}]
[null,"USBC Dues Paid",null,null,{"$f":"E8","v":0}]
[null,"Bowler Refunds",null,null,{"$f":"Financial!AT724","v":0}]
[null,"Bank Fees - (Overdrafts, Debits, Checks)",null,null,null,null,null,null,null,51.31,"Bank Bal"]
[null,null,"Total Expenses",null,{"$f":"SUM(E11:E16)","v":0},null,null,null,null,null,"Open Amounts"]
[null,null,null,null,null,null,null,null,null,{"$f":"J16-J17","v":51.31},"Bank Balance"]
[null,null,null,null,null,null,null,null,null,51.31,"Checkbook Balance"]
[null,null,null,null,null,null,null,null,null,{"$f":"J18-J19","v":0},"Variance"]
["Available League Prize Fund",null,null,null,{"$f":"E10-E17","v":8559.3100000000013}]
[null,"(Total income minus total expenses)"]
[]
[null,"Prize Awards Brakedown"]
[null,null,"Bowler High Average",null,{"$f":"'Prize Fund'!G37","v":50}]
[null,null,"Bowler High Points",null,{"$f":"'Prize Fund'!G38+'Prize Fund'!H38","v":90}]
[null,null,"Bowler High Game",null,{"$f":"'Prize Fund'!G39+'Prize Fund'!H39","v":80}]
[null,null,"Bowler High Series",null,{"$f":"'Prize Fund'!G40+'Prize Fund'!H40","v":80}]
[null,null,"Team High Game",null,{"$f":"'Prize Fund'!G43+'Prize Fund'!H43","v":90}]
[null,null,"Team High Series",null,{"$f":"'Prize Fund'!G44+'Prize Fund'!H44","v":90}]
[null,null,"Team Place Awards",null,{"$f":"'Prize Fund'!C51","v":6570}]
[null,null,"Championship 1st, 2nd, 3rd, 4th Place",null,{"$f":"'Prize Fund'!H51","v":375}]
[null,null,"Total Prize Monies",null,{"$f":"SUM(E25:E32)","v":7425}]
["Ending League Balance (to be carried over to next season)",null,null,null,{"$f":"E10-E18-E33","v":1134.3100000000013}]
[]
["Submitted April 10, 2018"]
[]
[null,null,"Marty Bell"]
[null,null,"Marty Bell"]
[null,null,"League Treasurer"]

{"sheet":"Sheet4","index":28,"n_rows":11,"n_cols":2,"rows_kept":11,"cut":false,"hidden":false,"merged":[]}
[20,{"$f":"8.4*A1","v":168}]
[21,{"$f":"8.4*A2","v":176.4}]
[22,184.8]
[23,193.20000000000002]
[24,201.60000000000002]
[25,210]
[26,218.4]
[27,226.8]
[28,235.20000000000002]
[29,243.60000000000002]
[30,252]

{"sheet":"Pre-Bowl","index":29,"n_rows":47,"n_cols":9,"rows_kept":47,"cut":false,"hidden":false,"merged":[[26,8,27,8],[1,1,1,4],[1,5,1,6],[2,8,3,8],[6,8,7,8],[10,8,11,8],[13,3,13,6],[14,2,14,8],[17,1,17,4],[17,5,17,6],[18,8,19,8],[22,8,23,8],[42,8,43,8],[45,3,45,6],[46,2,46,8],[29,3,29,6],[30,2,30,8],[33,1,33,4],[33,5,33,6],[34,8,35,8],[38,8,39,8]]}
[]
[null,"Pre Bowl Request",null,null,null,"Classic League",null,null,"Desk Monitor Only"]
[]
[null,"League:"]
[null,null,null,null,null,null,null,null,"Pre Bowl Date Reserved"]
[null,"Team No.:",null,null,null,"Team Name:"]
[]
[null,"Team Contact: "]
[null,null,null,null,null,null,null,null,"Lanes Reserved"]
[null,"Contact Phone:"]
[]
[null,"Date Scheduled"]
[null,null,null,null,null,null,null,null,"Time Reserved"]
[null,"Date Requested:"]
[null,null,"League Secretary:  Marty Bell 584-9459  ezbowling@cox.net "]
[]
[]
[null,"Pre Bowl Request",null,null,null,"Classic League",null,null,"Desk Monitor Only"]
[]
[null,"League:"]
[null,null,null,null,null,null,null,null,"Pre Bowl Date Reserved"]
[null,"Team No.:",null,null,null,"Team Name:"]
[]
[null,"Team Contact: "]
[null,null,null,null,null,null,null,null,"Lanes Reserved"]
[null,"Contact Phone:"]
[]
[null,"Date Scheduled"]
[null,null,null,null,null,null,null,null,"Time Reserved"]
[null,"Date Requested:"]
[null,null,"League Secretary:  Marty Bell 584-9459  ezbowling@cox.net "]
[]
[]
[null,"Pre Bowl Request",null,null,null,"Classic League",null,null,"Desk Monitor Only"]
[]
[null,"League:"]
[null,null,null,null,null,null,null,null,"Pre Bowl Date Reserved"]
[null,"Team No.:",null,null,null,"Team Name:"]
[]
[null,"Team Contact: "]
[null,null,null,null,null,null,null,null,"Lanes Reserved"]
[null,"Contact Phone:"]
[]
[null,"Date Scheduled"]
[null,null,null,null,null,null,null,null,"Time Reserved"]
[null,"Date Requested:"]
[null,null,"League Secretary:  Marty Bell 584-9459  ezbowling@cox.net "]

{"sheet":"Bank","index":30,"n_rows":25,"n_cols":4,"rows_kept":25,"cut":false,"hidden":false,"merged":[]}
["DATE","DESCRIPTION","AMOUNT","BALANCE"]
["2017-04-14","CHECK CLEARED #1295",-120,51.31]
["2017-09-08","BRANCH DEPOSIT",5119,5170.3100000000004]
["2017-09-11","CHECK CLEARED 09/08/2017 10:26 #1298",-252,4918.3100000000004]
["2017-09-13","BRANCH DEPOSIT",631,5549.31]
["2017-09-15","CHECK CLEARED #1299",-252,5297.31]
["2017-09-20","BRANCH DEPOSIT",34,5331.31]
["2017-09-22","CHECK CLEARED #1300",-252,5079.3100000000004]
["2017-09-27","BRANCH DEPOSIT",270,5349.31]
["2017-09-28","CHECK CLEARED #1301",-432,4917.3100000000004]
["2017-09-29","CHECK CLEARED #1302",-252,4665.3100000000004]
["2017-10-04","BRANCH DEPOSIT",1233,5898.31]
["2017-10-06","CHECK CLEARED #1303",-252,5646.31]
["2017-10-11","BRANCH DEPOSIT",93,5739.31]
["2017-10-13","CHECK CLEARED #1304",-252,5487.31]
["2017-10-18","BRANCH DEPOSIT",194,5681.31]
["2017-10-20","CHECK CLEARED #1305",-252,5429.31]
["2017-10-25","BRANCH DEPOSIT",578,6007.31]
["2017-10-27","CHECK CLEARED #1306",-252,5755.31]
["2017-11-01","BRANCH DEPOSIT",357,6112.31]
["2017-11-03","CHECK CLEARED #1307",-252,5860.31]
["2017-11-08","BRANCH DEPOSIT",850,6710.31]
["2017-11-10","CHECK CLEARED #1309",-252,6458.31]
["2017-11-15","BRANCH DEPOSIT",221,6679.31]
["2017-11-17","CHECK CLEARED #1310",-252,6427.31]